BEGIN:VCALENDAR
VERSION:2.0
PRODID:-//Trinity Baptist Church in San Antonio, TX - ECPv6.5.0//NONSGML v1.0//EN
CALSCALE:GREGORIAN
METHOD:PUBLISH
X-ORIGINAL-URL:https://www.trinitybaptist.org
X-WR-CALDESC:Events for Trinity Baptist Church in San Antonio, TX
REFRESH-INTERVAL;VALUE=DURATION:PT1H
X-Robots-Tag:noindex
X-PUBLISHED-TTL:PT1H
BEGIN:VTIMEZONE
TZID:America/Chicago
BEGIN:DAYLIGHT
TZOFFSETFROM:-0600
TZOFFSETTO:-0500
TZNAME:CDT
DTSTART:20270314T080000
END:DAYLIGHT
BEGIN:STANDARD
TZOFFSETFROM:-0500
TZOFFSETTO:-0600
TZNAME:CST
DTSTART:20271107T070000
END:STANDARD
BEGIN:DAYLIGHT
TZOFFSETFROM:-0600
TZOFFSETTO:-0500
TZNAME:CDT
DTSTART:20280312T080000
END:DAYLIGHT
BEGIN:STANDARD
TZOFFSETFROM:-0500
TZOFFSETTO:-0600
TZNAME:CST
DTSTART:20281105T070000
END:STANDARD
END:VTIMEZONE
BEGIN:VEVENT
DTSTART;TZID=America/Chicago:20271212T113000
DTEND;TZID=America/Chicago:20271212T123000
DTSTAMP:20260423T192512
CREATED:20230204T162312Z
LAST-MODIFIED:20260122T221154Z
UID:10029572-1828611000-1828614600@www.trinitybaptist.org
SUMMARY:Sunday Worship at TriPoint
DESCRIPTION:  \nWorship at TriPoint \n\n11:30 am Band led worship\nChildcare is available for ages Birth-4 years.
URL:https://www.trinitybaptist.org/event/sunday-worship-at-tripoint/2027-12-12/
LOCATION:TriPoint\, 3233 N St. Mary's St.\, San Antonio\, TX\, 78212\, United States
CATEGORIES:Home Page,TriPoint Campus Page
ATTACH;FMTTYPE=image/jpeg:https://www.trinitybaptist.org/wp-content/uploads/2023/02/DSC2971-2.jpg
END:VEVENT
BEGIN:VEVENT
DTSTART;TZID=America/Chicago:20271219T113000
DTEND;TZID=America/Chicago:20271219T123000
DTSTAMP:20260423T192512
CREATED:20230204T162312Z
LAST-MODIFIED:20260122T221154Z
UID:10029573-1829215800-1829219400@www.trinitybaptist.org
SUMMARY:Sunday Worship at TriPoint
DESCRIPTION:  \nWorship at TriPoint \n\n11:30 am Band led worship\nChildcare is available for ages Birth-4 years.
URL:https://www.trinitybaptist.org/event/sunday-worship-at-tripoint/2027-12-19/
LOCATION:TriPoint\, 3233 N St. Mary's St.\, San Antonio\, TX\, 78212\, United States
CATEGORIES:Home Page,TriPoint Campus Page
ATTACH;FMTTYPE=image/jpeg:https://www.trinitybaptist.org/wp-content/uploads/2023/02/DSC2971-2.jpg
END:VEVENT
BEGIN:VEVENT
DTSTART;TZID=America/Chicago:20271226T113000
DTEND;TZID=America/Chicago:20271226T123000
DTSTAMP:20260423T192512
CREATED:20230204T162312Z
LAST-MODIFIED:20260122T221154Z
UID:10029574-1829820600-1829824200@www.trinitybaptist.org
SUMMARY:Sunday Worship at TriPoint
DESCRIPTION:  \nWorship at TriPoint \n\n11:30 am Band led worship\nChildcare is available for ages Birth-4 years.
URL:https://www.trinitybaptist.org/event/sunday-worship-at-tripoint/2027-12-26/
LOCATION:TriPoint\, 3233 N St. Mary's St.\, San Antonio\, TX\, 78212\, United States
CATEGORIES:Home Page,TriPoint Campus Page
ATTACH;FMTTYPE=image/jpeg:https://www.trinitybaptist.org/wp-content/uploads/2023/02/DSC2971-2.jpg
END:VEVENT
BEGIN:VEVENT
DTSTART;TZID=America/Chicago:20280102T113000
DTEND;TZID=America/Chicago:20280102T123000
DTSTAMP:20260423T192512
CREATED:20230204T162312Z
LAST-MODIFIED:20260122T221154Z
UID:10029575-1830425400-1830429000@www.trinitybaptist.org
SUMMARY:Sunday Worship at TriPoint
DESCRIPTION:  \nWorship at TriPoint \n\n11:30 am Band led worship\nChildcare is available for ages Birth-4 years.
URL:https://www.trinitybaptist.org/event/sunday-worship-at-tripoint/2028-01-02/
LOCATION:TriPoint\, 3233 N St. Mary's St.\, San Antonio\, TX\, 78212\, United States
CATEGORIES:Home Page,TriPoint Campus Page
ATTACH;FMTTYPE=image/jpeg:https://www.trinitybaptist.org/wp-content/uploads/2023/02/DSC2971-2.jpg
END:VEVENT
BEGIN:VEVENT
DTSTART;TZID=America/Chicago:20280109T113000
DTEND;TZID=America/Chicago:20280109T123000
DTSTAMP:20260423T192512
CREATED:20230204T162312Z
LAST-MODIFIED:20260122T221154Z
UID:10029576-1831030200-1831033800@www.trinitybaptist.org
SUMMARY:Sunday Worship at TriPoint
DESCRIPTION:  \nWorship at TriPoint \n\n11:30 am Band led worship\nChildcare is available for ages Birth-4 years.
URL:https://www.trinitybaptist.org/event/sunday-worship-at-tripoint/2028-01-09/
LOCATION:TriPoint\, 3233 N St. Mary's St.\, San Antonio\, TX\, 78212\, United States
CATEGORIES:Home Page,TriPoint Campus Page
ATTACH;FMTTYPE=image/jpeg:https://www.trinitybaptist.org/wp-content/uploads/2023/02/DSC2971-2.jpg
END:VEVENT
BEGIN:VEVENT
DTSTART;TZID=America/Chicago:20280116T113000
DTEND;TZID=America/Chicago:20280116T123000
DTSTAMP:20260423T192512
CREATED:20230204T162312Z
LAST-MODIFIED:20260122T221154Z
UID:10029577-1831635000-1831638600@www.trinitybaptist.org
SUMMARY:Sunday Worship at TriPoint
DESCRIPTION:  \nWorship at TriPoint \n\n11:30 am Band led worship\nChildcare is available for ages Birth-4 years.
URL:https://www.trinitybaptist.org/event/sunday-worship-at-tripoint/2028-01-16/
LOCATION:TriPoint\, 3233 N St. Mary's St.\, San Antonio\, TX\, 78212\, United States
CATEGORIES:Home Page,TriPoint Campus Page
ATTACH;FMTTYPE=image/jpeg:https://www.trinitybaptist.org/wp-content/uploads/2023/02/DSC2971-2.jpg
END:VEVENT
BEGIN:VEVENT
DTSTART;TZID=America/Chicago:20280123T113000
DTEND;TZID=America/Chicago:20280123T123000
DTSTAMP:20260423T192512
CREATED:20230204T162312Z
LAST-MODIFIED:20260122T221154Z
UID:10029578-1832239800-1832243400@www.trinitybaptist.org
SUMMARY:Sunday Worship at TriPoint
DESCRIPTION:  \nWorship at TriPoint \n\n11:30 am Band led worship\nChildcare is available for ages Birth-4 years.
URL:https://www.trinitybaptist.org/event/sunday-worship-at-tripoint/2028-01-23/
LOCATION:TriPoint\, 3233 N St. Mary's St.\, San Antonio\, TX\, 78212\, United States
CATEGORIES:Home Page,TriPoint Campus Page
ATTACH;FMTTYPE=image/jpeg:https://www.trinitybaptist.org/wp-content/uploads/2023/02/DSC2971-2.jpg
END:VEVENT
BEGIN:VEVENT
DTSTART;TZID=America/Chicago:20280130T113000
DTEND;TZID=America/Chicago:20280130T123000
DTSTAMP:20260423T192512
CREATED:20230204T162312Z
LAST-MODIFIED:20260122T221154Z
UID:10029579-1832844600-1832848200@www.trinitybaptist.org
SUMMARY:Sunday Worship at TriPoint
DESCRIPTION:  \nWorship at TriPoint \n\n11:30 am Band led worship\nChildcare is available for ages Birth-4 years.
URL:https://www.trinitybaptist.org/event/sunday-worship-at-tripoint/2028-01-30/
LOCATION:TriPoint\, 3233 N St. Mary's St.\, San Antonio\, TX\, 78212\, United States
CATEGORIES:Home Page,TriPoint Campus Page
ATTACH;FMTTYPE=image/jpeg:https://www.trinitybaptist.org/wp-content/uploads/2023/02/DSC2971-2.jpg
END:VEVENT
BEGIN:VEVENT
DTSTART;TZID=America/Chicago:20280206T113000
DTEND;TZID=America/Chicago:20280206T123000
DTSTAMP:20260423T192512
CREATED:20230204T162312Z
LAST-MODIFIED:20260122T221154Z
UID:10029580-1833449400-1833453000@www.trinitybaptist.org
SUMMARY:Sunday Worship at TriPoint
DESCRIPTION:  \nWorship at TriPoint \n\n11:30 am Band led worship\nChildcare is available for ages Birth-4 years.
URL:https://www.trinitybaptist.org/event/sunday-worship-at-tripoint/2028-02-06/
LOCATION:TriPoint\, 3233 N St. Mary's St.\, San Antonio\, TX\, 78212\, United States
CATEGORIES:Home Page,TriPoint Campus Page
ATTACH;FMTTYPE=image/jpeg:https://www.trinitybaptist.org/wp-content/uploads/2023/02/DSC2971-2.jpg
END:VEVENT
BEGIN:VEVENT
DTSTART;TZID=America/Chicago:20280213T113000
DTEND;TZID=America/Chicago:20280213T123000
DTSTAMP:20260423T192512
CREATED:20230204T162312Z
LAST-MODIFIED:20260122T221154Z
UID:10029581-1834054200-1834057800@www.trinitybaptist.org
SUMMARY:Sunday Worship at TriPoint
DESCRIPTION:  \nWorship at TriPoint \n\n11:30 am Band led worship\nChildcare is available for ages Birth-4 years.
URL:https://www.trinitybaptist.org/event/sunday-worship-at-tripoint/2028-02-13/
LOCATION:TriPoint\, 3233 N St. Mary's St.\, San Antonio\, TX\, 78212\, United States
CATEGORIES:Home Page,TriPoint Campus Page
ATTACH;FMTTYPE=image/jpeg:https://www.trinitybaptist.org/wp-content/uploads/2023/02/DSC2971-2.jpg
END:VEVENT
BEGIN:VEVENT
DTSTART;TZID=America/Chicago:20280220T113000
DTEND;TZID=America/Chicago:20280220T123000
DTSTAMP:20260423T192512
CREATED:20230204T162312Z
LAST-MODIFIED:20260122T221154Z
UID:10029582-1834659000-1834662600@www.trinitybaptist.org
SUMMARY:Sunday Worship at TriPoint
DESCRIPTION:  \nWorship at TriPoint \n\n11:30 am Band led worship\nChildcare is available for ages Birth-4 years.
URL:https://www.trinitybaptist.org/event/sunday-worship-at-tripoint/2028-02-20/
LOCATION:TriPoint\, 3233 N St. Mary's St.\, San Antonio\, TX\, 78212\, United States
CATEGORIES:Home Page,TriPoint Campus Page
ATTACH;FMTTYPE=image/jpeg:https://www.trinitybaptist.org/wp-content/uploads/2023/02/DSC2971-2.jpg
END:VEVENT
BEGIN:VEVENT
DTSTART;TZID=America/Chicago:20280227T113000
DTEND;TZID=America/Chicago:20280227T123000
DTSTAMP:20260423T192512
CREATED:20230204T162312Z
LAST-MODIFIED:20260122T221154Z
UID:10029583-1835263800-1835267400@www.trinitybaptist.org
SUMMARY:Sunday Worship at TriPoint
DESCRIPTION:  \nWorship at TriPoint \n\n11:30 am Band led worship\nChildcare is available for ages Birth-4 years.
URL:https://www.trinitybaptist.org/event/sunday-worship-at-tripoint/2028-02-27/
LOCATION:TriPoint\, 3233 N St. Mary's St.\, San Antonio\, TX\, 78212\, United States
CATEGORIES:Home Page,TriPoint Campus Page
ATTACH;FMTTYPE=image/jpeg:https://www.trinitybaptist.org/wp-content/uploads/2023/02/DSC2971-2.jpg
END:VEVENT
BEGIN:VEVENT
DTSTART;TZID=America/Chicago:20280305T113000
DTEND;TZID=America/Chicago:20280305T123000
DTSTAMP:20260423T192512
CREATED:20230204T162312Z
LAST-MODIFIED:20260122T221154Z
UID:10029584-1835868600-1835872200@www.trinitybaptist.org
SUMMARY:Sunday Worship at TriPoint
DESCRIPTION:  \nWorship at TriPoint \n\n11:30 am Band led worship\nChildcare is available for ages Birth-4 years.
URL:https://www.trinitybaptist.org/event/sunday-worship-at-tripoint/2028-03-05/
LOCATION:TriPoint\, 3233 N St. Mary's St.\, San Antonio\, TX\, 78212\, United States
CATEGORIES:Home Page,TriPoint Campus Page
ATTACH;FMTTYPE=image/jpeg:https://www.trinitybaptist.org/wp-content/uploads/2023/02/DSC2971-2.jpg
END:VEVENT
BEGIN:VEVENT
DTSTART;TZID=America/Chicago:20280312T113000
DTEND;TZID=America/Chicago:20280312T123000
DTSTAMP:20260423T192512
CREATED:20230204T162312Z
LAST-MODIFIED:20260122T221154Z
UID:10029585-1836473400-1836477000@www.trinitybaptist.org
SUMMARY:Sunday Worship at TriPoint
DESCRIPTION:  \nWorship at TriPoint \n\n11:30 am Band led worship\nChildcare is available for ages Birth-4 years.
URL:https://www.trinitybaptist.org/event/sunday-worship-at-tripoint/2028-03-12/
LOCATION:TriPoint\, 3233 N St. Mary's St.\, San Antonio\, TX\, 78212\, United States
CATEGORIES:Home Page,TriPoint Campus Page
ATTACH;FMTTYPE=image/jpeg:https://www.trinitybaptist.org/wp-content/uploads/2023/02/DSC2971-2.jpg
END:VEVENT
BEGIN:VEVENT
DTSTART;TZID=America/Chicago:20280319T113000
DTEND;TZID=America/Chicago:20280319T123000
DTSTAMP:20260423T192512
CREATED:20230204T162312Z
LAST-MODIFIED:20260122T221154Z
UID:10029586-1837078200-1837081800@www.trinitybaptist.org
SUMMARY:Sunday Worship at TriPoint
DESCRIPTION:  \nWorship at TriPoint \n\n11:30 am Band led worship\nChildcare is available for ages Birth-4 years.
URL:https://www.trinitybaptist.org/event/sunday-worship-at-tripoint/2028-03-19/
LOCATION:TriPoint\, 3233 N St. Mary's St.\, San Antonio\, TX\, 78212\, United States
CATEGORIES:Home Page,TriPoint Campus Page
ATTACH;FMTTYPE=image/jpeg:https://www.trinitybaptist.org/wp-content/uploads/2023/02/DSC2971-2.jpg
END:VEVENT
BEGIN:VEVENT
DTSTART;TZID=America/Chicago:20280326T113000
DTEND;TZID=America/Chicago:20280326T123000
DTSTAMP:20260423T192512
CREATED:20230204T162312Z
LAST-MODIFIED:20260122T221154Z
UID:10029587-1837683000-1837686600@www.trinitybaptist.org
SUMMARY:Sunday Worship at TriPoint
DESCRIPTION:  \nWorship at TriPoint \n\n11:30 am Band led worship\nChildcare is available for ages Birth-4 years.
URL:https://www.trinitybaptist.org/event/sunday-worship-at-tripoint/2028-03-26/
LOCATION:TriPoint\, 3233 N St. Mary's St.\, San Antonio\, TX\, 78212\, United States
CATEGORIES:Home Page,TriPoint Campus Page
ATTACH;FMTTYPE=image/jpeg:https://www.trinitybaptist.org/wp-content/uploads/2023/02/DSC2971-2.jpg
END:VEVENT
BEGIN:VEVENT
DTSTART;TZID=America/Chicago:20280402T113000
DTEND;TZID=America/Chicago:20280402T123000
DTSTAMP:20260423T192512
CREATED:20230204T162312Z
LAST-MODIFIED:20260122T221154Z
UID:10029588-1838287800-1838291400@www.trinitybaptist.org
SUMMARY:Sunday Worship at TriPoint
DESCRIPTION:  \nWorship at TriPoint \n\n11:30 am Band led worship\nChildcare is available for ages Birth-4 years.
URL:https://www.trinitybaptist.org/event/sunday-worship-at-tripoint/2028-04-02/
LOCATION:TriPoint\, 3233 N St. Mary's St.\, San Antonio\, TX\, 78212\, United States
CATEGORIES:Home Page,TriPoint Campus Page
ATTACH;FMTTYPE=image/jpeg:https://www.trinitybaptist.org/wp-content/uploads/2023/02/DSC2971-2.jpg
END:VEVENT
BEGIN:VEVENT
DTSTART;TZID=America/Chicago:20280409T113000
DTEND;TZID=America/Chicago:20280409T123000
DTSTAMP:20260423T192512
CREATED:20230204T162312Z
LAST-MODIFIED:20260122T221154Z
UID:10029589-1838892600-1838896200@www.trinitybaptist.org
SUMMARY:Sunday Worship at TriPoint
DESCRIPTION:  \nWorship at TriPoint \n\n11:30 am Band led worship\nChildcare is available for ages Birth-4 years.
URL:https://www.trinitybaptist.org/event/sunday-worship-at-tripoint/2028-04-09/
LOCATION:TriPoint\, 3233 N St. Mary's St.\, San Antonio\, TX\, 78212\, United States
CATEGORIES:Home Page,TriPoint Campus Page
ATTACH;FMTTYPE=image/jpeg:https://www.trinitybaptist.org/wp-content/uploads/2023/02/DSC2971-2.jpg
END:VEVENT
BEGIN:VEVENT
DTSTART;TZID=America/Chicago:20280416T113000
DTEND;TZID=America/Chicago:20280416T123000
DTSTAMP:20260423T192512
CREATED:20230204T162312Z
LAST-MODIFIED:20260122T221154Z
UID:10029590-1839497400-1839501000@www.trinitybaptist.org
SUMMARY:Sunday Worship at TriPoint
DESCRIPTION:  \nWorship at TriPoint \n\n11:30 am Band led worship\nChildcare is available for ages Birth-4 years.
URL:https://www.trinitybaptist.org/event/sunday-worship-at-tripoint/2028-04-16/
LOCATION:TriPoint\, 3233 N St. Mary's St.\, San Antonio\, TX\, 78212\, United States
CATEGORIES:Home Page,TriPoint Campus Page
ATTACH;FMTTYPE=image/jpeg:https://www.trinitybaptist.org/wp-content/uploads/2023/02/DSC2971-2.jpg
END:VEVENT
BEGIN:VEVENT
DTSTART;TZID=America/Chicago:20280423T113000
DTEND;TZID=America/Chicago:20280423T123000
DTSTAMP:20260423T192512
CREATED:20230204T162312Z
LAST-MODIFIED:20260122T221154Z
UID:10029591-1840102200-1840105800@www.trinitybaptist.org
SUMMARY:Sunday Worship at TriPoint
DESCRIPTION:  \nWorship at TriPoint \n\n11:30 am Band led worship\nChildcare is available for ages Birth-4 years.
URL:https://www.trinitybaptist.org/event/sunday-worship-at-tripoint/2028-04-23/
LOCATION:TriPoint\, 3233 N St. Mary's St.\, San Antonio\, TX\, 78212\, United States
CATEGORIES:Home Page,TriPoint Campus Page
ATTACH;FMTTYPE=image/jpeg:https://www.trinitybaptist.org/wp-content/uploads/2023/02/DSC2971-2.jpg
END:VEVENT
BEGIN:VEVENT
DTSTART;TZID=America/Chicago:20280430T113000
DTEND;TZID=America/Chicago:20280430T123000
DTSTAMP:20260423T192512
CREATED:20230204T162312Z
LAST-MODIFIED:20260122T221154Z
UID:10029592-1840707000-1840710600@www.trinitybaptist.org
SUMMARY:Sunday Worship at TriPoint
DESCRIPTION:  \nWorship at TriPoint \n\n11:30 am Band led worship\nChildcare is available for ages Birth-4 years.
URL:https://www.trinitybaptist.org/event/sunday-worship-at-tripoint/2028-04-30/
LOCATION:TriPoint\, 3233 N St. Mary's St.\, San Antonio\, TX\, 78212\, United States
CATEGORIES:Home Page,TriPoint Campus Page
ATTACH;FMTTYPE=image/jpeg:https://www.trinitybaptist.org/wp-content/uploads/2023/02/DSC2971-2.jpg
END:VEVENT
BEGIN:VEVENT
DTSTART;TZID=America/Chicago:20280507T113000
DTEND;TZID=America/Chicago:20280507T123000
DTSTAMP:20260423T192512
CREATED:20230204T162312Z
LAST-MODIFIED:20260122T221154Z
UID:10029593-1841311800-1841315400@www.trinitybaptist.org
SUMMARY:Sunday Worship at TriPoint
DESCRIPTION:  \nWorship at TriPoint \n\n11:30 am Band led worship\nChildcare is available for ages Birth-4 years.
URL:https://www.trinitybaptist.org/event/sunday-worship-at-tripoint/2028-05-07/
LOCATION:TriPoint\, 3233 N St. Mary's St.\, San Antonio\, TX\, 78212\, United States
CATEGORIES:Home Page,TriPoint Campus Page
ATTACH;FMTTYPE=image/jpeg:https://www.trinitybaptist.org/wp-content/uploads/2023/02/DSC2971-2.jpg
END:VEVENT
BEGIN:VEVENT
DTSTART;TZID=America/Chicago:20280514T113000
DTEND;TZID=America/Chicago:20280514T123000
DTSTAMP:20260423T192512
CREATED:20230204T162312Z
LAST-MODIFIED:20260122T221154Z
UID:10029594-1841916600-1841920200@www.trinitybaptist.org
SUMMARY:Sunday Worship at TriPoint
DESCRIPTION:  \nWorship at TriPoint \n\n11:30 am Band led worship\nChildcare is available for ages Birth-4 years.
URL:https://www.trinitybaptist.org/event/sunday-worship-at-tripoint/2028-05-14/
LOCATION:TriPoint\, 3233 N St. Mary's St.\, San Antonio\, TX\, 78212\, United States
CATEGORIES:Home Page,TriPoint Campus Page
ATTACH;FMTTYPE=image/jpeg:https://www.trinitybaptist.org/wp-content/uploads/2023/02/DSC2971-2.jpg
END:VEVENT
BEGIN:VEVENT
DTSTART;TZID=America/Chicago:20280521T113000
DTEND;TZID=America/Chicago:20280521T123000
DTSTAMP:20260423T192512
CREATED:20230204T162312Z
LAST-MODIFIED:20260122T221154Z
UID:10029595-1842521400-1842525000@www.trinitybaptist.org
SUMMARY:Sunday Worship at TriPoint
DESCRIPTION:  \nWorship at TriPoint \n\n11:30 am Band led worship\nChildcare is available for ages Birth-4 years.
URL:https://www.trinitybaptist.org/event/sunday-worship-at-tripoint/2028-05-21/
LOCATION:TriPoint\, 3233 N St. Mary's St.\, San Antonio\, TX\, 78212\, United States
CATEGORIES:Home Page,TriPoint Campus Page
ATTACH;FMTTYPE=image/jpeg:https://www.trinitybaptist.org/wp-content/uploads/2023/02/DSC2971-2.jpg
END:VEVENT
BEGIN:VEVENT
DTSTART;TZID=America/Chicago:20280528T113000
DTEND;TZID=America/Chicago:20280528T123000
DTSTAMP:20260423T192512
CREATED:20230204T162312Z
LAST-MODIFIED:20260122T221154Z
UID:10029596-1843126200-1843129800@www.trinitybaptist.org
SUMMARY:Sunday Worship at TriPoint
DESCRIPTION:  \nWorship at TriPoint \n\n11:30 am Band led worship\nChildcare is available for ages Birth-4 years.
URL:https://www.trinitybaptist.org/event/sunday-worship-at-tripoint/2028-05-28/
LOCATION:TriPoint\, 3233 N St. Mary's St.\, San Antonio\, TX\, 78212\, United States
CATEGORIES:Home Page,TriPoint Campus Page
ATTACH;FMTTYPE=image/jpeg:https://www.trinitybaptist.org/wp-content/uploads/2023/02/DSC2971-2.jpg
END:VEVENT
BEGIN:VEVENT
DTSTART;TZID=America/Chicago:20280604T113000
DTEND;TZID=America/Chicago:20280604T123000
DTSTAMP:20260423T192512
CREATED:20230204T162312Z
LAST-MODIFIED:20260122T221154Z
UID:10029597-1843731000-1843734600@www.trinitybaptist.org
SUMMARY:Sunday Worship at TriPoint
DESCRIPTION:  \nWorship at TriPoint \n\n11:30 am Band led worship\nChildcare is available for ages Birth-4 years.
URL:https://www.trinitybaptist.org/event/sunday-worship-at-tripoint/2028-06-04/
LOCATION:TriPoint\, 3233 N St. Mary's St.\, San Antonio\, TX\, 78212\, United States
CATEGORIES:Home Page,TriPoint Campus Page
ATTACH;FMTTYPE=image/jpeg:https://www.trinitybaptist.org/wp-content/uploads/2023/02/DSC2971-2.jpg
END:VEVENT
BEGIN:VEVENT
DTSTART;TZID=America/Chicago:20280611T113000
DTEND;TZID=America/Chicago:20280611T123000
DTSTAMP:20260423T192512
CREATED:20230204T162312Z
LAST-MODIFIED:20260122T221154Z
UID:10029598-1844335800-1844339400@www.trinitybaptist.org
SUMMARY:Sunday Worship at TriPoint
DESCRIPTION:  \nWorship at TriPoint \n\n11:30 am Band led worship\nChildcare is available for ages Birth-4 years.
URL:https://www.trinitybaptist.org/event/sunday-worship-at-tripoint/2028-06-11/
LOCATION:TriPoint\, 3233 N St. Mary's St.\, San Antonio\, TX\, 78212\, United States
CATEGORIES:Home Page,TriPoint Campus Page
ATTACH;FMTTYPE=image/jpeg:https://www.trinitybaptist.org/wp-content/uploads/2023/02/DSC2971-2.jpg
END:VEVENT
BEGIN:VEVENT
DTSTART;TZID=America/Chicago:20280618T113000
DTEND;TZID=America/Chicago:20280618T123000
DTSTAMP:20260423T192512
CREATED:20230204T162312Z
LAST-MODIFIED:20260122T221154Z
UID:10029599-1844940600-1844944200@www.trinitybaptist.org
SUMMARY:Sunday Worship at TriPoint
DESCRIPTION:  \nWorship at TriPoint \n\n11:30 am Band led worship\nChildcare is available for ages Birth-4 years.
URL:https://www.trinitybaptist.org/event/sunday-worship-at-tripoint/2028-06-18/
LOCATION:TriPoint\, 3233 N St. Mary's St.\, San Antonio\, TX\, 78212\, United States
CATEGORIES:Home Page,TriPoint Campus Page
ATTACH;FMTTYPE=image/jpeg:https://www.trinitybaptist.org/wp-content/uploads/2023/02/DSC2971-2.jpg
END:VEVENT
BEGIN:VEVENT
DTSTART;TZID=America/Chicago:20280625T113000
DTEND;TZID=America/Chicago:20280625T123000
DTSTAMP:20260423T192512
CREATED:20230204T162312Z
LAST-MODIFIED:20260122T221154Z
UID:10029600-1845545400-1845549000@www.trinitybaptist.org
SUMMARY:Sunday Worship at TriPoint
DESCRIPTION:  \nWorship at TriPoint \n\n11:30 am Band led worship\nChildcare is available for ages Birth-4 years.
URL:https://www.trinitybaptist.org/event/sunday-worship-at-tripoint/2028-06-25/
LOCATION:TriPoint\, 3233 N St. Mary's St.\, San Antonio\, TX\, 78212\, United States
CATEGORIES:Home Page,TriPoint Campus Page
ATTACH;FMTTYPE=image/jpeg:https://www.trinitybaptist.org/wp-content/uploads/2023/02/DSC2971-2.jpg
END:VEVENT
BEGIN:VEVENT
DTSTART;TZID=America/Chicago:20280702T113000
DTEND;TZID=America/Chicago:20280702T123000
DTSTAMP:20260423T192512
CREATED:20230204T162312Z
LAST-MODIFIED:20260122T221154Z
UID:10029601-1846150200-1846153800@www.trinitybaptist.org
SUMMARY:Sunday Worship at TriPoint
DESCRIPTION:  \nWorship at TriPoint \n\n11:30 am Band led worship\nChildcare is available for ages Birth-4 years.
URL:https://www.trinitybaptist.org/event/sunday-worship-at-tripoint/2028-07-02/
LOCATION:TriPoint\, 3233 N St. Mary's St.\, San Antonio\, TX\, 78212\, United States
CATEGORIES:Home Page,TriPoint Campus Page
ATTACH;FMTTYPE=image/jpeg:https://www.trinitybaptist.org/wp-content/uploads/2023/02/DSC2971-2.jpg
END:VEVENT
END:VCALENDAR