BEGIN:VCALENDAR
VERSION:2.0
PRODID:-//Trinity Baptist Church in San Antonio, TX - ECPv6.5.0//NONSGML v1.0//EN
CALSCALE:GREGORIAN
METHOD:PUBLISH
X-ORIGINAL-URL:https://www.trinitybaptist.org
X-WR-CALDESC:Events for Trinity Baptist Church in San Antonio, TX
REFRESH-INTERVAL;VALUE=DURATION:PT1H
X-Robots-Tag:noindex
X-PUBLISHED-TTL:PT1H
BEGIN:VTIMEZONE
TZID:America/Chicago
BEGIN:DAYLIGHT
TZOFFSETFROM:-0600
TZOFFSETTO:-0500
TZNAME:CDT
DTSTART:20270314T080000
END:DAYLIGHT
BEGIN:STANDARD
TZOFFSETFROM:-0500
TZOFFSETTO:-0600
TZNAME:CST
DTSTART:20271107T070000
END:STANDARD
BEGIN:DAYLIGHT
TZOFFSETFROM:-0600
TZOFFSETTO:-0500
TZNAME:CDT
DTSTART:20280312T080000
END:DAYLIGHT
BEGIN:STANDARD
TZOFFSETFROM:-0500
TZOFFSETTO:-0600
TZNAME:CST
DTSTART:20281105T070000
END:STANDARD
END:VTIMEZONE
BEGIN:VEVENT
DTSTART;TZID=America/Chicago:20270912T090000
DTEND;TZID=America/Chicago:20270912T100000
DTSTAMP:20260422T044224
CREATED:20230204T162149Z
LAST-MODIFIED:20260122T221124Z
UID:10000243-1820739600-1820743200@www.trinitybaptist.org
SUMMARY:Sunday Worship at Mulberry
DESCRIPTION:  \nWorship at Mulberry \n\n9:00 am Choir and Orchestra led worship\nChildcare provided for Birth-4 years
URL:https://www.trinitybaptist.org/event/sunday-worship-at-mulberry/2027-09-12/
LOCATION:Trinity Baptist Church\, 319 E. Mulberry\, San Antonio\, TX\, 78212\, United States
CATEGORIES:Home Page,Mulberry Campus Page
ATTACH;FMTTYPE=image/jpeg:https://www.trinitybaptist.org/wp-content/uploads/2023/02/DSC3475.jpg
GEO:29.4573879;-98.4877156
X-APPLE-STRUCTURED-LOCATION;VALUE=URI;X-ADDRESS=Trinity Baptist Church 319 E. Mulberry San Antonio TX 78212 United States;X-APPLE-RADIUS=500;X-TITLE=319 E. Mulberry:geo:-98.4877156,29.4573879
END:VEVENT
BEGIN:VEVENT
DTSTART;TZID=America/Chicago:20270919T090000
DTEND;TZID=America/Chicago:20270919T100000
DTSTAMP:20260422T044224
CREATED:20230204T162149Z
LAST-MODIFIED:20260122T221124Z
UID:10000244-1821344400-1821348000@www.trinitybaptist.org
SUMMARY:Sunday Worship at Mulberry
DESCRIPTION:  \nWorship at Mulberry \n\n9:00 am Choir and Orchestra led worship\nChildcare provided for Birth-4 years
URL:https://www.trinitybaptist.org/event/sunday-worship-at-mulberry/2027-09-19/
LOCATION:Trinity Baptist Church\, 319 E. Mulberry\, San Antonio\, TX\, 78212\, United States
CATEGORIES:Home Page,Mulberry Campus Page
ATTACH;FMTTYPE=image/jpeg:https://www.trinitybaptist.org/wp-content/uploads/2023/02/DSC3475.jpg
GEO:29.4573879;-98.4877156
X-APPLE-STRUCTURED-LOCATION;VALUE=URI;X-ADDRESS=Trinity Baptist Church 319 E. Mulberry San Antonio TX 78212 United States;X-APPLE-RADIUS=500;X-TITLE=319 E. Mulberry:geo:-98.4877156,29.4573879
END:VEVENT
BEGIN:VEVENT
DTSTART;TZID=America/Chicago:20270926T090000
DTEND;TZID=America/Chicago:20270926T100000
DTSTAMP:20260422T044224
CREATED:20230204T162149Z
LAST-MODIFIED:20260122T221124Z
UID:10000245-1821949200-1821952800@www.trinitybaptist.org
SUMMARY:Sunday Worship at Mulberry
DESCRIPTION:  \nWorship at Mulberry \n\n9:00 am Choir and Orchestra led worship\nChildcare provided for Birth-4 years
URL:https://www.trinitybaptist.org/event/sunday-worship-at-mulberry/2027-09-26/
LOCATION:Trinity Baptist Church\, 319 E. Mulberry\, San Antonio\, TX\, 78212\, United States
CATEGORIES:Home Page,Mulberry Campus Page
ATTACH;FMTTYPE=image/jpeg:https://www.trinitybaptist.org/wp-content/uploads/2023/02/DSC3475.jpg
GEO:29.4573879;-98.4877156
X-APPLE-STRUCTURED-LOCATION;VALUE=URI;X-ADDRESS=Trinity Baptist Church 319 E. Mulberry San Antonio TX 78212 United States;X-APPLE-RADIUS=500;X-TITLE=319 E. Mulberry:geo:-98.4877156,29.4573879
END:VEVENT
BEGIN:VEVENT
DTSTART;TZID=America/Chicago:20271003T090000
DTEND;TZID=America/Chicago:20271003T100000
DTSTAMP:20260422T044224
CREATED:20230204T162149Z
LAST-MODIFIED:20260122T221124Z
UID:10000246-1822554000-1822557600@www.trinitybaptist.org
SUMMARY:Sunday Worship at Mulberry
DESCRIPTION:  \nWorship at Mulberry \n\n9:00 am Choir and Orchestra led worship\nChildcare provided for Birth-4 years
URL:https://www.trinitybaptist.org/event/sunday-worship-at-mulberry/2027-10-03/
LOCATION:Trinity Baptist Church\, 319 E. Mulberry\, San Antonio\, TX\, 78212\, United States
CATEGORIES:Home Page,Mulberry Campus Page
ATTACH;FMTTYPE=image/jpeg:https://www.trinitybaptist.org/wp-content/uploads/2023/02/DSC3475.jpg
GEO:29.4573879;-98.4877156
X-APPLE-STRUCTURED-LOCATION;VALUE=URI;X-ADDRESS=Trinity Baptist Church 319 E. Mulberry San Antonio TX 78212 United States;X-APPLE-RADIUS=500;X-TITLE=319 E. Mulberry:geo:-98.4877156,29.4573879
END:VEVENT
BEGIN:VEVENT
DTSTART;TZID=America/Chicago:20271010T090000
DTEND;TZID=America/Chicago:20271010T100000
DTSTAMP:20260422T044224
CREATED:20230204T162149Z
LAST-MODIFIED:20260122T221124Z
UID:10000247-1823158800-1823162400@www.trinitybaptist.org
SUMMARY:Sunday Worship at Mulberry
DESCRIPTION:  \nWorship at Mulberry \n\n9:00 am Choir and Orchestra led worship\nChildcare provided for Birth-4 years
URL:https://www.trinitybaptist.org/event/sunday-worship-at-mulberry/2027-10-10/
LOCATION:Trinity Baptist Church\, 319 E. Mulberry\, San Antonio\, TX\, 78212\, United States
CATEGORIES:Home Page,Mulberry Campus Page
ATTACH;FMTTYPE=image/jpeg:https://www.trinitybaptist.org/wp-content/uploads/2023/02/DSC3475.jpg
GEO:29.4573879;-98.4877156
X-APPLE-STRUCTURED-LOCATION;VALUE=URI;X-ADDRESS=Trinity Baptist Church 319 E. Mulberry San Antonio TX 78212 United States;X-APPLE-RADIUS=500;X-TITLE=319 E. Mulberry:geo:-98.4877156,29.4573879
END:VEVENT
BEGIN:VEVENT
DTSTART;TZID=America/Chicago:20271017T090000
DTEND;TZID=America/Chicago:20271017T100000
DTSTAMP:20260422T044224
CREATED:20230204T162149Z
LAST-MODIFIED:20260122T221124Z
UID:10000248-1823763600-1823767200@www.trinitybaptist.org
SUMMARY:Sunday Worship at Mulberry
DESCRIPTION:  \nWorship at Mulberry \n\n9:00 am Choir and Orchestra led worship\nChildcare provided for Birth-4 years
URL:https://www.trinitybaptist.org/event/sunday-worship-at-mulberry/2027-10-17/
LOCATION:Trinity Baptist Church\, 319 E. Mulberry\, San Antonio\, TX\, 78212\, United States
CATEGORIES:Home Page,Mulberry Campus Page
ATTACH;FMTTYPE=image/jpeg:https://www.trinitybaptist.org/wp-content/uploads/2023/02/DSC3475.jpg
GEO:29.4573879;-98.4877156
X-APPLE-STRUCTURED-LOCATION;VALUE=URI;X-ADDRESS=Trinity Baptist Church 319 E. Mulberry San Antonio TX 78212 United States;X-APPLE-RADIUS=500;X-TITLE=319 E. Mulberry:geo:-98.4877156,29.4573879
END:VEVENT
BEGIN:VEVENT
DTSTART;TZID=America/Chicago:20271024T090000
DTEND;TZID=America/Chicago:20271024T100000
DTSTAMP:20260422T044224
CREATED:20230204T162149Z
LAST-MODIFIED:20260122T221124Z
UID:10000249-1824368400-1824372000@www.trinitybaptist.org
SUMMARY:Sunday Worship at Mulberry
DESCRIPTION:  \nWorship at Mulberry \n\n9:00 am Choir and Orchestra led worship\nChildcare provided for Birth-4 years
URL:https://www.trinitybaptist.org/event/sunday-worship-at-mulberry/2027-10-24/
LOCATION:Trinity Baptist Church\, 319 E. Mulberry\, San Antonio\, TX\, 78212\, United States
CATEGORIES:Home Page,Mulberry Campus Page
ATTACH;FMTTYPE=image/jpeg:https://www.trinitybaptist.org/wp-content/uploads/2023/02/DSC3475.jpg
GEO:29.4573879;-98.4877156
X-APPLE-STRUCTURED-LOCATION;VALUE=URI;X-ADDRESS=Trinity Baptist Church 319 E. Mulberry San Antonio TX 78212 United States;X-APPLE-RADIUS=500;X-TITLE=319 E. Mulberry:geo:-98.4877156,29.4573879
END:VEVENT
BEGIN:VEVENT
DTSTART;TZID=America/Chicago:20271031T090000
DTEND;TZID=America/Chicago:20271031T100000
DTSTAMP:20260422T044224
CREATED:20230204T162149Z
LAST-MODIFIED:20260122T221124Z
UID:10000250-1824973200-1824976800@www.trinitybaptist.org
SUMMARY:Sunday Worship at Mulberry
DESCRIPTION:  \nWorship at Mulberry \n\n9:00 am Choir and Orchestra led worship\nChildcare provided for Birth-4 years
URL:https://www.trinitybaptist.org/event/sunday-worship-at-mulberry/2027-10-31/
LOCATION:Trinity Baptist Church\, 319 E. Mulberry\, San Antonio\, TX\, 78212\, United States
CATEGORIES:Home Page,Mulberry Campus Page
ATTACH;FMTTYPE=image/jpeg:https://www.trinitybaptist.org/wp-content/uploads/2023/02/DSC3475.jpg
GEO:29.4573879;-98.4877156
X-APPLE-STRUCTURED-LOCATION;VALUE=URI;X-ADDRESS=Trinity Baptist Church 319 E. Mulberry San Antonio TX 78212 United States;X-APPLE-RADIUS=500;X-TITLE=319 E. Mulberry:geo:-98.4877156,29.4573879
END:VEVENT
BEGIN:VEVENT
DTSTART;TZID=America/Chicago:20271107T090000
DTEND;TZID=America/Chicago:20271107T100000
DTSTAMP:20260422T044224
CREATED:20230204T162149Z
LAST-MODIFIED:20260122T221124Z
UID:10000251-1825578000-1825581600@www.trinitybaptist.org
SUMMARY:Sunday Worship at Mulberry
DESCRIPTION:  \nWorship at Mulberry \n\n9:00 am Choir and Orchestra led worship\nChildcare provided for Birth-4 years
URL:https://www.trinitybaptist.org/event/sunday-worship-at-mulberry/2027-11-07/
LOCATION:Trinity Baptist Church\, 319 E. Mulberry\, San Antonio\, TX\, 78212\, United States
CATEGORIES:Home Page,Mulberry Campus Page
ATTACH;FMTTYPE=image/jpeg:https://www.trinitybaptist.org/wp-content/uploads/2023/02/DSC3475.jpg
GEO:29.4573879;-98.4877156
X-APPLE-STRUCTURED-LOCATION;VALUE=URI;X-ADDRESS=Trinity Baptist Church 319 E. Mulberry San Antonio TX 78212 United States;X-APPLE-RADIUS=500;X-TITLE=319 E. Mulberry:geo:-98.4877156,29.4573879
END:VEVENT
BEGIN:VEVENT
DTSTART;TZID=America/Chicago:20271114T090000
DTEND;TZID=America/Chicago:20271114T100000
DTSTAMP:20260422T044224
CREATED:20230204T162149Z
LAST-MODIFIED:20260122T221124Z
UID:10000252-1826182800-1826186400@www.trinitybaptist.org
SUMMARY:Sunday Worship at Mulberry
DESCRIPTION:  \nWorship at Mulberry \n\n9:00 am Choir and Orchestra led worship\nChildcare provided for Birth-4 years
URL:https://www.trinitybaptist.org/event/sunday-worship-at-mulberry/2027-11-14/
LOCATION:Trinity Baptist Church\, 319 E. Mulberry\, San Antonio\, TX\, 78212\, United States
CATEGORIES:Home Page,Mulberry Campus Page
ATTACH;FMTTYPE=image/jpeg:https://www.trinitybaptist.org/wp-content/uploads/2023/02/DSC3475.jpg
GEO:29.4573879;-98.4877156
X-APPLE-STRUCTURED-LOCATION;VALUE=URI;X-ADDRESS=Trinity Baptist Church 319 E. Mulberry San Antonio TX 78212 United States;X-APPLE-RADIUS=500;X-TITLE=319 E. Mulberry:geo:-98.4877156,29.4573879
END:VEVENT
BEGIN:VEVENT
DTSTART;TZID=America/Chicago:20271121T090000
DTEND;TZID=America/Chicago:20271121T100000
DTSTAMP:20260422T044224
CREATED:20230204T162149Z
LAST-MODIFIED:20260122T221124Z
UID:10000253-1826787600-1826791200@www.trinitybaptist.org
SUMMARY:Sunday Worship at Mulberry
DESCRIPTION:  \nWorship at Mulberry \n\n9:00 am Choir and Orchestra led worship\nChildcare provided for Birth-4 years
URL:https://www.trinitybaptist.org/event/sunday-worship-at-mulberry/2027-11-21/
LOCATION:Trinity Baptist Church\, 319 E. Mulberry\, San Antonio\, TX\, 78212\, United States
CATEGORIES:Home Page,Mulberry Campus Page
ATTACH;FMTTYPE=image/jpeg:https://www.trinitybaptist.org/wp-content/uploads/2023/02/DSC3475.jpg
GEO:29.4573879;-98.4877156
X-APPLE-STRUCTURED-LOCATION;VALUE=URI;X-ADDRESS=Trinity Baptist Church 319 E. Mulberry San Antonio TX 78212 United States;X-APPLE-RADIUS=500;X-TITLE=319 E. Mulberry:geo:-98.4877156,29.4573879
END:VEVENT
BEGIN:VEVENT
DTSTART;TZID=America/Chicago:20271128T090000
DTEND;TZID=America/Chicago:20271128T100000
DTSTAMP:20260422T044224
CREATED:20230204T162149Z
LAST-MODIFIED:20260122T221124Z
UID:10000254-1827392400-1827396000@www.trinitybaptist.org
SUMMARY:Sunday Worship at Mulberry
DESCRIPTION:  \nWorship at Mulberry \n\n9:00 am Choir and Orchestra led worship\nChildcare provided for Birth-4 years
URL:https://www.trinitybaptist.org/event/sunday-worship-at-mulberry/2027-11-28/
LOCATION:Trinity Baptist Church\, 319 E. Mulberry\, San Antonio\, TX\, 78212\, United States
CATEGORIES:Home Page,Mulberry Campus Page
ATTACH;FMTTYPE=image/jpeg:https://www.trinitybaptist.org/wp-content/uploads/2023/02/DSC3475.jpg
GEO:29.4573879;-98.4877156
X-APPLE-STRUCTURED-LOCATION;VALUE=URI;X-ADDRESS=Trinity Baptist Church 319 E. Mulberry San Antonio TX 78212 United States;X-APPLE-RADIUS=500;X-TITLE=319 E. Mulberry:geo:-98.4877156,29.4573879
END:VEVENT
BEGIN:VEVENT
DTSTART;TZID=America/Chicago:20271205T090000
DTEND;TZID=America/Chicago:20271205T100000
DTSTAMP:20260422T044224
CREATED:20230204T162149Z
LAST-MODIFIED:20260122T221124Z
UID:10000255-1827997200-1828000800@www.trinitybaptist.org
SUMMARY:Sunday Worship at Mulberry
DESCRIPTION:  \nWorship at Mulberry \n\n9:00 am Choir and Orchestra led worship\nChildcare provided for Birth-4 years
URL:https://www.trinitybaptist.org/event/sunday-worship-at-mulberry/2027-12-05/
LOCATION:Trinity Baptist Church\, 319 E. Mulberry\, San Antonio\, TX\, 78212\, United States
CATEGORIES:Home Page,Mulberry Campus Page
ATTACH;FMTTYPE=image/jpeg:https://www.trinitybaptist.org/wp-content/uploads/2023/02/DSC3475.jpg
GEO:29.4573879;-98.4877156
X-APPLE-STRUCTURED-LOCATION;VALUE=URI;X-ADDRESS=Trinity Baptist Church 319 E. Mulberry San Antonio TX 78212 United States;X-APPLE-RADIUS=500;X-TITLE=319 E. Mulberry:geo:-98.4877156,29.4573879
END:VEVENT
BEGIN:VEVENT
DTSTART;TZID=America/Chicago:20271212T090000
DTEND;TZID=America/Chicago:20271212T100000
DTSTAMP:20260422T044224
CREATED:20230204T162149Z
LAST-MODIFIED:20260122T221124Z
UID:10000256-1828602000-1828605600@www.trinitybaptist.org
SUMMARY:Sunday Worship at Mulberry
DESCRIPTION:  \nWorship at Mulberry \n\n9:00 am Choir and Orchestra led worship\nChildcare provided for Birth-4 years
URL:https://www.trinitybaptist.org/event/sunday-worship-at-mulberry/2027-12-12/
LOCATION:Trinity Baptist Church\, 319 E. Mulberry\, San Antonio\, TX\, 78212\, United States
CATEGORIES:Home Page,Mulberry Campus Page
ATTACH;FMTTYPE=image/jpeg:https://www.trinitybaptist.org/wp-content/uploads/2023/02/DSC3475.jpg
GEO:29.4573879;-98.4877156
X-APPLE-STRUCTURED-LOCATION;VALUE=URI;X-ADDRESS=Trinity Baptist Church 319 E. Mulberry San Antonio TX 78212 United States;X-APPLE-RADIUS=500;X-TITLE=319 E. Mulberry:geo:-98.4877156,29.4573879
END:VEVENT
BEGIN:VEVENT
DTSTART;TZID=America/Chicago:20271219T090000
DTEND;TZID=America/Chicago:20271219T100000
DTSTAMP:20260422T044224
CREATED:20230204T162149Z
LAST-MODIFIED:20260122T221124Z
UID:10000257-1829206800-1829210400@www.trinitybaptist.org
SUMMARY:Sunday Worship at Mulberry
DESCRIPTION:  \nWorship at Mulberry \n\n9:00 am Choir and Orchestra led worship\nChildcare provided for Birth-4 years
URL:https://www.trinitybaptist.org/event/sunday-worship-at-mulberry/2027-12-19/
LOCATION:Trinity Baptist Church\, 319 E. Mulberry\, San Antonio\, TX\, 78212\, United States
CATEGORIES:Home Page,Mulberry Campus Page
ATTACH;FMTTYPE=image/jpeg:https://www.trinitybaptist.org/wp-content/uploads/2023/02/DSC3475.jpg
GEO:29.4573879;-98.4877156
X-APPLE-STRUCTURED-LOCATION;VALUE=URI;X-ADDRESS=Trinity Baptist Church 319 E. Mulberry San Antonio TX 78212 United States;X-APPLE-RADIUS=500;X-TITLE=319 E. Mulberry:geo:-98.4877156,29.4573879
END:VEVENT
BEGIN:VEVENT
DTSTART;TZID=America/Chicago:20271226T090000
DTEND;TZID=America/Chicago:20271226T100000
DTSTAMP:20260422T044224
CREATED:20230204T162149Z
LAST-MODIFIED:20260122T221124Z
UID:10000258-1829811600-1829815200@www.trinitybaptist.org
SUMMARY:Sunday Worship at Mulberry
DESCRIPTION:  \nWorship at Mulberry \n\n9:00 am Choir and Orchestra led worship\nChildcare provided for Birth-4 years
URL:https://www.trinitybaptist.org/event/sunday-worship-at-mulberry/2027-12-26/
LOCATION:Trinity Baptist Church\, 319 E. Mulberry\, San Antonio\, TX\, 78212\, United States
CATEGORIES:Home Page,Mulberry Campus Page
ATTACH;FMTTYPE=image/jpeg:https://www.trinitybaptist.org/wp-content/uploads/2023/02/DSC3475.jpg
GEO:29.4573879;-98.4877156
X-APPLE-STRUCTURED-LOCATION;VALUE=URI;X-ADDRESS=Trinity Baptist Church 319 E. Mulberry San Antonio TX 78212 United States;X-APPLE-RADIUS=500;X-TITLE=319 E. Mulberry:geo:-98.4877156,29.4573879
END:VEVENT
BEGIN:VEVENT
DTSTART;TZID=America/Chicago:20280102T090000
DTEND;TZID=America/Chicago:20280102T100000
DTSTAMP:20260422T044224
CREATED:20230204T162149Z
LAST-MODIFIED:20260122T221124Z
UID:10000259-1830416400-1830420000@www.trinitybaptist.org
SUMMARY:Sunday Worship at Mulberry
DESCRIPTION:  \nWorship at Mulberry \n\n9:00 am Choir and Orchestra led worship\nChildcare provided for Birth-4 years
URL:https://www.trinitybaptist.org/event/sunday-worship-at-mulberry/2028-01-02/
LOCATION:Trinity Baptist Church\, 319 E. Mulberry\, San Antonio\, TX\, 78212\, United States
CATEGORIES:Home Page,Mulberry Campus Page
ATTACH;FMTTYPE=image/jpeg:https://www.trinitybaptist.org/wp-content/uploads/2023/02/DSC3475.jpg
GEO:29.4573879;-98.4877156
X-APPLE-STRUCTURED-LOCATION;VALUE=URI;X-ADDRESS=Trinity Baptist Church 319 E. Mulberry San Antonio TX 78212 United States;X-APPLE-RADIUS=500;X-TITLE=319 E. Mulberry:geo:-98.4877156,29.4573879
END:VEVENT
BEGIN:VEVENT
DTSTART;TZID=America/Chicago:20280109T090000
DTEND;TZID=America/Chicago:20280109T100000
DTSTAMP:20260422T044224
CREATED:20230204T162149Z
LAST-MODIFIED:20260122T221124Z
UID:10000260-1831021200-1831024800@www.trinitybaptist.org
SUMMARY:Sunday Worship at Mulberry
DESCRIPTION:  \nWorship at Mulberry \n\n9:00 am Choir and Orchestra led worship\nChildcare provided for Birth-4 years
URL:https://www.trinitybaptist.org/event/sunday-worship-at-mulberry/2028-01-09/
LOCATION:Trinity Baptist Church\, 319 E. Mulberry\, San Antonio\, TX\, 78212\, United States
CATEGORIES:Home Page,Mulberry Campus Page
ATTACH;FMTTYPE=image/jpeg:https://www.trinitybaptist.org/wp-content/uploads/2023/02/DSC3475.jpg
GEO:29.4573879;-98.4877156
X-APPLE-STRUCTURED-LOCATION;VALUE=URI;X-ADDRESS=Trinity Baptist Church 319 E. Mulberry San Antonio TX 78212 United States;X-APPLE-RADIUS=500;X-TITLE=319 E. Mulberry:geo:-98.4877156,29.4573879
END:VEVENT
BEGIN:VEVENT
DTSTART;TZID=America/Chicago:20280116T090000
DTEND;TZID=America/Chicago:20280116T100000
DTSTAMP:20260422T044224
CREATED:20230204T162149Z
LAST-MODIFIED:20260122T221124Z
UID:10000261-1831626000-1831629600@www.trinitybaptist.org
SUMMARY:Sunday Worship at Mulberry
DESCRIPTION:  \nWorship at Mulberry \n\n9:00 am Choir and Orchestra led worship\nChildcare provided for Birth-4 years
URL:https://www.trinitybaptist.org/event/sunday-worship-at-mulberry/2028-01-16/
LOCATION:Trinity Baptist Church\, 319 E. Mulberry\, San Antonio\, TX\, 78212\, United States
CATEGORIES:Home Page,Mulberry Campus Page
ATTACH;FMTTYPE=image/jpeg:https://www.trinitybaptist.org/wp-content/uploads/2023/02/DSC3475.jpg
GEO:29.4573879;-98.4877156
X-APPLE-STRUCTURED-LOCATION;VALUE=URI;X-ADDRESS=Trinity Baptist Church 319 E. Mulberry San Antonio TX 78212 United States;X-APPLE-RADIUS=500;X-TITLE=319 E. Mulberry:geo:-98.4877156,29.4573879
END:VEVENT
BEGIN:VEVENT
DTSTART;TZID=America/Chicago:20280123T090000
DTEND;TZID=America/Chicago:20280123T100000
DTSTAMP:20260422T044224
CREATED:20230204T162149Z
LAST-MODIFIED:20260122T221124Z
UID:10000262-1832230800-1832234400@www.trinitybaptist.org
SUMMARY:Sunday Worship at Mulberry
DESCRIPTION:  \nWorship at Mulberry \n\n9:00 am Choir and Orchestra led worship\nChildcare provided for Birth-4 years
URL:https://www.trinitybaptist.org/event/sunday-worship-at-mulberry/2028-01-23/
LOCATION:Trinity Baptist Church\, 319 E. Mulberry\, San Antonio\, TX\, 78212\, United States
CATEGORIES:Home Page,Mulberry Campus Page
ATTACH;FMTTYPE=image/jpeg:https://www.trinitybaptist.org/wp-content/uploads/2023/02/DSC3475.jpg
GEO:29.4573879;-98.4877156
X-APPLE-STRUCTURED-LOCATION;VALUE=URI;X-ADDRESS=Trinity Baptist Church 319 E. Mulberry San Antonio TX 78212 United States;X-APPLE-RADIUS=500;X-TITLE=319 E. Mulberry:geo:-98.4877156,29.4573879
END:VEVENT
BEGIN:VEVENT
DTSTART;TZID=America/Chicago:20280130T090000
DTEND;TZID=America/Chicago:20280130T100000
DTSTAMP:20260422T044224
CREATED:20230204T162149Z
LAST-MODIFIED:20260122T221124Z
UID:10000263-1832835600-1832839200@www.trinitybaptist.org
SUMMARY:Sunday Worship at Mulberry
DESCRIPTION:  \nWorship at Mulberry \n\n9:00 am Choir and Orchestra led worship\nChildcare provided for Birth-4 years
URL:https://www.trinitybaptist.org/event/sunday-worship-at-mulberry/2028-01-30/
LOCATION:Trinity Baptist Church\, 319 E. Mulberry\, San Antonio\, TX\, 78212\, United States
CATEGORIES:Home Page,Mulberry Campus Page
ATTACH;FMTTYPE=image/jpeg:https://www.trinitybaptist.org/wp-content/uploads/2023/02/DSC3475.jpg
GEO:29.4573879;-98.4877156
X-APPLE-STRUCTURED-LOCATION;VALUE=URI;X-ADDRESS=Trinity Baptist Church 319 E. Mulberry San Antonio TX 78212 United States;X-APPLE-RADIUS=500;X-TITLE=319 E. Mulberry:geo:-98.4877156,29.4573879
END:VEVENT
BEGIN:VEVENT
DTSTART;TZID=America/Chicago:20280206T090000
DTEND;TZID=America/Chicago:20280206T100000
DTSTAMP:20260422T044224
CREATED:20230204T162149Z
LAST-MODIFIED:20260122T221124Z
UID:10000554-1833440400-1833444000@www.trinitybaptist.org
SUMMARY:Sunday Worship at Mulberry
DESCRIPTION:  \nWorship at Mulberry \n\n9:00 am Choir and Orchestra led worship\nChildcare provided for Birth-4 years
URL:https://www.trinitybaptist.org/event/sunday-worship-at-mulberry/2028-02-06/
LOCATION:Trinity Baptist Church\, 319 E. Mulberry\, San Antonio\, TX\, 78212\, United States
CATEGORIES:Home Page,Mulberry Campus Page
ATTACH;FMTTYPE=image/jpeg:https://www.trinitybaptist.org/wp-content/uploads/2023/02/DSC3475.jpg
GEO:29.4573879;-98.4877156
X-APPLE-STRUCTURED-LOCATION;VALUE=URI;X-ADDRESS=Trinity Baptist Church 319 E. Mulberry San Antonio TX 78212 United States;X-APPLE-RADIUS=500;X-TITLE=319 E. Mulberry:geo:-98.4877156,29.4573879
END:VEVENT
BEGIN:VEVENT
DTSTART;TZID=America/Chicago:20280213T090000
DTEND;TZID=America/Chicago:20280213T100000
DTSTAMP:20260422T044224
CREATED:20230204T162149Z
LAST-MODIFIED:20260122T221124Z
UID:10011086-1834045200-1834048800@www.trinitybaptist.org
SUMMARY:Sunday Worship at Mulberry
DESCRIPTION:  \nWorship at Mulberry \n\n9:00 am Choir and Orchestra led worship\nChildcare provided for Birth-4 years
URL:https://www.trinitybaptist.org/event/sunday-worship-at-mulberry/2028-02-13/
LOCATION:Trinity Baptist Church\, 319 E. Mulberry\, San Antonio\, TX\, 78212\, United States
CATEGORIES:Home Page,Mulberry Campus Page
ATTACH;FMTTYPE=image/jpeg:https://www.trinitybaptist.org/wp-content/uploads/2023/02/DSC3475.jpg
GEO:29.4573879;-98.4877156
X-APPLE-STRUCTURED-LOCATION;VALUE=URI;X-ADDRESS=Trinity Baptist Church 319 E. Mulberry San Antonio TX 78212 United States;X-APPLE-RADIUS=500;X-TITLE=319 E. Mulberry:geo:-98.4877156,29.4573879
END:VEVENT
BEGIN:VEVENT
DTSTART;TZID=America/Chicago:20280220T090000
DTEND;TZID=America/Chicago:20280220T100000
DTSTAMP:20260422T044224
CREATED:20230204T162149Z
LAST-MODIFIED:20260122T221124Z
UID:10011459-1834650000-1834653600@www.trinitybaptist.org
SUMMARY:Sunday Worship at Mulberry
DESCRIPTION:  \nWorship at Mulberry \n\n9:00 am Choir and Orchestra led worship\nChildcare provided for Birth-4 years
URL:https://www.trinitybaptist.org/event/sunday-worship-at-mulberry/2028-02-20/
LOCATION:Trinity Baptist Church\, 319 E. Mulberry\, San Antonio\, TX\, 78212\, United States
CATEGORIES:Home Page,Mulberry Campus Page
ATTACH;FMTTYPE=image/jpeg:https://www.trinitybaptist.org/wp-content/uploads/2023/02/DSC3475.jpg
GEO:29.4573879;-98.4877156
X-APPLE-STRUCTURED-LOCATION;VALUE=URI;X-ADDRESS=Trinity Baptist Church 319 E. Mulberry San Antonio TX 78212 United States;X-APPLE-RADIUS=500;X-TITLE=319 E. Mulberry:geo:-98.4877156,29.4573879
END:VEVENT
BEGIN:VEVENT
DTSTART;TZID=America/Chicago:20280227T090000
DTEND;TZID=America/Chicago:20280227T100000
DTSTAMP:20260422T044224
CREATED:20230204T162149Z
LAST-MODIFIED:20260122T221124Z
UID:10011460-1835254800-1835258400@www.trinitybaptist.org
SUMMARY:Sunday Worship at Mulberry
DESCRIPTION:  \nWorship at Mulberry \n\n9:00 am Choir and Orchestra led worship\nChildcare provided for Birth-4 years
URL:https://www.trinitybaptist.org/event/sunday-worship-at-mulberry/2028-02-27/
LOCATION:Trinity Baptist Church\, 319 E. Mulberry\, San Antonio\, TX\, 78212\, United States
CATEGORIES:Home Page,Mulberry Campus Page
ATTACH;FMTTYPE=image/jpeg:https://www.trinitybaptist.org/wp-content/uploads/2023/02/DSC3475.jpg
GEO:29.4573879;-98.4877156
X-APPLE-STRUCTURED-LOCATION;VALUE=URI;X-ADDRESS=Trinity Baptist Church 319 E. Mulberry San Antonio TX 78212 United States;X-APPLE-RADIUS=500;X-TITLE=319 E. Mulberry:geo:-98.4877156,29.4573879
END:VEVENT
BEGIN:VEVENT
DTSTART;TZID=America/Chicago:20280305T090000
DTEND;TZID=America/Chicago:20280305T100000
DTSTAMP:20260422T044224
CREATED:20230204T162149Z
LAST-MODIFIED:20260122T221124Z
UID:10011461-1835859600-1835863200@www.trinitybaptist.org
SUMMARY:Sunday Worship at Mulberry
DESCRIPTION:  \nWorship at Mulberry \n\n9:00 am Choir and Orchestra led worship\nChildcare provided for Birth-4 years
URL:https://www.trinitybaptist.org/event/sunday-worship-at-mulberry/2028-03-05/
LOCATION:Trinity Baptist Church\, 319 E. Mulberry\, San Antonio\, TX\, 78212\, United States
CATEGORIES:Home Page,Mulberry Campus Page
ATTACH;FMTTYPE=image/jpeg:https://www.trinitybaptist.org/wp-content/uploads/2023/02/DSC3475.jpg
GEO:29.4573879;-98.4877156
X-APPLE-STRUCTURED-LOCATION;VALUE=URI;X-ADDRESS=Trinity Baptist Church 319 E. Mulberry San Antonio TX 78212 United States;X-APPLE-RADIUS=500;X-TITLE=319 E. Mulberry:geo:-98.4877156,29.4573879
END:VEVENT
BEGIN:VEVENT
DTSTART;TZID=America/Chicago:20280312T090000
DTEND;TZID=America/Chicago:20280312T100000
DTSTAMP:20260422T044224
CREATED:20230204T162149Z
LAST-MODIFIED:20260122T221124Z
UID:10014324-1836464400-1836468000@www.trinitybaptist.org
SUMMARY:Sunday Worship at Mulberry
DESCRIPTION:  \nWorship at Mulberry \n\n9:00 am Choir and Orchestra led worship\nChildcare provided for Birth-4 years
URL:https://www.trinitybaptist.org/event/sunday-worship-at-mulberry/2028-03-12/
LOCATION:Trinity Baptist Church\, 319 E. Mulberry\, San Antonio\, TX\, 78212\, United States
CATEGORIES:Home Page,Mulberry Campus Page
ATTACH;FMTTYPE=image/jpeg:https://www.trinitybaptist.org/wp-content/uploads/2023/02/DSC3475.jpg
GEO:29.4573879;-98.4877156
X-APPLE-STRUCTURED-LOCATION;VALUE=URI;X-ADDRESS=Trinity Baptist Church 319 E. Mulberry San Antonio TX 78212 United States;X-APPLE-RADIUS=500;X-TITLE=319 E. Mulberry:geo:-98.4877156,29.4573879
END:VEVENT
BEGIN:VEVENT
DTSTART;TZID=America/Chicago:20280319T090000
DTEND;TZID=America/Chicago:20280319T100000
DTSTAMP:20260422T044224
CREATED:20230204T162149Z
LAST-MODIFIED:20260122T221124Z
UID:10014325-1837069200-1837072800@www.trinitybaptist.org
SUMMARY:Sunday Worship at Mulberry
DESCRIPTION:  \nWorship at Mulberry \n\n9:00 am Choir and Orchestra led worship\nChildcare provided for Birth-4 years
URL:https://www.trinitybaptist.org/event/sunday-worship-at-mulberry/2028-03-19/
LOCATION:Trinity Baptist Church\, 319 E. Mulberry\, San Antonio\, TX\, 78212\, United States
CATEGORIES:Home Page,Mulberry Campus Page
ATTACH;FMTTYPE=image/jpeg:https://www.trinitybaptist.org/wp-content/uploads/2023/02/DSC3475.jpg
GEO:29.4573879;-98.4877156
X-APPLE-STRUCTURED-LOCATION;VALUE=URI;X-ADDRESS=Trinity Baptist Church 319 E. Mulberry San Antonio TX 78212 United States;X-APPLE-RADIUS=500;X-TITLE=319 E. Mulberry:geo:-98.4877156,29.4573879
END:VEVENT
BEGIN:VEVENT
DTSTART;TZID=America/Chicago:20280326T090000
DTEND;TZID=America/Chicago:20280326T100000
DTSTAMP:20260422T044224
CREATED:20230204T162149Z
LAST-MODIFIED:20260122T221124Z
UID:10014326-1837674000-1837677600@www.trinitybaptist.org
SUMMARY:Sunday Worship at Mulberry
DESCRIPTION:  \nWorship at Mulberry \n\n9:00 am Choir and Orchestra led worship\nChildcare provided for Birth-4 years
URL:https://www.trinitybaptist.org/event/sunday-worship-at-mulberry/2028-03-26/
LOCATION:Trinity Baptist Church\, 319 E. Mulberry\, San Antonio\, TX\, 78212\, United States
CATEGORIES:Home Page,Mulberry Campus Page
ATTACH;FMTTYPE=image/jpeg:https://www.trinitybaptist.org/wp-content/uploads/2023/02/DSC3475.jpg
GEO:29.4573879;-98.4877156
X-APPLE-STRUCTURED-LOCATION;VALUE=URI;X-ADDRESS=Trinity Baptist Church 319 E. Mulberry San Antonio TX 78212 United States;X-APPLE-RADIUS=500;X-TITLE=319 E. Mulberry:geo:-98.4877156,29.4573879
END:VEVENT
BEGIN:VEVENT
DTSTART;TZID=America/Chicago:20280402T090000
DTEND;TZID=America/Chicago:20280402T100000
DTSTAMP:20260422T044224
CREATED:20230204T162149Z
LAST-MODIFIED:20260122T221124Z
UID:10014327-1838278800-1838282400@www.trinitybaptist.org
SUMMARY:Sunday Worship at Mulberry
DESCRIPTION:  \nWorship at Mulberry \n\n9:00 am Choir and Orchestra led worship\nChildcare provided for Birth-4 years
URL:https://www.trinitybaptist.org/event/sunday-worship-at-mulberry/2028-04-02/
LOCATION:Trinity Baptist Church\, 319 E. Mulberry\, San Antonio\, TX\, 78212\, United States
CATEGORIES:Home Page,Mulberry Campus Page
ATTACH;FMTTYPE=image/jpeg:https://www.trinitybaptist.org/wp-content/uploads/2023/02/DSC3475.jpg
GEO:29.4573879;-98.4877156
X-APPLE-STRUCTURED-LOCATION;VALUE=URI;X-ADDRESS=Trinity Baptist Church 319 E. Mulberry San Antonio TX 78212 United States;X-APPLE-RADIUS=500;X-TITLE=319 E. Mulberry:geo:-98.4877156,29.4573879
END:VEVENT
END:VCALENDAR