BEGIN:VCALENDAR
VERSION:2.0
PRODID:-//Trinity Baptist Church in San Antonio, TX - ECPv6.5.0//NONSGML v1.0//EN
CALSCALE:GREGORIAN
METHOD:PUBLISH
X-ORIGINAL-URL:https://www.trinitybaptist.org
X-WR-CALDESC:Events for Trinity Baptist Church in San Antonio, TX
REFRESH-INTERVAL;VALUE=DURATION:PT1H
X-Robots-Tag:noindex
X-PUBLISHED-TTL:PT1H
BEGIN:VTIMEZONE
TZID:America/Chicago
BEGIN:DAYLIGHT
TZOFFSETFROM:-0600
TZOFFSETTO:-0500
TZNAME:CDT
DTSTART:20270314T080000
END:DAYLIGHT
BEGIN:STANDARD
TZOFFSETFROM:-0500
TZOFFSETTO:-0600
TZNAME:CST
DTSTART:20271107T070000
END:STANDARD
END:VTIMEZONE
BEGIN:VEVENT
DTSTART;TZID=America/Chicago:20270404T113000
DTEND;TZID=America/Chicago:20270404T123000
DTSTAMP:20260422T011810
CREATED:20230204T162312Z
LAST-MODIFIED:20260122T221154Z
UID:10029536-1806838200-1806841800@www.trinitybaptist.org
SUMMARY:Sunday Worship at TriPoint
DESCRIPTION:  \nWorship at TriPoint \n\n11:30 am Band led worship\nChildcare is available for ages Birth-4 years.
URL:https://www.trinitybaptist.org/event/sunday-worship-at-tripoint/2027-04-04/
LOCATION:TriPoint\, 3233 N St. Mary's St.\, San Antonio\, TX\, 78212\, United States
CATEGORIES:Home Page,TriPoint Campus Page
ATTACH;FMTTYPE=image/jpeg:https://www.trinitybaptist.org/wp-content/uploads/2023/02/DSC2971-2.jpg
END:VEVENT
BEGIN:VEVENT
DTSTART;TZID=America/Chicago:20270411T113000
DTEND;TZID=America/Chicago:20270411T123000
DTSTAMP:20260422T011810
CREATED:20230204T162312Z
LAST-MODIFIED:20260122T221154Z
UID:10029537-1807443000-1807446600@www.trinitybaptist.org
SUMMARY:Sunday Worship at TriPoint
DESCRIPTION:  \nWorship at TriPoint \n\n11:30 am Band led worship\nChildcare is available for ages Birth-4 years.
URL:https://www.trinitybaptist.org/event/sunday-worship-at-tripoint/2027-04-11/
LOCATION:TriPoint\, 3233 N St. Mary's St.\, San Antonio\, TX\, 78212\, United States
CATEGORIES:Home Page,TriPoint Campus Page
ATTACH;FMTTYPE=image/jpeg:https://www.trinitybaptist.org/wp-content/uploads/2023/02/DSC2971-2.jpg
END:VEVENT
BEGIN:VEVENT
DTSTART;TZID=America/Chicago:20270418T113000
DTEND;TZID=America/Chicago:20270418T123000
DTSTAMP:20260422T011810
CREATED:20230204T162312Z
LAST-MODIFIED:20260122T221154Z
UID:10029538-1808047800-1808051400@www.trinitybaptist.org
SUMMARY:Sunday Worship at TriPoint
DESCRIPTION:  \nWorship at TriPoint \n\n11:30 am Band led worship\nChildcare is available for ages Birth-4 years.
URL:https://www.trinitybaptist.org/event/sunday-worship-at-tripoint/2027-04-18/
LOCATION:TriPoint\, 3233 N St. Mary's St.\, San Antonio\, TX\, 78212\, United States
CATEGORIES:Home Page,TriPoint Campus Page
ATTACH;FMTTYPE=image/jpeg:https://www.trinitybaptist.org/wp-content/uploads/2023/02/DSC2971-2.jpg
END:VEVENT
BEGIN:VEVENT
DTSTART;TZID=America/Chicago:20270425T113000
DTEND;TZID=America/Chicago:20270425T123000
DTSTAMP:20260422T011810
CREATED:20230204T162312Z
LAST-MODIFIED:20260122T221154Z
UID:10029539-1808652600-1808656200@www.trinitybaptist.org
SUMMARY:Sunday Worship at TriPoint
DESCRIPTION:  \nWorship at TriPoint \n\n11:30 am Band led worship\nChildcare is available for ages Birth-4 years.
URL:https://www.trinitybaptist.org/event/sunday-worship-at-tripoint/2027-04-25/
LOCATION:TriPoint\, 3233 N St. Mary's St.\, San Antonio\, TX\, 78212\, United States
CATEGORIES:Home Page,TriPoint Campus Page
ATTACH;FMTTYPE=image/jpeg:https://www.trinitybaptist.org/wp-content/uploads/2023/02/DSC2971-2.jpg
END:VEVENT
BEGIN:VEVENT
DTSTART;TZID=America/Chicago:20270502T113000
DTEND;TZID=America/Chicago:20270502T123000
DTSTAMP:20260422T011810
CREATED:20230204T162312Z
LAST-MODIFIED:20260122T221154Z
UID:10029540-1809257400-1809261000@www.trinitybaptist.org
SUMMARY:Sunday Worship at TriPoint
DESCRIPTION:  \nWorship at TriPoint \n\n11:30 am Band led worship\nChildcare is available for ages Birth-4 years.
URL:https://www.trinitybaptist.org/event/sunday-worship-at-tripoint/2027-05-02/
LOCATION:TriPoint\, 3233 N St. Mary's St.\, San Antonio\, TX\, 78212\, United States
CATEGORIES:Home Page,TriPoint Campus Page
ATTACH;FMTTYPE=image/jpeg:https://www.trinitybaptist.org/wp-content/uploads/2023/02/DSC2971-2.jpg
END:VEVENT
BEGIN:VEVENT
DTSTART;TZID=America/Chicago:20270509T113000
DTEND;TZID=America/Chicago:20270509T123000
DTSTAMP:20260422T011810
CREATED:20230204T162312Z
LAST-MODIFIED:20260122T221154Z
UID:10029541-1809862200-1809865800@www.trinitybaptist.org
SUMMARY:Sunday Worship at TriPoint
DESCRIPTION:  \nWorship at TriPoint \n\n11:30 am Band led worship\nChildcare is available for ages Birth-4 years.
URL:https://www.trinitybaptist.org/event/sunday-worship-at-tripoint/2027-05-09/
LOCATION:TriPoint\, 3233 N St. Mary's St.\, San Antonio\, TX\, 78212\, United States
CATEGORIES:Home Page,TriPoint Campus Page
ATTACH;FMTTYPE=image/jpeg:https://www.trinitybaptist.org/wp-content/uploads/2023/02/DSC2971-2.jpg
END:VEVENT
BEGIN:VEVENT
DTSTART;TZID=America/Chicago:20270516T113000
DTEND;TZID=America/Chicago:20270516T123000
DTSTAMP:20260422T011810
CREATED:20230204T162312Z
LAST-MODIFIED:20260122T221154Z
UID:10029542-1810467000-1810470600@www.trinitybaptist.org
SUMMARY:Sunday Worship at TriPoint
DESCRIPTION:  \nWorship at TriPoint \n\n11:30 am Band led worship\nChildcare is available for ages Birth-4 years.
URL:https://www.trinitybaptist.org/event/sunday-worship-at-tripoint/2027-05-16/
LOCATION:TriPoint\, 3233 N St. Mary's St.\, San Antonio\, TX\, 78212\, United States
CATEGORIES:Home Page,TriPoint Campus Page
ATTACH;FMTTYPE=image/jpeg:https://www.trinitybaptist.org/wp-content/uploads/2023/02/DSC2971-2.jpg
END:VEVENT
BEGIN:VEVENT
DTSTART;TZID=America/Chicago:20270523T113000
DTEND;TZID=America/Chicago:20270523T123000
DTSTAMP:20260422T011810
CREATED:20230204T162312Z
LAST-MODIFIED:20260122T221154Z
UID:10029543-1811071800-1811075400@www.trinitybaptist.org
SUMMARY:Sunday Worship at TriPoint
DESCRIPTION:  \nWorship at TriPoint \n\n11:30 am Band led worship\nChildcare is available for ages Birth-4 years.
URL:https://www.trinitybaptist.org/event/sunday-worship-at-tripoint/2027-05-23/
LOCATION:TriPoint\, 3233 N St. Mary's St.\, San Antonio\, TX\, 78212\, United States
CATEGORIES:Home Page,TriPoint Campus Page
ATTACH;FMTTYPE=image/jpeg:https://www.trinitybaptist.org/wp-content/uploads/2023/02/DSC2971-2.jpg
END:VEVENT
BEGIN:VEVENT
DTSTART;TZID=America/Chicago:20270530T113000
DTEND;TZID=America/Chicago:20270530T123000
DTSTAMP:20260422T011810
CREATED:20230204T162312Z
LAST-MODIFIED:20260122T221154Z
UID:10029544-1811676600-1811680200@www.trinitybaptist.org
SUMMARY:Sunday Worship at TriPoint
DESCRIPTION:  \nWorship at TriPoint \n\n11:30 am Band led worship\nChildcare is available for ages Birth-4 years.
URL:https://www.trinitybaptist.org/event/sunday-worship-at-tripoint/2027-05-30/
LOCATION:TriPoint\, 3233 N St. Mary's St.\, San Antonio\, TX\, 78212\, United States
CATEGORIES:Home Page,TriPoint Campus Page
ATTACH;FMTTYPE=image/jpeg:https://www.trinitybaptist.org/wp-content/uploads/2023/02/DSC2971-2.jpg
END:VEVENT
BEGIN:VEVENT
DTSTART;TZID=America/Chicago:20270606T113000
DTEND;TZID=America/Chicago:20270606T123000
DTSTAMP:20260422T011810
CREATED:20230204T162312Z
LAST-MODIFIED:20260122T221154Z
UID:10029545-1812281400-1812285000@www.trinitybaptist.org
SUMMARY:Sunday Worship at TriPoint
DESCRIPTION:  \nWorship at TriPoint \n\n11:30 am Band led worship\nChildcare is available for ages Birth-4 years.
URL:https://www.trinitybaptist.org/event/sunday-worship-at-tripoint/2027-06-06/
LOCATION:TriPoint\, 3233 N St. Mary's St.\, San Antonio\, TX\, 78212\, United States
CATEGORIES:Home Page,TriPoint Campus Page
ATTACH;FMTTYPE=image/jpeg:https://www.trinitybaptist.org/wp-content/uploads/2023/02/DSC2971-2.jpg
END:VEVENT
BEGIN:VEVENT
DTSTART;TZID=America/Chicago:20270613T113000
DTEND;TZID=America/Chicago:20270613T123000
DTSTAMP:20260422T011810
CREATED:20230204T162312Z
LAST-MODIFIED:20260122T221154Z
UID:10029546-1812886200-1812889800@www.trinitybaptist.org
SUMMARY:Sunday Worship at TriPoint
DESCRIPTION:  \nWorship at TriPoint \n\n11:30 am Band led worship\nChildcare is available for ages Birth-4 years.
URL:https://www.trinitybaptist.org/event/sunday-worship-at-tripoint/2027-06-13/
LOCATION:TriPoint\, 3233 N St. Mary's St.\, San Antonio\, TX\, 78212\, United States
CATEGORIES:Home Page,TriPoint Campus Page
ATTACH;FMTTYPE=image/jpeg:https://www.trinitybaptist.org/wp-content/uploads/2023/02/DSC2971-2.jpg
END:VEVENT
BEGIN:VEVENT
DTSTART;TZID=America/Chicago:20270620T113000
DTEND;TZID=America/Chicago:20270620T123000
DTSTAMP:20260422T011810
CREATED:20230204T162312Z
LAST-MODIFIED:20260122T221154Z
UID:10029547-1813491000-1813494600@www.trinitybaptist.org
SUMMARY:Sunday Worship at TriPoint
DESCRIPTION:  \nWorship at TriPoint \n\n11:30 am Band led worship\nChildcare is available for ages Birth-4 years.
URL:https://www.trinitybaptist.org/event/sunday-worship-at-tripoint/2027-06-20/
LOCATION:TriPoint\, 3233 N St. Mary's St.\, San Antonio\, TX\, 78212\, United States
CATEGORIES:Home Page,TriPoint Campus Page
ATTACH;FMTTYPE=image/jpeg:https://www.trinitybaptist.org/wp-content/uploads/2023/02/DSC2971-2.jpg
END:VEVENT
BEGIN:VEVENT
DTSTART;TZID=America/Chicago:20270627T113000
DTEND;TZID=America/Chicago:20270627T123000
DTSTAMP:20260422T011810
CREATED:20230204T162312Z
LAST-MODIFIED:20260122T221154Z
UID:10029548-1814095800-1814099400@www.trinitybaptist.org
SUMMARY:Sunday Worship at TriPoint
DESCRIPTION:  \nWorship at TriPoint \n\n11:30 am Band led worship\nChildcare is available for ages Birth-4 years.
URL:https://www.trinitybaptist.org/event/sunday-worship-at-tripoint/2027-06-27/
LOCATION:TriPoint\, 3233 N St. Mary's St.\, San Antonio\, TX\, 78212\, United States
CATEGORIES:Home Page,TriPoint Campus Page
ATTACH;FMTTYPE=image/jpeg:https://www.trinitybaptist.org/wp-content/uploads/2023/02/DSC2971-2.jpg
END:VEVENT
BEGIN:VEVENT
DTSTART;TZID=America/Chicago:20270704T113000
DTEND;TZID=America/Chicago:20270704T123000
DTSTAMP:20260422T011810
CREATED:20230204T162312Z
LAST-MODIFIED:20260122T221154Z
UID:10029549-1814700600-1814704200@www.trinitybaptist.org
SUMMARY:Sunday Worship at TriPoint
DESCRIPTION:  \nWorship at TriPoint \n\n11:30 am Band led worship\nChildcare is available for ages Birth-4 years.
URL:https://www.trinitybaptist.org/event/sunday-worship-at-tripoint/2027-07-04/
LOCATION:TriPoint\, 3233 N St. Mary's St.\, San Antonio\, TX\, 78212\, United States
CATEGORIES:Home Page,TriPoint Campus Page
ATTACH;FMTTYPE=image/jpeg:https://www.trinitybaptist.org/wp-content/uploads/2023/02/DSC2971-2.jpg
END:VEVENT
BEGIN:VEVENT
DTSTART;TZID=America/Chicago:20270711T113000
DTEND;TZID=America/Chicago:20270711T123000
DTSTAMP:20260422T011810
CREATED:20230204T162312Z
LAST-MODIFIED:20260122T221154Z
UID:10029550-1815305400-1815309000@www.trinitybaptist.org
SUMMARY:Sunday Worship at TriPoint
DESCRIPTION:  \nWorship at TriPoint \n\n11:30 am Band led worship\nChildcare is available for ages Birth-4 years.
URL:https://www.trinitybaptist.org/event/sunday-worship-at-tripoint/2027-07-11/
LOCATION:TriPoint\, 3233 N St. Mary's St.\, San Antonio\, TX\, 78212\, United States
CATEGORIES:Home Page,TriPoint Campus Page
ATTACH;FMTTYPE=image/jpeg:https://www.trinitybaptist.org/wp-content/uploads/2023/02/DSC2971-2.jpg
END:VEVENT
BEGIN:VEVENT
DTSTART;TZID=America/Chicago:20270718T113000
DTEND;TZID=America/Chicago:20270718T123000
DTSTAMP:20260422T011810
CREATED:20230204T162312Z
LAST-MODIFIED:20260122T221154Z
UID:10029551-1815910200-1815913800@www.trinitybaptist.org
SUMMARY:Sunday Worship at TriPoint
DESCRIPTION:  \nWorship at TriPoint \n\n11:30 am Band led worship\nChildcare is available for ages Birth-4 years.
URL:https://www.trinitybaptist.org/event/sunday-worship-at-tripoint/2027-07-18/
LOCATION:TriPoint\, 3233 N St. Mary's St.\, San Antonio\, TX\, 78212\, United States
CATEGORIES:Home Page,TriPoint Campus Page
ATTACH;FMTTYPE=image/jpeg:https://www.trinitybaptist.org/wp-content/uploads/2023/02/DSC2971-2.jpg
END:VEVENT
BEGIN:VEVENT
DTSTART;TZID=America/Chicago:20270725T113000
DTEND;TZID=America/Chicago:20270725T123000
DTSTAMP:20260422T011810
CREATED:20230204T162312Z
LAST-MODIFIED:20260122T221154Z
UID:10029552-1816515000-1816518600@www.trinitybaptist.org
SUMMARY:Sunday Worship at TriPoint
DESCRIPTION:  \nWorship at TriPoint \n\n11:30 am Band led worship\nChildcare is available for ages Birth-4 years.
URL:https://www.trinitybaptist.org/event/sunday-worship-at-tripoint/2027-07-25/
LOCATION:TriPoint\, 3233 N St. Mary's St.\, San Antonio\, TX\, 78212\, United States
CATEGORIES:Home Page,TriPoint Campus Page
ATTACH;FMTTYPE=image/jpeg:https://www.trinitybaptist.org/wp-content/uploads/2023/02/DSC2971-2.jpg
END:VEVENT
BEGIN:VEVENT
DTSTART;TZID=America/Chicago:20270801T113000
DTEND;TZID=America/Chicago:20270801T123000
DTSTAMP:20260422T011810
CREATED:20230204T162312Z
LAST-MODIFIED:20260122T221154Z
UID:10029553-1817119800-1817123400@www.trinitybaptist.org
SUMMARY:Sunday Worship at TriPoint
DESCRIPTION:  \nWorship at TriPoint \n\n11:30 am Band led worship\nChildcare is available for ages Birth-4 years.
URL:https://www.trinitybaptist.org/event/sunday-worship-at-tripoint/2027-08-01/
LOCATION:TriPoint\, 3233 N St. Mary's St.\, San Antonio\, TX\, 78212\, United States
CATEGORIES:Home Page,TriPoint Campus Page
ATTACH;FMTTYPE=image/jpeg:https://www.trinitybaptist.org/wp-content/uploads/2023/02/DSC2971-2.jpg
END:VEVENT
BEGIN:VEVENT
DTSTART;TZID=America/Chicago:20270808T113000
DTEND;TZID=America/Chicago:20270808T123000
DTSTAMP:20260422T011810
CREATED:20230204T162312Z
LAST-MODIFIED:20260122T221154Z
UID:10029554-1817724600-1817728200@www.trinitybaptist.org
SUMMARY:Sunday Worship at TriPoint
DESCRIPTION:  \nWorship at TriPoint \n\n11:30 am Band led worship\nChildcare is available for ages Birth-4 years.
URL:https://www.trinitybaptist.org/event/sunday-worship-at-tripoint/2027-08-08/
LOCATION:TriPoint\, 3233 N St. Mary's St.\, San Antonio\, TX\, 78212\, United States
CATEGORIES:Home Page,TriPoint Campus Page
ATTACH;FMTTYPE=image/jpeg:https://www.trinitybaptist.org/wp-content/uploads/2023/02/DSC2971-2.jpg
END:VEVENT
BEGIN:VEVENT
DTSTART;TZID=America/Chicago:20270815T113000
DTEND;TZID=America/Chicago:20270815T123000
DTSTAMP:20260422T011810
CREATED:20230204T162312Z
LAST-MODIFIED:20260122T221154Z
UID:10029555-1818329400-1818333000@www.trinitybaptist.org
SUMMARY:Sunday Worship at TriPoint
DESCRIPTION:  \nWorship at TriPoint \n\n11:30 am Band led worship\nChildcare is available for ages Birth-4 years.
URL:https://www.trinitybaptist.org/event/sunday-worship-at-tripoint/2027-08-15/
LOCATION:TriPoint\, 3233 N St. Mary's St.\, San Antonio\, TX\, 78212\, United States
CATEGORIES:Home Page,TriPoint Campus Page
ATTACH;FMTTYPE=image/jpeg:https://www.trinitybaptist.org/wp-content/uploads/2023/02/DSC2971-2.jpg
END:VEVENT
BEGIN:VEVENT
DTSTART;TZID=America/Chicago:20270822T113000
DTEND;TZID=America/Chicago:20270822T123000
DTSTAMP:20260422T011810
CREATED:20230204T162312Z
LAST-MODIFIED:20260122T221154Z
UID:10029556-1818934200-1818937800@www.trinitybaptist.org
SUMMARY:Sunday Worship at TriPoint
DESCRIPTION:  \nWorship at TriPoint \n\n11:30 am Band led worship\nChildcare is available for ages Birth-4 years.
URL:https://www.trinitybaptist.org/event/sunday-worship-at-tripoint/2027-08-22/
LOCATION:TriPoint\, 3233 N St. Mary's St.\, San Antonio\, TX\, 78212\, United States
CATEGORIES:Home Page,TriPoint Campus Page
ATTACH;FMTTYPE=image/jpeg:https://www.trinitybaptist.org/wp-content/uploads/2023/02/DSC2971-2.jpg
END:VEVENT
BEGIN:VEVENT
DTSTART;TZID=America/Chicago:20270829T113000
DTEND;TZID=America/Chicago:20270829T123000
DTSTAMP:20260422T011810
CREATED:20230204T162312Z
LAST-MODIFIED:20260122T221154Z
UID:10029557-1819539000-1819542600@www.trinitybaptist.org
SUMMARY:Sunday Worship at TriPoint
DESCRIPTION:  \nWorship at TriPoint \n\n11:30 am Band led worship\nChildcare is available for ages Birth-4 years.
URL:https://www.trinitybaptist.org/event/sunday-worship-at-tripoint/2027-08-29/
LOCATION:TriPoint\, 3233 N St. Mary's St.\, San Antonio\, TX\, 78212\, United States
CATEGORIES:Home Page,TriPoint Campus Page
ATTACH;FMTTYPE=image/jpeg:https://www.trinitybaptist.org/wp-content/uploads/2023/02/DSC2971-2.jpg
END:VEVENT
BEGIN:VEVENT
DTSTART;TZID=America/Chicago:20270905T113000
DTEND;TZID=America/Chicago:20270905T123000
DTSTAMP:20260422T011810
CREATED:20230204T162312Z
LAST-MODIFIED:20260122T221154Z
UID:10029558-1820143800-1820147400@www.trinitybaptist.org
SUMMARY:Sunday Worship at TriPoint
DESCRIPTION:  \nWorship at TriPoint \n\n11:30 am Band led worship\nChildcare is available for ages Birth-4 years.
URL:https://www.trinitybaptist.org/event/sunday-worship-at-tripoint/2027-09-05/
LOCATION:TriPoint\, 3233 N St. Mary's St.\, San Antonio\, TX\, 78212\, United States
CATEGORIES:Home Page,TriPoint Campus Page
ATTACH;FMTTYPE=image/jpeg:https://www.trinitybaptist.org/wp-content/uploads/2023/02/DSC2971-2.jpg
END:VEVENT
BEGIN:VEVENT
DTSTART;TZID=America/Chicago:20270912T113000
DTEND;TZID=America/Chicago:20270912T123000
DTSTAMP:20260422T011810
CREATED:20230204T162312Z
LAST-MODIFIED:20260122T221154Z
UID:10029559-1820748600-1820752200@www.trinitybaptist.org
SUMMARY:Sunday Worship at TriPoint
DESCRIPTION:  \nWorship at TriPoint \n\n11:30 am Band led worship\nChildcare is available for ages Birth-4 years.
URL:https://www.trinitybaptist.org/event/sunday-worship-at-tripoint/2027-09-12/
LOCATION:TriPoint\, 3233 N St. Mary's St.\, San Antonio\, TX\, 78212\, United States
CATEGORIES:Home Page,TriPoint Campus Page
ATTACH;FMTTYPE=image/jpeg:https://www.trinitybaptist.org/wp-content/uploads/2023/02/DSC2971-2.jpg
END:VEVENT
BEGIN:VEVENT
DTSTART;TZID=America/Chicago:20270919T113000
DTEND;TZID=America/Chicago:20270919T123000
DTSTAMP:20260422T011810
CREATED:20230204T162312Z
LAST-MODIFIED:20260122T221154Z
UID:10029560-1821353400-1821357000@www.trinitybaptist.org
SUMMARY:Sunday Worship at TriPoint
DESCRIPTION:  \nWorship at TriPoint \n\n11:30 am Band led worship\nChildcare is available for ages Birth-4 years.
URL:https://www.trinitybaptist.org/event/sunday-worship-at-tripoint/2027-09-19/
LOCATION:TriPoint\, 3233 N St. Mary's St.\, San Antonio\, TX\, 78212\, United States
CATEGORIES:Home Page,TriPoint Campus Page
ATTACH;FMTTYPE=image/jpeg:https://www.trinitybaptist.org/wp-content/uploads/2023/02/DSC2971-2.jpg
END:VEVENT
BEGIN:VEVENT
DTSTART;TZID=America/Chicago:20270926T113000
DTEND;TZID=America/Chicago:20270926T123000
DTSTAMP:20260422T011810
CREATED:20230204T162312Z
LAST-MODIFIED:20260122T221154Z
UID:10029561-1821958200-1821961800@www.trinitybaptist.org
SUMMARY:Sunday Worship at TriPoint
DESCRIPTION:  \nWorship at TriPoint \n\n11:30 am Band led worship\nChildcare is available for ages Birth-4 years.
URL:https://www.trinitybaptist.org/event/sunday-worship-at-tripoint/2027-09-26/
LOCATION:TriPoint\, 3233 N St. Mary's St.\, San Antonio\, TX\, 78212\, United States
CATEGORIES:Home Page,TriPoint Campus Page
ATTACH;FMTTYPE=image/jpeg:https://www.trinitybaptist.org/wp-content/uploads/2023/02/DSC2971-2.jpg
END:VEVENT
BEGIN:VEVENT
DTSTART;TZID=America/Chicago:20271003T113000
DTEND;TZID=America/Chicago:20271003T123000
DTSTAMP:20260422T011810
CREATED:20230204T162312Z
LAST-MODIFIED:20260122T221154Z
UID:10029562-1822563000-1822566600@www.trinitybaptist.org
SUMMARY:Sunday Worship at TriPoint
DESCRIPTION:  \nWorship at TriPoint \n\n11:30 am Band led worship\nChildcare is available for ages Birth-4 years.
URL:https://www.trinitybaptist.org/event/sunday-worship-at-tripoint/2027-10-03/
LOCATION:TriPoint\, 3233 N St. Mary's St.\, San Antonio\, TX\, 78212\, United States
CATEGORIES:Home Page,TriPoint Campus Page
ATTACH;FMTTYPE=image/jpeg:https://www.trinitybaptist.org/wp-content/uploads/2023/02/DSC2971-2.jpg
END:VEVENT
BEGIN:VEVENT
DTSTART;TZID=America/Chicago:20271010T113000
DTEND;TZID=America/Chicago:20271010T123000
DTSTAMP:20260422T011810
CREATED:20230204T162312Z
LAST-MODIFIED:20260122T221154Z
UID:10029563-1823167800-1823171400@www.trinitybaptist.org
SUMMARY:Sunday Worship at TriPoint
DESCRIPTION:  \nWorship at TriPoint \n\n11:30 am Band led worship\nChildcare is available for ages Birth-4 years.
URL:https://www.trinitybaptist.org/event/sunday-worship-at-tripoint/2027-10-10/
LOCATION:TriPoint\, 3233 N St. Mary's St.\, San Antonio\, TX\, 78212\, United States
CATEGORIES:Home Page,TriPoint Campus Page
ATTACH;FMTTYPE=image/jpeg:https://www.trinitybaptist.org/wp-content/uploads/2023/02/DSC2971-2.jpg
END:VEVENT
BEGIN:VEVENT
DTSTART;TZID=America/Chicago:20271017T113000
DTEND;TZID=America/Chicago:20271017T123000
DTSTAMP:20260422T011810
CREATED:20230204T162312Z
LAST-MODIFIED:20260122T221154Z
UID:10029564-1823772600-1823776200@www.trinitybaptist.org
SUMMARY:Sunday Worship at TriPoint
DESCRIPTION:  \nWorship at TriPoint \n\n11:30 am Band led worship\nChildcare is available for ages Birth-4 years.
URL:https://www.trinitybaptist.org/event/sunday-worship-at-tripoint/2027-10-17/
LOCATION:TriPoint\, 3233 N St. Mary's St.\, San Antonio\, TX\, 78212\, United States
CATEGORIES:Home Page,TriPoint Campus Page
ATTACH;FMTTYPE=image/jpeg:https://www.trinitybaptist.org/wp-content/uploads/2023/02/DSC2971-2.jpg
END:VEVENT
BEGIN:VEVENT
DTSTART;TZID=America/Chicago:20271024T113000
DTEND;TZID=America/Chicago:20271024T123000
DTSTAMP:20260422T011810
CREATED:20230204T162312Z
LAST-MODIFIED:20260122T221154Z
UID:10029565-1824377400-1824381000@www.trinitybaptist.org
SUMMARY:Sunday Worship at TriPoint
DESCRIPTION:  \nWorship at TriPoint \n\n11:30 am Band led worship\nChildcare is available for ages Birth-4 years.
URL:https://www.trinitybaptist.org/event/sunday-worship-at-tripoint/2027-10-24/
LOCATION:TriPoint\, 3233 N St. Mary's St.\, San Antonio\, TX\, 78212\, United States
CATEGORIES:Home Page,TriPoint Campus Page
ATTACH;FMTTYPE=image/jpeg:https://www.trinitybaptist.org/wp-content/uploads/2023/02/DSC2971-2.jpg
END:VEVENT
END:VCALENDAR