BEGIN:VCALENDAR
VERSION:2.0
PRODID:-//Trinity Baptist Church in San Antonio, TX - ECPv6.5.0//NONSGML v1.0//EN
CALSCALE:GREGORIAN
METHOD:PUBLISH
X-WR-CALNAME:Trinity Baptist Church in San Antonio, TX
X-ORIGINAL-URL:https://www.trinitybaptist.org
X-WR-CALDESC:Events for Trinity Baptist Church in San Antonio, TX
REFRESH-INTERVAL;VALUE=DURATION:PT1H
X-Robots-Tag:noindex
X-PUBLISHED-TTL:PT1H
BEGIN:VTIMEZONE
TZID:America/Chicago
BEGIN:DAYLIGHT
TZOFFSETFROM:-0600
TZOFFSETTO:-0500
TZNAME:CDT
DTSTART:20270314T080000
END:DAYLIGHT
BEGIN:STANDARD
TZOFFSETFROM:-0500
TZOFFSETTO:-0600
TZNAME:CST
DTSTART:20271107T070000
END:STANDARD
END:VTIMEZONE
BEGIN:VEVENT
DTSTART;TZID=America/Chicago:20270328T090000
DTEND;TZID=America/Chicago:20270328T100000
DTSTAMP:20260421T214405
CREATED:20230204T162149Z
LAST-MODIFIED:20260122T221124Z
UID:10000219-1806224400-1806228000@www.trinitybaptist.org
SUMMARY:Sunday Worship at Mulberry
DESCRIPTION:  \nWorship at Mulberry \n\n9:00 am Choir and Orchestra led worship\nChildcare provided for Birth-4 years
URL:https://www.trinitybaptist.org/event/sunday-worship-at-mulberry/2027-03-28/
LOCATION:Trinity Baptist Church\, 319 E. Mulberry\, San Antonio\, TX\, 78212\, United States
CATEGORIES:Home Page,Mulberry Campus Page
ATTACH;FMTTYPE=image/jpeg:https://www.trinitybaptist.org/wp-content/uploads/2023/02/DSC3475.jpg
GEO:29.4573879;-98.4877156
X-APPLE-STRUCTURED-LOCATION;VALUE=URI;X-ADDRESS=Trinity Baptist Church 319 E. Mulberry San Antonio TX 78212 United States;X-APPLE-RADIUS=500;X-TITLE=319 E. Mulberry:geo:-98.4877156,29.4573879
END:VEVENT
BEGIN:VEVENT
DTSTART;TZID=America/Chicago:20270404T090000
DTEND;TZID=America/Chicago:20270404T100000
DTSTAMP:20260421T214405
CREATED:20230204T162149Z
LAST-MODIFIED:20260122T221124Z
UID:10000220-1806829200-1806832800@www.trinitybaptist.org
SUMMARY:Sunday Worship at Mulberry
DESCRIPTION:  \nWorship at Mulberry \n\n9:00 am Choir and Orchestra led worship\nChildcare provided for Birth-4 years
URL:https://www.trinitybaptist.org/event/sunday-worship-at-mulberry/2027-04-04/
LOCATION:Trinity Baptist Church\, 319 E. Mulberry\, San Antonio\, TX\, 78212\, United States
CATEGORIES:Home Page,Mulberry Campus Page
ATTACH;FMTTYPE=image/jpeg:https://www.trinitybaptist.org/wp-content/uploads/2023/02/DSC3475.jpg
GEO:29.4573879;-98.4877156
X-APPLE-STRUCTURED-LOCATION;VALUE=URI;X-ADDRESS=Trinity Baptist Church 319 E. Mulberry San Antonio TX 78212 United States;X-APPLE-RADIUS=500;X-TITLE=319 E. Mulberry:geo:-98.4877156,29.4573879
END:VEVENT
BEGIN:VEVENT
DTSTART;TZID=America/Chicago:20270411T090000
DTEND;TZID=America/Chicago:20270411T100000
DTSTAMP:20260421T214405
CREATED:20230204T162149Z
LAST-MODIFIED:20260122T221124Z
UID:10000221-1807434000-1807437600@www.trinitybaptist.org
SUMMARY:Sunday Worship at Mulberry
DESCRIPTION:  \nWorship at Mulberry \n\n9:00 am Choir and Orchestra led worship\nChildcare provided for Birth-4 years
URL:https://www.trinitybaptist.org/event/sunday-worship-at-mulberry/2027-04-11/
LOCATION:Trinity Baptist Church\, 319 E. Mulberry\, San Antonio\, TX\, 78212\, United States
CATEGORIES:Home Page,Mulberry Campus Page
ATTACH;FMTTYPE=image/jpeg:https://www.trinitybaptist.org/wp-content/uploads/2023/02/DSC3475.jpg
GEO:29.4573879;-98.4877156
X-APPLE-STRUCTURED-LOCATION;VALUE=URI;X-ADDRESS=Trinity Baptist Church 319 E. Mulberry San Antonio TX 78212 United States;X-APPLE-RADIUS=500;X-TITLE=319 E. Mulberry:geo:-98.4877156,29.4573879
END:VEVENT
BEGIN:VEVENT
DTSTART;TZID=America/Chicago:20270418T090000
DTEND;TZID=America/Chicago:20270418T100000
DTSTAMP:20260421T214405
CREATED:20230204T162149Z
LAST-MODIFIED:20260122T221124Z
UID:10000222-1808038800-1808042400@www.trinitybaptist.org
SUMMARY:Sunday Worship at Mulberry
DESCRIPTION:  \nWorship at Mulberry \n\n9:00 am Choir and Orchestra led worship\nChildcare provided for Birth-4 years
URL:https://www.trinitybaptist.org/event/sunday-worship-at-mulberry/2027-04-18/
LOCATION:Trinity Baptist Church\, 319 E. Mulberry\, San Antonio\, TX\, 78212\, United States
CATEGORIES:Home Page,Mulberry Campus Page
ATTACH;FMTTYPE=image/jpeg:https://www.trinitybaptist.org/wp-content/uploads/2023/02/DSC3475.jpg
GEO:29.4573879;-98.4877156
X-APPLE-STRUCTURED-LOCATION;VALUE=URI;X-ADDRESS=Trinity Baptist Church 319 E. Mulberry San Antonio TX 78212 United States;X-APPLE-RADIUS=500;X-TITLE=319 E. Mulberry:geo:-98.4877156,29.4573879
END:VEVENT
BEGIN:VEVENT
DTSTART;TZID=America/Chicago:20270425T090000
DTEND;TZID=America/Chicago:20270425T100000
DTSTAMP:20260421T214405
CREATED:20230204T162149Z
LAST-MODIFIED:20260122T221124Z
UID:10000223-1808643600-1808647200@www.trinitybaptist.org
SUMMARY:Sunday Worship at Mulberry
DESCRIPTION:  \nWorship at Mulberry \n\n9:00 am Choir and Orchestra led worship\nChildcare provided for Birth-4 years
URL:https://www.trinitybaptist.org/event/sunday-worship-at-mulberry/2027-04-25/
LOCATION:Trinity Baptist Church\, 319 E. Mulberry\, San Antonio\, TX\, 78212\, United States
CATEGORIES:Home Page,Mulberry Campus Page
ATTACH;FMTTYPE=image/jpeg:https://www.trinitybaptist.org/wp-content/uploads/2023/02/DSC3475.jpg
GEO:29.4573879;-98.4877156
X-APPLE-STRUCTURED-LOCATION;VALUE=URI;X-ADDRESS=Trinity Baptist Church 319 E. Mulberry San Antonio TX 78212 United States;X-APPLE-RADIUS=500;X-TITLE=319 E. Mulberry:geo:-98.4877156,29.4573879
END:VEVENT
BEGIN:VEVENT
DTSTART;TZID=America/Chicago:20270502T090000
DTEND;TZID=America/Chicago:20270502T100000
DTSTAMP:20260421T214405
CREATED:20230204T162149Z
LAST-MODIFIED:20260122T221124Z
UID:10000224-1809248400-1809252000@www.trinitybaptist.org
SUMMARY:Sunday Worship at Mulberry
DESCRIPTION:  \nWorship at Mulberry \n\n9:00 am Choir and Orchestra led worship\nChildcare provided for Birth-4 years
URL:https://www.trinitybaptist.org/event/sunday-worship-at-mulberry/2027-05-02/
LOCATION:Trinity Baptist Church\, 319 E. Mulberry\, San Antonio\, TX\, 78212\, United States
CATEGORIES:Home Page,Mulberry Campus Page
ATTACH;FMTTYPE=image/jpeg:https://www.trinitybaptist.org/wp-content/uploads/2023/02/DSC3475.jpg
GEO:29.4573879;-98.4877156
X-APPLE-STRUCTURED-LOCATION;VALUE=URI;X-ADDRESS=Trinity Baptist Church 319 E. Mulberry San Antonio TX 78212 United States;X-APPLE-RADIUS=500;X-TITLE=319 E. Mulberry:geo:-98.4877156,29.4573879
END:VEVENT
BEGIN:VEVENT
DTSTART;TZID=America/Chicago:20270509T090000
DTEND;TZID=America/Chicago:20270509T100000
DTSTAMP:20260421T214405
CREATED:20230204T162149Z
LAST-MODIFIED:20260122T221124Z
UID:10000225-1809853200-1809856800@www.trinitybaptist.org
SUMMARY:Sunday Worship at Mulberry
DESCRIPTION:  \nWorship at Mulberry \n\n9:00 am Choir and Orchestra led worship\nChildcare provided for Birth-4 years
URL:https://www.trinitybaptist.org/event/sunday-worship-at-mulberry/2027-05-09/
LOCATION:Trinity Baptist Church\, 319 E. Mulberry\, San Antonio\, TX\, 78212\, United States
CATEGORIES:Home Page,Mulberry Campus Page
ATTACH;FMTTYPE=image/jpeg:https://www.trinitybaptist.org/wp-content/uploads/2023/02/DSC3475.jpg
GEO:29.4573879;-98.4877156
X-APPLE-STRUCTURED-LOCATION;VALUE=URI;X-ADDRESS=Trinity Baptist Church 319 E. Mulberry San Antonio TX 78212 United States;X-APPLE-RADIUS=500;X-TITLE=319 E. Mulberry:geo:-98.4877156,29.4573879
END:VEVENT
BEGIN:VEVENT
DTSTART;TZID=America/Chicago:20270516T090000
DTEND;TZID=America/Chicago:20270516T100000
DTSTAMP:20260421T214405
CREATED:20230204T162149Z
LAST-MODIFIED:20260122T221124Z
UID:10000226-1810458000-1810461600@www.trinitybaptist.org
SUMMARY:Sunday Worship at Mulberry
DESCRIPTION:  \nWorship at Mulberry \n\n9:00 am Choir and Orchestra led worship\nChildcare provided for Birth-4 years
URL:https://www.trinitybaptist.org/event/sunday-worship-at-mulberry/2027-05-16/
LOCATION:Trinity Baptist Church\, 319 E. Mulberry\, San Antonio\, TX\, 78212\, United States
CATEGORIES:Home Page,Mulberry Campus Page
ATTACH;FMTTYPE=image/jpeg:https://www.trinitybaptist.org/wp-content/uploads/2023/02/DSC3475.jpg
GEO:29.4573879;-98.4877156
X-APPLE-STRUCTURED-LOCATION;VALUE=URI;X-ADDRESS=Trinity Baptist Church 319 E. Mulberry San Antonio TX 78212 United States;X-APPLE-RADIUS=500;X-TITLE=319 E. Mulberry:geo:-98.4877156,29.4573879
END:VEVENT
BEGIN:VEVENT
DTSTART;TZID=America/Chicago:20270523T090000
DTEND;TZID=America/Chicago:20270523T100000
DTSTAMP:20260421T214405
CREATED:20230204T162149Z
LAST-MODIFIED:20260122T221124Z
UID:10000227-1811062800-1811066400@www.trinitybaptist.org
SUMMARY:Sunday Worship at Mulberry
DESCRIPTION:  \nWorship at Mulberry \n\n9:00 am Choir and Orchestra led worship\nChildcare provided for Birth-4 years
URL:https://www.trinitybaptist.org/event/sunday-worship-at-mulberry/2027-05-23/
LOCATION:Trinity Baptist Church\, 319 E. Mulberry\, San Antonio\, TX\, 78212\, United States
CATEGORIES:Home Page,Mulberry Campus Page
ATTACH;FMTTYPE=image/jpeg:https://www.trinitybaptist.org/wp-content/uploads/2023/02/DSC3475.jpg
GEO:29.4573879;-98.4877156
X-APPLE-STRUCTURED-LOCATION;VALUE=URI;X-ADDRESS=Trinity Baptist Church 319 E. Mulberry San Antonio TX 78212 United States;X-APPLE-RADIUS=500;X-TITLE=319 E. Mulberry:geo:-98.4877156,29.4573879
END:VEVENT
BEGIN:VEVENT
DTSTART;TZID=America/Chicago:20270530T090000
DTEND;TZID=America/Chicago:20270530T100000
DTSTAMP:20260421T214405
CREATED:20230204T162149Z
LAST-MODIFIED:20260122T221124Z
UID:10000228-1811667600-1811671200@www.trinitybaptist.org
SUMMARY:Sunday Worship at Mulberry
DESCRIPTION:  \nWorship at Mulberry \n\n9:00 am Choir and Orchestra led worship\nChildcare provided for Birth-4 years
URL:https://www.trinitybaptist.org/event/sunday-worship-at-mulberry/2027-05-30/
LOCATION:Trinity Baptist Church\, 319 E. Mulberry\, San Antonio\, TX\, 78212\, United States
CATEGORIES:Home Page,Mulberry Campus Page
ATTACH;FMTTYPE=image/jpeg:https://www.trinitybaptist.org/wp-content/uploads/2023/02/DSC3475.jpg
GEO:29.4573879;-98.4877156
X-APPLE-STRUCTURED-LOCATION;VALUE=URI;X-ADDRESS=Trinity Baptist Church 319 E. Mulberry San Antonio TX 78212 United States;X-APPLE-RADIUS=500;X-TITLE=319 E. Mulberry:geo:-98.4877156,29.4573879
END:VEVENT
BEGIN:VEVENT
DTSTART;TZID=America/Chicago:20270606T090000
DTEND;TZID=America/Chicago:20270606T100000
DTSTAMP:20260421T214405
CREATED:20230204T162149Z
LAST-MODIFIED:20260122T221124Z
UID:10000229-1812272400-1812276000@www.trinitybaptist.org
SUMMARY:Sunday Worship at Mulberry
DESCRIPTION:  \nWorship at Mulberry \n\n9:00 am Choir and Orchestra led worship\nChildcare provided for Birth-4 years
URL:https://www.trinitybaptist.org/event/sunday-worship-at-mulberry/2027-06-06/
LOCATION:Trinity Baptist Church\, 319 E. Mulberry\, San Antonio\, TX\, 78212\, United States
CATEGORIES:Home Page,Mulberry Campus Page
ATTACH;FMTTYPE=image/jpeg:https://www.trinitybaptist.org/wp-content/uploads/2023/02/DSC3475.jpg
GEO:29.4573879;-98.4877156
X-APPLE-STRUCTURED-LOCATION;VALUE=URI;X-ADDRESS=Trinity Baptist Church 319 E. Mulberry San Antonio TX 78212 United States;X-APPLE-RADIUS=500;X-TITLE=319 E. Mulberry:geo:-98.4877156,29.4573879
END:VEVENT
BEGIN:VEVENT
DTSTART;TZID=America/Chicago:20270613T090000
DTEND;TZID=America/Chicago:20270613T100000
DTSTAMP:20260421T214405
CREATED:20230204T162149Z
LAST-MODIFIED:20260122T221124Z
UID:10000230-1812877200-1812880800@www.trinitybaptist.org
SUMMARY:Sunday Worship at Mulberry
DESCRIPTION:  \nWorship at Mulberry \n\n9:00 am Choir and Orchestra led worship\nChildcare provided for Birth-4 years
URL:https://www.trinitybaptist.org/event/sunday-worship-at-mulberry/2027-06-13/
LOCATION:Trinity Baptist Church\, 319 E. Mulberry\, San Antonio\, TX\, 78212\, United States
CATEGORIES:Home Page,Mulberry Campus Page
ATTACH;FMTTYPE=image/jpeg:https://www.trinitybaptist.org/wp-content/uploads/2023/02/DSC3475.jpg
GEO:29.4573879;-98.4877156
X-APPLE-STRUCTURED-LOCATION;VALUE=URI;X-ADDRESS=Trinity Baptist Church 319 E. Mulberry San Antonio TX 78212 United States;X-APPLE-RADIUS=500;X-TITLE=319 E. Mulberry:geo:-98.4877156,29.4573879
END:VEVENT
BEGIN:VEVENT
DTSTART;TZID=America/Chicago:20270620T090000
DTEND;TZID=America/Chicago:20270620T100000
DTSTAMP:20260421T214405
CREATED:20230204T162149Z
LAST-MODIFIED:20260122T221124Z
UID:10000231-1813482000-1813485600@www.trinitybaptist.org
SUMMARY:Sunday Worship at Mulberry
DESCRIPTION:  \nWorship at Mulberry \n\n9:00 am Choir and Orchestra led worship\nChildcare provided for Birth-4 years
URL:https://www.trinitybaptist.org/event/sunday-worship-at-mulberry/2027-06-20/
LOCATION:Trinity Baptist Church\, 319 E. Mulberry\, San Antonio\, TX\, 78212\, United States
CATEGORIES:Home Page,Mulberry Campus Page
ATTACH;FMTTYPE=image/jpeg:https://www.trinitybaptist.org/wp-content/uploads/2023/02/DSC3475.jpg
GEO:29.4573879;-98.4877156
X-APPLE-STRUCTURED-LOCATION;VALUE=URI;X-ADDRESS=Trinity Baptist Church 319 E. Mulberry San Antonio TX 78212 United States;X-APPLE-RADIUS=500;X-TITLE=319 E. Mulberry:geo:-98.4877156,29.4573879
END:VEVENT
BEGIN:VEVENT
DTSTART;TZID=America/Chicago:20270627T090000
DTEND;TZID=America/Chicago:20270627T100000
DTSTAMP:20260421T214405
CREATED:20230204T162149Z
LAST-MODIFIED:20260122T221124Z
UID:10000232-1814086800-1814090400@www.trinitybaptist.org
SUMMARY:Sunday Worship at Mulberry
DESCRIPTION:  \nWorship at Mulberry \n\n9:00 am Choir and Orchestra led worship\nChildcare provided for Birth-4 years
URL:https://www.trinitybaptist.org/event/sunday-worship-at-mulberry/2027-06-27/
LOCATION:Trinity Baptist Church\, 319 E. Mulberry\, San Antonio\, TX\, 78212\, United States
CATEGORIES:Home Page,Mulberry Campus Page
ATTACH;FMTTYPE=image/jpeg:https://www.trinitybaptist.org/wp-content/uploads/2023/02/DSC3475.jpg
GEO:29.4573879;-98.4877156
X-APPLE-STRUCTURED-LOCATION;VALUE=URI;X-ADDRESS=Trinity Baptist Church 319 E. Mulberry San Antonio TX 78212 United States;X-APPLE-RADIUS=500;X-TITLE=319 E. Mulberry:geo:-98.4877156,29.4573879
END:VEVENT
BEGIN:VEVENT
DTSTART;TZID=America/Chicago:20270704T090000
DTEND;TZID=America/Chicago:20270704T100000
DTSTAMP:20260421T214405
CREATED:20230204T162149Z
LAST-MODIFIED:20260122T221124Z
UID:10000233-1814691600-1814695200@www.trinitybaptist.org
SUMMARY:Sunday Worship at Mulberry
DESCRIPTION:  \nWorship at Mulberry \n\n9:00 am Choir and Orchestra led worship\nChildcare provided for Birth-4 years
URL:https://www.trinitybaptist.org/event/sunday-worship-at-mulberry/2027-07-04/
LOCATION:Trinity Baptist Church\, 319 E. Mulberry\, San Antonio\, TX\, 78212\, United States
CATEGORIES:Home Page,Mulberry Campus Page
ATTACH;FMTTYPE=image/jpeg:https://www.trinitybaptist.org/wp-content/uploads/2023/02/DSC3475.jpg
GEO:29.4573879;-98.4877156
X-APPLE-STRUCTURED-LOCATION;VALUE=URI;X-ADDRESS=Trinity Baptist Church 319 E. Mulberry San Antonio TX 78212 United States;X-APPLE-RADIUS=500;X-TITLE=319 E. Mulberry:geo:-98.4877156,29.4573879
END:VEVENT
BEGIN:VEVENT
DTSTART;TZID=America/Chicago:20270711T090000
DTEND;TZID=America/Chicago:20270711T100000
DTSTAMP:20260421T214405
CREATED:20230204T162149Z
LAST-MODIFIED:20260122T221124Z
UID:10000234-1815296400-1815300000@www.trinitybaptist.org
SUMMARY:Sunday Worship at Mulberry
DESCRIPTION:  \nWorship at Mulberry \n\n9:00 am Choir and Orchestra led worship\nChildcare provided for Birth-4 years
URL:https://www.trinitybaptist.org/event/sunday-worship-at-mulberry/2027-07-11/
LOCATION:Trinity Baptist Church\, 319 E. Mulberry\, San Antonio\, TX\, 78212\, United States
CATEGORIES:Home Page,Mulberry Campus Page
ATTACH;FMTTYPE=image/jpeg:https://www.trinitybaptist.org/wp-content/uploads/2023/02/DSC3475.jpg
GEO:29.4573879;-98.4877156
X-APPLE-STRUCTURED-LOCATION;VALUE=URI;X-ADDRESS=Trinity Baptist Church 319 E. Mulberry San Antonio TX 78212 United States;X-APPLE-RADIUS=500;X-TITLE=319 E. Mulberry:geo:-98.4877156,29.4573879
END:VEVENT
BEGIN:VEVENT
DTSTART;TZID=America/Chicago:20270718T090000
DTEND;TZID=America/Chicago:20270718T100000
DTSTAMP:20260421T214405
CREATED:20230204T162149Z
LAST-MODIFIED:20260122T221124Z
UID:10000235-1815901200-1815904800@www.trinitybaptist.org
SUMMARY:Sunday Worship at Mulberry
DESCRIPTION:  \nWorship at Mulberry \n\n9:00 am Choir and Orchestra led worship\nChildcare provided for Birth-4 years
URL:https://www.trinitybaptist.org/event/sunday-worship-at-mulberry/2027-07-18/
LOCATION:Trinity Baptist Church\, 319 E. Mulberry\, San Antonio\, TX\, 78212\, United States
CATEGORIES:Home Page,Mulberry Campus Page
ATTACH;FMTTYPE=image/jpeg:https://www.trinitybaptist.org/wp-content/uploads/2023/02/DSC3475.jpg
GEO:29.4573879;-98.4877156
X-APPLE-STRUCTURED-LOCATION;VALUE=URI;X-ADDRESS=Trinity Baptist Church 319 E. Mulberry San Antonio TX 78212 United States;X-APPLE-RADIUS=500;X-TITLE=319 E. Mulberry:geo:-98.4877156,29.4573879
END:VEVENT
BEGIN:VEVENT
DTSTART;TZID=America/Chicago:20270725T090000
DTEND;TZID=America/Chicago:20270725T100000
DTSTAMP:20260421T214405
CREATED:20230204T162149Z
LAST-MODIFIED:20260122T221124Z
UID:10000236-1816506000-1816509600@www.trinitybaptist.org
SUMMARY:Sunday Worship at Mulberry
DESCRIPTION:  \nWorship at Mulberry \n\n9:00 am Choir and Orchestra led worship\nChildcare provided for Birth-4 years
URL:https://www.trinitybaptist.org/event/sunday-worship-at-mulberry/2027-07-25/
LOCATION:Trinity Baptist Church\, 319 E. Mulberry\, San Antonio\, TX\, 78212\, United States
CATEGORIES:Home Page,Mulberry Campus Page
ATTACH;FMTTYPE=image/jpeg:https://www.trinitybaptist.org/wp-content/uploads/2023/02/DSC3475.jpg
GEO:29.4573879;-98.4877156
X-APPLE-STRUCTURED-LOCATION;VALUE=URI;X-ADDRESS=Trinity Baptist Church 319 E. Mulberry San Antonio TX 78212 United States;X-APPLE-RADIUS=500;X-TITLE=319 E. Mulberry:geo:-98.4877156,29.4573879
END:VEVENT
BEGIN:VEVENT
DTSTART;TZID=America/Chicago:20270801T090000
DTEND;TZID=America/Chicago:20270801T100000
DTSTAMP:20260421T214405
CREATED:20230204T162149Z
LAST-MODIFIED:20260122T221124Z
UID:10000237-1817110800-1817114400@www.trinitybaptist.org
SUMMARY:Sunday Worship at Mulberry
DESCRIPTION:  \nWorship at Mulberry \n\n9:00 am Choir and Orchestra led worship\nChildcare provided for Birth-4 years
URL:https://www.trinitybaptist.org/event/sunday-worship-at-mulberry/2027-08-01/
LOCATION:Trinity Baptist Church\, 319 E. Mulberry\, San Antonio\, TX\, 78212\, United States
CATEGORIES:Home Page,Mulberry Campus Page
ATTACH;FMTTYPE=image/jpeg:https://www.trinitybaptist.org/wp-content/uploads/2023/02/DSC3475.jpg
GEO:29.4573879;-98.4877156
X-APPLE-STRUCTURED-LOCATION;VALUE=URI;X-ADDRESS=Trinity Baptist Church 319 E. Mulberry San Antonio TX 78212 United States;X-APPLE-RADIUS=500;X-TITLE=319 E. Mulberry:geo:-98.4877156,29.4573879
END:VEVENT
BEGIN:VEVENT
DTSTART;TZID=America/Chicago:20270808T090000
DTEND;TZID=America/Chicago:20270808T100000
DTSTAMP:20260421T214405
CREATED:20230204T162149Z
LAST-MODIFIED:20260122T221124Z
UID:10000238-1817715600-1817719200@www.trinitybaptist.org
SUMMARY:Sunday Worship at Mulberry
DESCRIPTION:  \nWorship at Mulberry \n\n9:00 am Choir and Orchestra led worship\nChildcare provided for Birth-4 years
URL:https://www.trinitybaptist.org/event/sunday-worship-at-mulberry/2027-08-08/
LOCATION:Trinity Baptist Church\, 319 E. Mulberry\, San Antonio\, TX\, 78212\, United States
CATEGORIES:Home Page,Mulberry Campus Page
ATTACH;FMTTYPE=image/jpeg:https://www.trinitybaptist.org/wp-content/uploads/2023/02/DSC3475.jpg
GEO:29.4573879;-98.4877156
X-APPLE-STRUCTURED-LOCATION;VALUE=URI;X-ADDRESS=Trinity Baptist Church 319 E. Mulberry San Antonio TX 78212 United States;X-APPLE-RADIUS=500;X-TITLE=319 E. Mulberry:geo:-98.4877156,29.4573879
END:VEVENT
BEGIN:VEVENT
DTSTART;TZID=America/Chicago:20270815T090000
DTEND;TZID=America/Chicago:20270815T100000
DTSTAMP:20260421T214405
CREATED:20230204T162149Z
LAST-MODIFIED:20260122T221124Z
UID:10000239-1818320400-1818324000@www.trinitybaptist.org
SUMMARY:Sunday Worship at Mulberry
DESCRIPTION:  \nWorship at Mulberry \n\n9:00 am Choir and Orchestra led worship\nChildcare provided for Birth-4 years
URL:https://www.trinitybaptist.org/event/sunday-worship-at-mulberry/2027-08-15/
LOCATION:Trinity Baptist Church\, 319 E. Mulberry\, San Antonio\, TX\, 78212\, United States
CATEGORIES:Home Page,Mulberry Campus Page
ATTACH;FMTTYPE=image/jpeg:https://www.trinitybaptist.org/wp-content/uploads/2023/02/DSC3475.jpg
GEO:29.4573879;-98.4877156
X-APPLE-STRUCTURED-LOCATION;VALUE=URI;X-ADDRESS=Trinity Baptist Church 319 E. Mulberry San Antonio TX 78212 United States;X-APPLE-RADIUS=500;X-TITLE=319 E. Mulberry:geo:-98.4877156,29.4573879
END:VEVENT
BEGIN:VEVENT
DTSTART;TZID=America/Chicago:20270822T090000
DTEND;TZID=America/Chicago:20270822T100000
DTSTAMP:20260421T214405
CREATED:20230204T162149Z
LAST-MODIFIED:20260122T221124Z
UID:10000240-1818925200-1818928800@www.trinitybaptist.org
SUMMARY:Sunday Worship at Mulberry
DESCRIPTION:  \nWorship at Mulberry \n\n9:00 am Choir and Orchestra led worship\nChildcare provided for Birth-4 years
URL:https://www.trinitybaptist.org/event/sunday-worship-at-mulberry/2027-08-22/
LOCATION:Trinity Baptist Church\, 319 E. Mulberry\, San Antonio\, TX\, 78212\, United States
CATEGORIES:Home Page,Mulberry Campus Page
ATTACH;FMTTYPE=image/jpeg:https://www.trinitybaptist.org/wp-content/uploads/2023/02/DSC3475.jpg
GEO:29.4573879;-98.4877156
X-APPLE-STRUCTURED-LOCATION;VALUE=URI;X-ADDRESS=Trinity Baptist Church 319 E. Mulberry San Antonio TX 78212 United States;X-APPLE-RADIUS=500;X-TITLE=319 E. Mulberry:geo:-98.4877156,29.4573879
END:VEVENT
BEGIN:VEVENT
DTSTART;TZID=America/Chicago:20270829T090000
DTEND;TZID=America/Chicago:20270829T100000
DTSTAMP:20260421T214405
CREATED:20230204T162149Z
LAST-MODIFIED:20260122T221124Z
UID:10000241-1819530000-1819533600@www.trinitybaptist.org
SUMMARY:Sunday Worship at Mulberry
DESCRIPTION:  \nWorship at Mulberry \n\n9:00 am Choir and Orchestra led worship\nChildcare provided for Birth-4 years
URL:https://www.trinitybaptist.org/event/sunday-worship-at-mulberry/2027-08-29/
LOCATION:Trinity Baptist Church\, 319 E. Mulberry\, San Antonio\, TX\, 78212\, United States
CATEGORIES:Home Page,Mulberry Campus Page
ATTACH;FMTTYPE=image/jpeg:https://www.trinitybaptist.org/wp-content/uploads/2023/02/DSC3475.jpg
GEO:29.4573879;-98.4877156
X-APPLE-STRUCTURED-LOCATION;VALUE=URI;X-ADDRESS=Trinity Baptist Church 319 E. Mulberry San Antonio TX 78212 United States;X-APPLE-RADIUS=500;X-TITLE=319 E. Mulberry:geo:-98.4877156,29.4573879
END:VEVENT
BEGIN:VEVENT
DTSTART;TZID=America/Chicago:20270905T090000
DTEND;TZID=America/Chicago:20270905T100000
DTSTAMP:20260421T214405
CREATED:20230204T162149Z
LAST-MODIFIED:20260122T221124Z
UID:10000242-1820134800-1820138400@www.trinitybaptist.org
SUMMARY:Sunday Worship at Mulberry
DESCRIPTION:  \nWorship at Mulberry \n\n9:00 am Choir and Orchestra led worship\nChildcare provided for Birth-4 years
URL:https://www.trinitybaptist.org/event/sunday-worship-at-mulberry/2027-09-05/
LOCATION:Trinity Baptist Church\, 319 E. Mulberry\, San Antonio\, TX\, 78212\, United States
CATEGORIES:Home Page,Mulberry Campus Page
ATTACH;FMTTYPE=image/jpeg:https://www.trinitybaptist.org/wp-content/uploads/2023/02/DSC3475.jpg
GEO:29.4573879;-98.4877156
X-APPLE-STRUCTURED-LOCATION;VALUE=URI;X-ADDRESS=Trinity Baptist Church 319 E. Mulberry San Antonio TX 78212 United States;X-APPLE-RADIUS=500;X-TITLE=319 E. Mulberry:geo:-98.4877156,29.4573879
END:VEVENT
BEGIN:VEVENT
DTSTART;TZID=America/Chicago:20270912T090000
DTEND;TZID=America/Chicago:20270912T100000
DTSTAMP:20260421T214405
CREATED:20230204T162149Z
LAST-MODIFIED:20260122T221124Z
UID:10000243-1820739600-1820743200@www.trinitybaptist.org
SUMMARY:Sunday Worship at Mulberry
DESCRIPTION:  \nWorship at Mulberry \n\n9:00 am Choir and Orchestra led worship\nChildcare provided for Birth-4 years
URL:https://www.trinitybaptist.org/event/sunday-worship-at-mulberry/2027-09-12/
LOCATION:Trinity Baptist Church\, 319 E. Mulberry\, San Antonio\, TX\, 78212\, United States
CATEGORIES:Home Page,Mulberry Campus Page
ATTACH;FMTTYPE=image/jpeg:https://www.trinitybaptist.org/wp-content/uploads/2023/02/DSC3475.jpg
GEO:29.4573879;-98.4877156
X-APPLE-STRUCTURED-LOCATION;VALUE=URI;X-ADDRESS=Trinity Baptist Church 319 E. Mulberry San Antonio TX 78212 United States;X-APPLE-RADIUS=500;X-TITLE=319 E. Mulberry:geo:-98.4877156,29.4573879
END:VEVENT
BEGIN:VEVENT
DTSTART;TZID=America/Chicago:20270919T090000
DTEND;TZID=America/Chicago:20270919T100000
DTSTAMP:20260421T214405
CREATED:20230204T162149Z
LAST-MODIFIED:20260122T221124Z
UID:10000244-1821344400-1821348000@www.trinitybaptist.org
SUMMARY:Sunday Worship at Mulberry
DESCRIPTION:  \nWorship at Mulberry \n\n9:00 am Choir and Orchestra led worship\nChildcare provided for Birth-4 years
URL:https://www.trinitybaptist.org/event/sunday-worship-at-mulberry/2027-09-19/
LOCATION:Trinity Baptist Church\, 319 E. Mulberry\, San Antonio\, TX\, 78212\, United States
CATEGORIES:Home Page,Mulberry Campus Page
ATTACH;FMTTYPE=image/jpeg:https://www.trinitybaptist.org/wp-content/uploads/2023/02/DSC3475.jpg
GEO:29.4573879;-98.4877156
X-APPLE-STRUCTURED-LOCATION;VALUE=URI;X-ADDRESS=Trinity Baptist Church 319 E. Mulberry San Antonio TX 78212 United States;X-APPLE-RADIUS=500;X-TITLE=319 E. Mulberry:geo:-98.4877156,29.4573879
END:VEVENT
BEGIN:VEVENT
DTSTART;TZID=America/Chicago:20270926T090000
DTEND;TZID=America/Chicago:20270926T100000
DTSTAMP:20260421T214405
CREATED:20230204T162149Z
LAST-MODIFIED:20260122T221124Z
UID:10000245-1821949200-1821952800@www.trinitybaptist.org
SUMMARY:Sunday Worship at Mulberry
DESCRIPTION:  \nWorship at Mulberry \n\n9:00 am Choir and Orchestra led worship\nChildcare provided for Birth-4 years
URL:https://www.trinitybaptist.org/event/sunday-worship-at-mulberry/2027-09-26/
LOCATION:Trinity Baptist Church\, 319 E. Mulberry\, San Antonio\, TX\, 78212\, United States
CATEGORIES:Home Page,Mulberry Campus Page
ATTACH;FMTTYPE=image/jpeg:https://www.trinitybaptist.org/wp-content/uploads/2023/02/DSC3475.jpg
GEO:29.4573879;-98.4877156
X-APPLE-STRUCTURED-LOCATION;VALUE=URI;X-ADDRESS=Trinity Baptist Church 319 E. Mulberry San Antonio TX 78212 United States;X-APPLE-RADIUS=500;X-TITLE=319 E. Mulberry:geo:-98.4877156,29.4573879
END:VEVENT
BEGIN:VEVENT
DTSTART;TZID=America/Chicago:20271003T090000
DTEND;TZID=America/Chicago:20271003T100000
DTSTAMP:20260421T214405
CREATED:20230204T162149Z
LAST-MODIFIED:20260122T221124Z
UID:10000246-1822554000-1822557600@www.trinitybaptist.org
SUMMARY:Sunday Worship at Mulberry
DESCRIPTION:  \nWorship at Mulberry \n\n9:00 am Choir and Orchestra led worship\nChildcare provided for Birth-4 years
URL:https://www.trinitybaptist.org/event/sunday-worship-at-mulberry/2027-10-03/
LOCATION:Trinity Baptist Church\, 319 E. Mulberry\, San Antonio\, TX\, 78212\, United States
CATEGORIES:Home Page,Mulberry Campus Page
ATTACH;FMTTYPE=image/jpeg:https://www.trinitybaptist.org/wp-content/uploads/2023/02/DSC3475.jpg
GEO:29.4573879;-98.4877156
X-APPLE-STRUCTURED-LOCATION;VALUE=URI;X-ADDRESS=Trinity Baptist Church 319 E. Mulberry San Antonio TX 78212 United States;X-APPLE-RADIUS=500;X-TITLE=319 E. Mulberry:geo:-98.4877156,29.4573879
END:VEVENT
BEGIN:VEVENT
DTSTART;TZID=America/Chicago:20271010T090000
DTEND;TZID=America/Chicago:20271010T100000
DTSTAMP:20260421T214405
CREATED:20230204T162149Z
LAST-MODIFIED:20260122T221124Z
UID:10000247-1823158800-1823162400@www.trinitybaptist.org
SUMMARY:Sunday Worship at Mulberry
DESCRIPTION:  \nWorship at Mulberry \n\n9:00 am Choir and Orchestra led worship\nChildcare provided for Birth-4 years
URL:https://www.trinitybaptist.org/event/sunday-worship-at-mulberry/2027-10-10/
LOCATION:Trinity Baptist Church\, 319 E. Mulberry\, San Antonio\, TX\, 78212\, United States
CATEGORIES:Home Page,Mulberry Campus Page
ATTACH;FMTTYPE=image/jpeg:https://www.trinitybaptist.org/wp-content/uploads/2023/02/DSC3475.jpg
GEO:29.4573879;-98.4877156
X-APPLE-STRUCTURED-LOCATION;VALUE=URI;X-ADDRESS=Trinity Baptist Church 319 E. Mulberry San Antonio TX 78212 United States;X-APPLE-RADIUS=500;X-TITLE=319 E. Mulberry:geo:-98.4877156,29.4573879
END:VEVENT
BEGIN:VEVENT
DTSTART;TZID=America/Chicago:20271017T090000
DTEND;TZID=America/Chicago:20271017T100000
DTSTAMP:20260421T214405
CREATED:20230204T162149Z
LAST-MODIFIED:20260122T221124Z
UID:10000248-1823763600-1823767200@www.trinitybaptist.org
SUMMARY:Sunday Worship at Mulberry
DESCRIPTION:  \nWorship at Mulberry \n\n9:00 am Choir and Orchestra led worship\nChildcare provided for Birth-4 years
URL:https://www.trinitybaptist.org/event/sunday-worship-at-mulberry/2027-10-17/
LOCATION:Trinity Baptist Church\, 319 E. Mulberry\, San Antonio\, TX\, 78212\, United States
CATEGORIES:Home Page,Mulberry Campus Page
ATTACH;FMTTYPE=image/jpeg:https://www.trinitybaptist.org/wp-content/uploads/2023/02/DSC3475.jpg
GEO:29.4573879;-98.4877156
X-APPLE-STRUCTURED-LOCATION;VALUE=URI;X-ADDRESS=Trinity Baptist Church 319 E. Mulberry San Antonio TX 78212 United States;X-APPLE-RADIUS=500;X-TITLE=319 E. Mulberry:geo:-98.4877156,29.4573879
END:VEVENT
END:VCALENDAR