BEGIN:VCALENDAR
VERSION:2.0
PRODID:-//Trinity Baptist Church in San Antonio, TX - ECPv6.5.0//NONSGML v1.0//EN
CALSCALE:GREGORIAN
METHOD:PUBLISH
X-WR-CALNAME:Trinity Baptist Church in San Antonio, TX
X-ORIGINAL-URL:https://www.trinitybaptist.org
X-WR-CALDESC:Events for Trinity Baptist Church in San Antonio, TX
REFRESH-INTERVAL;VALUE=DURATION:PT1H
X-Robots-Tag:noindex
X-PUBLISHED-TTL:PT1H
BEGIN:VTIMEZONE
TZID:America/Chicago
BEGIN:DAYLIGHT
TZOFFSETFROM:-0600
TZOFFSETTO:-0500
TZNAME:CDT
DTSTART:20260308T080000
END:DAYLIGHT
BEGIN:STANDARD
TZOFFSETFROM:-0500
TZOFFSETTO:-0600
TZNAME:CST
DTSTART:20261101T070000
END:STANDARD
BEGIN:DAYLIGHT
TZOFFSETFROM:-0600
TZOFFSETTO:-0500
TZNAME:CDT
DTSTART:20270314T080000
END:DAYLIGHT
BEGIN:STANDARD
TZOFFSETFROM:-0500
TZOFFSETTO:-0600
TZNAME:CST
DTSTART:20271107T070000
END:STANDARD
END:VTIMEZONE
BEGIN:VEVENT
DTSTART;TZID=America/Chicago:20261011T090000
DTEND;TZID=America/Chicago:20261011T100000
DTSTAMP:20260420T002758
CREATED:20230204T162149Z
LAST-MODIFIED:20260122T221124Z
UID:10000195-1791709200-1791712800@www.trinitybaptist.org
SUMMARY:Sunday Worship at Mulberry
DESCRIPTION:  \nWorship at Mulberry \n\n9:00 am Choir and Orchestra led worship\nChildcare provided for Birth-4 years
URL:https://www.trinitybaptist.org/event/sunday-worship-at-mulberry/2026-10-11/
LOCATION:Trinity Baptist Church\, 319 E. Mulberry\, San Antonio\, TX\, 78212\, United States
CATEGORIES:Home Page,Mulberry Campus Page
ATTACH;FMTTYPE=image/jpeg:https://www.trinitybaptist.org/wp-content/uploads/2023/02/DSC3475.jpg
GEO:29.4573879;-98.4877156
X-APPLE-STRUCTURED-LOCATION;VALUE=URI;X-ADDRESS=Trinity Baptist Church 319 E. Mulberry San Antonio TX 78212 United States;X-APPLE-RADIUS=500;X-TITLE=319 E. Mulberry:geo:-98.4877156,29.4573879
END:VEVENT
BEGIN:VEVENT
DTSTART;TZID=America/Chicago:20261018T090000
DTEND;TZID=America/Chicago:20261018T100000
DTSTAMP:20260420T002758
CREATED:20230204T162149Z
LAST-MODIFIED:20260122T221124Z
UID:10000196-1792314000-1792317600@www.trinitybaptist.org
SUMMARY:Sunday Worship at Mulberry
DESCRIPTION:  \nWorship at Mulberry \n\n9:00 am Choir and Orchestra led worship\nChildcare provided for Birth-4 years
URL:https://www.trinitybaptist.org/event/sunday-worship-at-mulberry/2026-10-18/
LOCATION:Trinity Baptist Church\, 319 E. Mulberry\, San Antonio\, TX\, 78212\, United States
CATEGORIES:Home Page,Mulberry Campus Page
ATTACH;FMTTYPE=image/jpeg:https://www.trinitybaptist.org/wp-content/uploads/2023/02/DSC3475.jpg
GEO:29.4573879;-98.4877156
X-APPLE-STRUCTURED-LOCATION;VALUE=URI;X-ADDRESS=Trinity Baptist Church 319 E. Mulberry San Antonio TX 78212 United States;X-APPLE-RADIUS=500;X-TITLE=319 E. Mulberry:geo:-98.4877156,29.4573879
END:VEVENT
BEGIN:VEVENT
DTSTART;TZID=America/Chicago:20261025T090000
DTEND;TZID=America/Chicago:20261025T100000
DTSTAMP:20260420T002758
CREATED:20230204T162149Z
LAST-MODIFIED:20260122T221124Z
UID:10000197-1792918800-1792922400@www.trinitybaptist.org
SUMMARY:Sunday Worship at Mulberry
DESCRIPTION:  \nWorship at Mulberry \n\n9:00 am Choir and Orchestra led worship\nChildcare provided for Birth-4 years
URL:https://www.trinitybaptist.org/event/sunday-worship-at-mulberry/2026-10-25/
LOCATION:Trinity Baptist Church\, 319 E. Mulberry\, San Antonio\, TX\, 78212\, United States
CATEGORIES:Home Page,Mulberry Campus Page
ATTACH;FMTTYPE=image/jpeg:https://www.trinitybaptist.org/wp-content/uploads/2023/02/DSC3475.jpg
GEO:29.4573879;-98.4877156
X-APPLE-STRUCTURED-LOCATION;VALUE=URI;X-ADDRESS=Trinity Baptist Church 319 E. Mulberry San Antonio TX 78212 United States;X-APPLE-RADIUS=500;X-TITLE=319 E. Mulberry:geo:-98.4877156,29.4573879
END:VEVENT
BEGIN:VEVENT
DTSTART;TZID=America/Chicago:20261101T090000
DTEND;TZID=America/Chicago:20261101T100000
DTSTAMP:20260420T002758
CREATED:20230204T162149Z
LAST-MODIFIED:20260122T221124Z
UID:10000198-1793523600-1793527200@www.trinitybaptist.org
SUMMARY:Sunday Worship at Mulberry
DESCRIPTION:  \nWorship at Mulberry \n\n9:00 am Choir and Orchestra led worship\nChildcare provided for Birth-4 years
URL:https://www.trinitybaptist.org/event/sunday-worship-at-mulberry/2026-11-01/
LOCATION:Trinity Baptist Church\, 319 E. Mulberry\, San Antonio\, TX\, 78212\, United States
CATEGORIES:Home Page,Mulberry Campus Page
ATTACH;FMTTYPE=image/jpeg:https://www.trinitybaptist.org/wp-content/uploads/2023/02/DSC3475.jpg
GEO:29.4573879;-98.4877156
X-APPLE-STRUCTURED-LOCATION;VALUE=URI;X-ADDRESS=Trinity Baptist Church 319 E. Mulberry San Antonio TX 78212 United States;X-APPLE-RADIUS=500;X-TITLE=319 E. Mulberry:geo:-98.4877156,29.4573879
END:VEVENT
BEGIN:VEVENT
DTSTART;TZID=America/Chicago:20261108T090000
DTEND;TZID=America/Chicago:20261108T100000
DTSTAMP:20260420T002758
CREATED:20230204T162149Z
LAST-MODIFIED:20260122T221124Z
UID:10000199-1794128400-1794132000@www.trinitybaptist.org
SUMMARY:Sunday Worship at Mulberry
DESCRIPTION:  \nWorship at Mulberry \n\n9:00 am Choir and Orchestra led worship\nChildcare provided for Birth-4 years
URL:https://www.trinitybaptist.org/event/sunday-worship-at-mulberry/2026-11-08/
LOCATION:Trinity Baptist Church\, 319 E. Mulberry\, San Antonio\, TX\, 78212\, United States
CATEGORIES:Home Page,Mulberry Campus Page
ATTACH;FMTTYPE=image/jpeg:https://www.trinitybaptist.org/wp-content/uploads/2023/02/DSC3475.jpg
GEO:29.4573879;-98.4877156
X-APPLE-STRUCTURED-LOCATION;VALUE=URI;X-ADDRESS=Trinity Baptist Church 319 E. Mulberry San Antonio TX 78212 United States;X-APPLE-RADIUS=500;X-TITLE=319 E. Mulberry:geo:-98.4877156,29.4573879
END:VEVENT
BEGIN:VEVENT
DTSTART;TZID=America/Chicago:20261115T090000
DTEND;TZID=America/Chicago:20261115T100000
DTSTAMP:20260420T002758
CREATED:20230204T162149Z
LAST-MODIFIED:20260122T221124Z
UID:10000200-1794733200-1794736800@www.trinitybaptist.org
SUMMARY:Sunday Worship at Mulberry
DESCRIPTION:  \nWorship at Mulberry \n\n9:00 am Choir and Orchestra led worship\nChildcare provided for Birth-4 years
URL:https://www.trinitybaptist.org/event/sunday-worship-at-mulberry/2026-11-15/
LOCATION:Trinity Baptist Church\, 319 E. Mulberry\, San Antonio\, TX\, 78212\, United States
CATEGORIES:Home Page,Mulberry Campus Page
ATTACH;FMTTYPE=image/jpeg:https://www.trinitybaptist.org/wp-content/uploads/2023/02/DSC3475.jpg
GEO:29.4573879;-98.4877156
X-APPLE-STRUCTURED-LOCATION;VALUE=URI;X-ADDRESS=Trinity Baptist Church 319 E. Mulberry San Antonio TX 78212 United States;X-APPLE-RADIUS=500;X-TITLE=319 E. Mulberry:geo:-98.4877156,29.4573879
END:VEVENT
BEGIN:VEVENT
DTSTART;TZID=America/Chicago:20261122T090000
DTEND;TZID=America/Chicago:20261122T100000
DTSTAMP:20260420T002758
CREATED:20230204T162149Z
LAST-MODIFIED:20260122T221124Z
UID:10000201-1795338000-1795341600@www.trinitybaptist.org
SUMMARY:Sunday Worship at Mulberry
DESCRIPTION:  \nWorship at Mulberry \n\n9:00 am Choir and Orchestra led worship\nChildcare provided for Birth-4 years
URL:https://www.trinitybaptist.org/event/sunday-worship-at-mulberry/2026-11-22/
LOCATION:Trinity Baptist Church\, 319 E. Mulberry\, San Antonio\, TX\, 78212\, United States
CATEGORIES:Home Page,Mulberry Campus Page
ATTACH;FMTTYPE=image/jpeg:https://www.trinitybaptist.org/wp-content/uploads/2023/02/DSC3475.jpg
GEO:29.4573879;-98.4877156
X-APPLE-STRUCTURED-LOCATION;VALUE=URI;X-ADDRESS=Trinity Baptist Church 319 E. Mulberry San Antonio TX 78212 United States;X-APPLE-RADIUS=500;X-TITLE=319 E. Mulberry:geo:-98.4877156,29.4573879
END:VEVENT
BEGIN:VEVENT
DTSTART;TZID=America/Chicago:20261129T090000
DTEND;TZID=America/Chicago:20261129T100000
DTSTAMP:20260420T002758
CREATED:20230204T162149Z
LAST-MODIFIED:20260122T221124Z
UID:10000202-1795942800-1795946400@www.trinitybaptist.org
SUMMARY:Sunday Worship at Mulberry
DESCRIPTION:  \nWorship at Mulberry \n\n9:00 am Choir and Orchestra led worship\nChildcare provided for Birth-4 years
URL:https://www.trinitybaptist.org/event/sunday-worship-at-mulberry/2026-11-29/
LOCATION:Trinity Baptist Church\, 319 E. Mulberry\, San Antonio\, TX\, 78212\, United States
CATEGORIES:Home Page,Mulberry Campus Page
ATTACH;FMTTYPE=image/jpeg:https://www.trinitybaptist.org/wp-content/uploads/2023/02/DSC3475.jpg
GEO:29.4573879;-98.4877156
X-APPLE-STRUCTURED-LOCATION;VALUE=URI;X-ADDRESS=Trinity Baptist Church 319 E. Mulberry San Antonio TX 78212 United States;X-APPLE-RADIUS=500;X-TITLE=319 E. Mulberry:geo:-98.4877156,29.4573879
END:VEVENT
BEGIN:VEVENT
DTSTART;TZID=America/Chicago:20261206T090000
DTEND;TZID=America/Chicago:20261206T100000
DTSTAMP:20260420T002758
CREATED:20230204T162149Z
LAST-MODIFIED:20260122T221124Z
UID:10000203-1796547600-1796551200@www.trinitybaptist.org
SUMMARY:Sunday Worship at Mulberry
DESCRIPTION:  \nWorship at Mulberry \n\n9:00 am Choir and Orchestra led worship\nChildcare provided for Birth-4 years
URL:https://www.trinitybaptist.org/event/sunday-worship-at-mulberry/2026-12-06/
LOCATION:Trinity Baptist Church\, 319 E. Mulberry\, San Antonio\, TX\, 78212\, United States
CATEGORIES:Home Page,Mulberry Campus Page
ATTACH;FMTTYPE=image/jpeg:https://www.trinitybaptist.org/wp-content/uploads/2023/02/DSC3475.jpg
GEO:29.4573879;-98.4877156
X-APPLE-STRUCTURED-LOCATION;VALUE=URI;X-ADDRESS=Trinity Baptist Church 319 E. Mulberry San Antonio TX 78212 United States;X-APPLE-RADIUS=500;X-TITLE=319 E. Mulberry:geo:-98.4877156,29.4573879
END:VEVENT
BEGIN:VEVENT
DTSTART;TZID=America/Chicago:20261213T090000
DTEND;TZID=America/Chicago:20261213T100000
DTSTAMP:20260420T002758
CREATED:20230204T162149Z
LAST-MODIFIED:20260122T221124Z
UID:10000204-1797152400-1797156000@www.trinitybaptist.org
SUMMARY:Sunday Worship at Mulberry
DESCRIPTION:  \nWorship at Mulberry \n\n9:00 am Choir and Orchestra led worship\nChildcare provided for Birth-4 years
URL:https://www.trinitybaptist.org/event/sunday-worship-at-mulberry/2026-12-13/
LOCATION:Trinity Baptist Church\, 319 E. Mulberry\, San Antonio\, TX\, 78212\, United States
CATEGORIES:Home Page,Mulberry Campus Page
ATTACH;FMTTYPE=image/jpeg:https://www.trinitybaptist.org/wp-content/uploads/2023/02/DSC3475.jpg
GEO:29.4573879;-98.4877156
X-APPLE-STRUCTURED-LOCATION;VALUE=URI;X-ADDRESS=Trinity Baptist Church 319 E. Mulberry San Antonio TX 78212 United States;X-APPLE-RADIUS=500;X-TITLE=319 E. Mulberry:geo:-98.4877156,29.4573879
END:VEVENT
BEGIN:VEVENT
DTSTART;TZID=America/Chicago:20261220T090000
DTEND;TZID=America/Chicago:20261220T100000
DTSTAMP:20260420T002758
CREATED:20230204T162149Z
LAST-MODIFIED:20260122T221124Z
UID:10000205-1797757200-1797760800@www.trinitybaptist.org
SUMMARY:Sunday Worship at Mulberry
DESCRIPTION:  \nWorship at Mulberry \n\n9:00 am Choir and Orchestra led worship\nChildcare provided for Birth-4 years
URL:https://www.trinitybaptist.org/event/sunday-worship-at-mulberry/2026-12-20/
LOCATION:Trinity Baptist Church\, 319 E. Mulberry\, San Antonio\, TX\, 78212\, United States
CATEGORIES:Home Page,Mulberry Campus Page
ATTACH;FMTTYPE=image/jpeg:https://www.trinitybaptist.org/wp-content/uploads/2023/02/DSC3475.jpg
GEO:29.4573879;-98.4877156
X-APPLE-STRUCTURED-LOCATION;VALUE=URI;X-ADDRESS=Trinity Baptist Church 319 E. Mulberry San Antonio TX 78212 United States;X-APPLE-RADIUS=500;X-TITLE=319 E. Mulberry:geo:-98.4877156,29.4573879
END:VEVENT
BEGIN:VEVENT
DTSTART;TZID=America/Chicago:20261227T090000
DTEND;TZID=America/Chicago:20261227T100000
DTSTAMP:20260420T002758
CREATED:20230204T162149Z
LAST-MODIFIED:20260122T221124Z
UID:10000206-1798362000-1798365600@www.trinitybaptist.org
SUMMARY:Sunday Worship at Mulberry
DESCRIPTION:  \nWorship at Mulberry \n\n9:00 am Choir and Orchestra led worship\nChildcare provided for Birth-4 years
URL:https://www.trinitybaptist.org/event/sunday-worship-at-mulberry/2026-12-27/
LOCATION:Trinity Baptist Church\, 319 E. Mulberry\, San Antonio\, TX\, 78212\, United States
CATEGORIES:Home Page,Mulberry Campus Page
ATTACH;FMTTYPE=image/jpeg:https://www.trinitybaptist.org/wp-content/uploads/2023/02/DSC3475.jpg
GEO:29.4573879;-98.4877156
X-APPLE-STRUCTURED-LOCATION;VALUE=URI;X-ADDRESS=Trinity Baptist Church 319 E. Mulberry San Antonio TX 78212 United States;X-APPLE-RADIUS=500;X-TITLE=319 E. Mulberry:geo:-98.4877156,29.4573879
END:VEVENT
BEGIN:VEVENT
DTSTART;TZID=America/Chicago:20270103T090000
DTEND;TZID=America/Chicago:20270103T100000
DTSTAMP:20260420T002758
CREATED:20230204T162149Z
LAST-MODIFIED:20260122T221124Z
UID:10000207-1798966800-1798970400@www.trinitybaptist.org
SUMMARY:Sunday Worship at Mulberry
DESCRIPTION:  \nWorship at Mulberry \n\n9:00 am Choir and Orchestra led worship\nChildcare provided for Birth-4 years
URL:https://www.trinitybaptist.org/event/sunday-worship-at-mulberry/2027-01-03/
LOCATION:Trinity Baptist Church\, 319 E. Mulberry\, San Antonio\, TX\, 78212\, United States
CATEGORIES:Home Page,Mulberry Campus Page
ATTACH;FMTTYPE=image/jpeg:https://www.trinitybaptist.org/wp-content/uploads/2023/02/DSC3475.jpg
GEO:29.4573879;-98.4877156
X-APPLE-STRUCTURED-LOCATION;VALUE=URI;X-ADDRESS=Trinity Baptist Church 319 E. Mulberry San Antonio TX 78212 United States;X-APPLE-RADIUS=500;X-TITLE=319 E. Mulberry:geo:-98.4877156,29.4573879
END:VEVENT
BEGIN:VEVENT
DTSTART;TZID=America/Chicago:20270110T090000
DTEND;TZID=America/Chicago:20270110T100000
DTSTAMP:20260420T002758
CREATED:20230204T162149Z
LAST-MODIFIED:20260122T221124Z
UID:10000208-1799571600-1799575200@www.trinitybaptist.org
SUMMARY:Sunday Worship at Mulberry
DESCRIPTION:  \nWorship at Mulberry \n\n9:00 am Choir and Orchestra led worship\nChildcare provided for Birth-4 years
URL:https://www.trinitybaptist.org/event/sunday-worship-at-mulberry/2027-01-10/
LOCATION:Trinity Baptist Church\, 319 E. Mulberry\, San Antonio\, TX\, 78212\, United States
CATEGORIES:Home Page,Mulberry Campus Page
ATTACH;FMTTYPE=image/jpeg:https://www.trinitybaptist.org/wp-content/uploads/2023/02/DSC3475.jpg
GEO:29.4573879;-98.4877156
X-APPLE-STRUCTURED-LOCATION;VALUE=URI;X-ADDRESS=Trinity Baptist Church 319 E. Mulberry San Antonio TX 78212 United States;X-APPLE-RADIUS=500;X-TITLE=319 E. Mulberry:geo:-98.4877156,29.4573879
END:VEVENT
BEGIN:VEVENT
DTSTART;TZID=America/Chicago:20270117T090000
DTEND;TZID=America/Chicago:20270117T100000
DTSTAMP:20260420T002758
CREATED:20230204T162149Z
LAST-MODIFIED:20260122T221124Z
UID:10000209-1800176400-1800180000@www.trinitybaptist.org
SUMMARY:Sunday Worship at Mulberry
DESCRIPTION:  \nWorship at Mulberry \n\n9:00 am Choir and Orchestra led worship\nChildcare provided for Birth-4 years
URL:https://www.trinitybaptist.org/event/sunday-worship-at-mulberry/2027-01-17/
LOCATION:Trinity Baptist Church\, 319 E. Mulberry\, San Antonio\, TX\, 78212\, United States
CATEGORIES:Home Page,Mulberry Campus Page
ATTACH;FMTTYPE=image/jpeg:https://www.trinitybaptist.org/wp-content/uploads/2023/02/DSC3475.jpg
GEO:29.4573879;-98.4877156
X-APPLE-STRUCTURED-LOCATION;VALUE=URI;X-ADDRESS=Trinity Baptist Church 319 E. Mulberry San Antonio TX 78212 United States;X-APPLE-RADIUS=500;X-TITLE=319 E. Mulberry:geo:-98.4877156,29.4573879
END:VEVENT
BEGIN:VEVENT
DTSTART;TZID=America/Chicago:20270124T090000
DTEND;TZID=America/Chicago:20270124T100000
DTSTAMP:20260420T002758
CREATED:20230204T162149Z
LAST-MODIFIED:20260122T221124Z
UID:10000210-1800781200-1800784800@www.trinitybaptist.org
SUMMARY:Sunday Worship at Mulberry
DESCRIPTION:  \nWorship at Mulberry \n\n9:00 am Choir and Orchestra led worship\nChildcare provided for Birth-4 years
URL:https://www.trinitybaptist.org/event/sunday-worship-at-mulberry/2027-01-24/
LOCATION:Trinity Baptist Church\, 319 E. Mulberry\, San Antonio\, TX\, 78212\, United States
CATEGORIES:Home Page,Mulberry Campus Page
ATTACH;FMTTYPE=image/jpeg:https://www.trinitybaptist.org/wp-content/uploads/2023/02/DSC3475.jpg
GEO:29.4573879;-98.4877156
X-APPLE-STRUCTURED-LOCATION;VALUE=URI;X-ADDRESS=Trinity Baptist Church 319 E. Mulberry San Antonio TX 78212 United States;X-APPLE-RADIUS=500;X-TITLE=319 E. Mulberry:geo:-98.4877156,29.4573879
END:VEVENT
BEGIN:VEVENT
DTSTART;TZID=America/Chicago:20270131T090000
DTEND;TZID=America/Chicago:20270131T100000
DTSTAMP:20260420T002758
CREATED:20230204T162149Z
LAST-MODIFIED:20260122T221124Z
UID:10000211-1801386000-1801389600@www.trinitybaptist.org
SUMMARY:Sunday Worship at Mulberry
DESCRIPTION:  \nWorship at Mulberry \n\n9:00 am Choir and Orchestra led worship\nChildcare provided for Birth-4 years
URL:https://www.trinitybaptist.org/event/sunday-worship-at-mulberry/2027-01-31/
LOCATION:Trinity Baptist Church\, 319 E. Mulberry\, San Antonio\, TX\, 78212\, United States
CATEGORIES:Home Page,Mulberry Campus Page
ATTACH;FMTTYPE=image/jpeg:https://www.trinitybaptist.org/wp-content/uploads/2023/02/DSC3475.jpg
GEO:29.4573879;-98.4877156
X-APPLE-STRUCTURED-LOCATION;VALUE=URI;X-ADDRESS=Trinity Baptist Church 319 E. Mulberry San Antonio TX 78212 United States;X-APPLE-RADIUS=500;X-TITLE=319 E. Mulberry:geo:-98.4877156,29.4573879
END:VEVENT
BEGIN:VEVENT
DTSTART;TZID=America/Chicago:20270207T090000
DTEND;TZID=America/Chicago:20270207T100000
DTSTAMP:20260420T002758
CREATED:20230204T162149Z
LAST-MODIFIED:20260122T221124Z
UID:10000212-1801990800-1801994400@www.trinitybaptist.org
SUMMARY:Sunday Worship at Mulberry
DESCRIPTION:  \nWorship at Mulberry \n\n9:00 am Choir and Orchestra led worship\nChildcare provided for Birth-4 years
URL:https://www.trinitybaptist.org/event/sunday-worship-at-mulberry/2027-02-07/
LOCATION:Trinity Baptist Church\, 319 E. Mulberry\, San Antonio\, TX\, 78212\, United States
CATEGORIES:Home Page,Mulberry Campus Page
ATTACH;FMTTYPE=image/jpeg:https://www.trinitybaptist.org/wp-content/uploads/2023/02/DSC3475.jpg
GEO:29.4573879;-98.4877156
X-APPLE-STRUCTURED-LOCATION;VALUE=URI;X-ADDRESS=Trinity Baptist Church 319 E. Mulberry San Antonio TX 78212 United States;X-APPLE-RADIUS=500;X-TITLE=319 E. Mulberry:geo:-98.4877156,29.4573879
END:VEVENT
BEGIN:VEVENT
DTSTART;TZID=America/Chicago:20270214T090000
DTEND;TZID=America/Chicago:20270214T100000
DTSTAMP:20260420T002758
CREATED:20230204T162149Z
LAST-MODIFIED:20260122T221124Z
UID:10000213-1802595600-1802599200@www.trinitybaptist.org
SUMMARY:Sunday Worship at Mulberry
DESCRIPTION:  \nWorship at Mulberry \n\n9:00 am Choir and Orchestra led worship\nChildcare provided for Birth-4 years
URL:https://www.trinitybaptist.org/event/sunday-worship-at-mulberry/2027-02-14/
LOCATION:Trinity Baptist Church\, 319 E. Mulberry\, San Antonio\, TX\, 78212\, United States
CATEGORIES:Home Page,Mulberry Campus Page
ATTACH;FMTTYPE=image/jpeg:https://www.trinitybaptist.org/wp-content/uploads/2023/02/DSC3475.jpg
GEO:29.4573879;-98.4877156
X-APPLE-STRUCTURED-LOCATION;VALUE=URI;X-ADDRESS=Trinity Baptist Church 319 E. Mulberry San Antonio TX 78212 United States;X-APPLE-RADIUS=500;X-TITLE=319 E. Mulberry:geo:-98.4877156,29.4573879
END:VEVENT
BEGIN:VEVENT
DTSTART;TZID=America/Chicago:20270221T090000
DTEND;TZID=America/Chicago:20270221T100000
DTSTAMP:20260420T002758
CREATED:20230204T162149Z
LAST-MODIFIED:20260122T221124Z
UID:10000214-1803200400-1803204000@www.trinitybaptist.org
SUMMARY:Sunday Worship at Mulberry
DESCRIPTION:  \nWorship at Mulberry \n\n9:00 am Choir and Orchestra led worship\nChildcare provided for Birth-4 years
URL:https://www.trinitybaptist.org/event/sunday-worship-at-mulberry/2027-02-21/
LOCATION:Trinity Baptist Church\, 319 E. Mulberry\, San Antonio\, TX\, 78212\, United States
CATEGORIES:Home Page,Mulberry Campus Page
ATTACH;FMTTYPE=image/jpeg:https://www.trinitybaptist.org/wp-content/uploads/2023/02/DSC3475.jpg
GEO:29.4573879;-98.4877156
X-APPLE-STRUCTURED-LOCATION;VALUE=URI;X-ADDRESS=Trinity Baptist Church 319 E. Mulberry San Antonio TX 78212 United States;X-APPLE-RADIUS=500;X-TITLE=319 E. Mulberry:geo:-98.4877156,29.4573879
END:VEVENT
BEGIN:VEVENT
DTSTART;TZID=America/Chicago:20270228T090000
DTEND;TZID=America/Chicago:20270228T100000
DTSTAMP:20260420T002758
CREATED:20230204T162149Z
LAST-MODIFIED:20260122T221124Z
UID:10000215-1803805200-1803808800@www.trinitybaptist.org
SUMMARY:Sunday Worship at Mulberry
DESCRIPTION:  \nWorship at Mulberry \n\n9:00 am Choir and Orchestra led worship\nChildcare provided for Birth-4 years
URL:https://www.trinitybaptist.org/event/sunday-worship-at-mulberry/2027-02-28/
LOCATION:Trinity Baptist Church\, 319 E. Mulberry\, San Antonio\, TX\, 78212\, United States
CATEGORIES:Home Page,Mulberry Campus Page
ATTACH;FMTTYPE=image/jpeg:https://www.trinitybaptist.org/wp-content/uploads/2023/02/DSC3475.jpg
GEO:29.4573879;-98.4877156
X-APPLE-STRUCTURED-LOCATION;VALUE=URI;X-ADDRESS=Trinity Baptist Church 319 E. Mulberry San Antonio TX 78212 United States;X-APPLE-RADIUS=500;X-TITLE=319 E. Mulberry:geo:-98.4877156,29.4573879
END:VEVENT
BEGIN:VEVENT
DTSTART;TZID=America/Chicago:20270307T090000
DTEND;TZID=America/Chicago:20270307T100000
DTSTAMP:20260420T002758
CREATED:20230204T162149Z
LAST-MODIFIED:20260122T221124Z
UID:10000216-1804410000-1804413600@www.trinitybaptist.org
SUMMARY:Sunday Worship at Mulberry
DESCRIPTION:  \nWorship at Mulberry \n\n9:00 am Choir and Orchestra led worship\nChildcare provided for Birth-4 years
URL:https://www.trinitybaptist.org/event/sunday-worship-at-mulberry/2027-03-07/
LOCATION:Trinity Baptist Church\, 319 E. Mulberry\, San Antonio\, TX\, 78212\, United States
CATEGORIES:Home Page,Mulberry Campus Page
ATTACH;FMTTYPE=image/jpeg:https://www.trinitybaptist.org/wp-content/uploads/2023/02/DSC3475.jpg
GEO:29.4573879;-98.4877156
X-APPLE-STRUCTURED-LOCATION;VALUE=URI;X-ADDRESS=Trinity Baptist Church 319 E. Mulberry San Antonio TX 78212 United States;X-APPLE-RADIUS=500;X-TITLE=319 E. Mulberry:geo:-98.4877156,29.4573879
END:VEVENT
BEGIN:VEVENT
DTSTART;TZID=America/Chicago:20270314T090000
DTEND;TZID=America/Chicago:20270314T100000
DTSTAMP:20260420T002758
CREATED:20230204T162149Z
LAST-MODIFIED:20260122T221124Z
UID:10000217-1805014800-1805018400@www.trinitybaptist.org
SUMMARY:Sunday Worship at Mulberry
DESCRIPTION:  \nWorship at Mulberry \n\n9:00 am Choir and Orchestra led worship\nChildcare provided for Birth-4 years
URL:https://www.trinitybaptist.org/event/sunday-worship-at-mulberry/2027-03-14/
LOCATION:Trinity Baptist Church\, 319 E. Mulberry\, San Antonio\, TX\, 78212\, United States
CATEGORIES:Home Page,Mulberry Campus Page
ATTACH;FMTTYPE=image/jpeg:https://www.trinitybaptist.org/wp-content/uploads/2023/02/DSC3475.jpg
GEO:29.4573879;-98.4877156
X-APPLE-STRUCTURED-LOCATION;VALUE=URI;X-ADDRESS=Trinity Baptist Church 319 E. Mulberry San Antonio TX 78212 United States;X-APPLE-RADIUS=500;X-TITLE=319 E. Mulberry:geo:-98.4877156,29.4573879
END:VEVENT
BEGIN:VEVENT
DTSTART;TZID=America/Chicago:20270321T090000
DTEND;TZID=America/Chicago:20270321T100000
DTSTAMP:20260420T002758
CREATED:20230204T162149Z
LAST-MODIFIED:20260122T221124Z
UID:10000218-1805619600-1805623200@www.trinitybaptist.org
SUMMARY:Sunday Worship at Mulberry
DESCRIPTION:  \nWorship at Mulberry \n\n9:00 am Choir and Orchestra led worship\nChildcare provided for Birth-4 years
URL:https://www.trinitybaptist.org/event/sunday-worship-at-mulberry/2027-03-21/
LOCATION:Trinity Baptist Church\, 319 E. Mulberry\, San Antonio\, TX\, 78212\, United States
CATEGORIES:Home Page,Mulberry Campus Page
ATTACH;FMTTYPE=image/jpeg:https://www.trinitybaptist.org/wp-content/uploads/2023/02/DSC3475.jpg
GEO:29.4573879;-98.4877156
X-APPLE-STRUCTURED-LOCATION;VALUE=URI;X-ADDRESS=Trinity Baptist Church 319 E. Mulberry San Antonio TX 78212 United States;X-APPLE-RADIUS=500;X-TITLE=319 E. Mulberry:geo:-98.4877156,29.4573879
END:VEVENT
BEGIN:VEVENT
DTSTART;TZID=America/Chicago:20270328T090000
DTEND;TZID=America/Chicago:20270328T100000
DTSTAMP:20260420T002758
CREATED:20230204T162149Z
LAST-MODIFIED:20260122T221124Z
UID:10000219-1806224400-1806228000@www.trinitybaptist.org
SUMMARY:Sunday Worship at Mulberry
DESCRIPTION:  \nWorship at Mulberry \n\n9:00 am Choir and Orchestra led worship\nChildcare provided for Birth-4 years
URL:https://www.trinitybaptist.org/event/sunday-worship-at-mulberry/2027-03-28/
LOCATION:Trinity Baptist Church\, 319 E. Mulberry\, San Antonio\, TX\, 78212\, United States
CATEGORIES:Home Page,Mulberry Campus Page
ATTACH;FMTTYPE=image/jpeg:https://www.trinitybaptist.org/wp-content/uploads/2023/02/DSC3475.jpg
GEO:29.4573879;-98.4877156
X-APPLE-STRUCTURED-LOCATION;VALUE=URI;X-ADDRESS=Trinity Baptist Church 319 E. Mulberry San Antonio TX 78212 United States;X-APPLE-RADIUS=500;X-TITLE=319 E. Mulberry:geo:-98.4877156,29.4573879
END:VEVENT
BEGIN:VEVENT
DTSTART;TZID=America/Chicago:20270404T090000
DTEND;TZID=America/Chicago:20270404T100000
DTSTAMP:20260420T002758
CREATED:20230204T162149Z
LAST-MODIFIED:20260122T221124Z
UID:10000220-1806829200-1806832800@www.trinitybaptist.org
SUMMARY:Sunday Worship at Mulberry
DESCRIPTION:  \nWorship at Mulberry \n\n9:00 am Choir and Orchestra led worship\nChildcare provided for Birth-4 years
URL:https://www.trinitybaptist.org/event/sunday-worship-at-mulberry/2027-04-04/
LOCATION:Trinity Baptist Church\, 319 E. Mulberry\, San Antonio\, TX\, 78212\, United States
CATEGORIES:Home Page,Mulberry Campus Page
ATTACH;FMTTYPE=image/jpeg:https://www.trinitybaptist.org/wp-content/uploads/2023/02/DSC3475.jpg
GEO:29.4573879;-98.4877156
X-APPLE-STRUCTURED-LOCATION;VALUE=URI;X-ADDRESS=Trinity Baptist Church 319 E. Mulberry San Antonio TX 78212 United States;X-APPLE-RADIUS=500;X-TITLE=319 E. Mulberry:geo:-98.4877156,29.4573879
END:VEVENT
BEGIN:VEVENT
DTSTART;TZID=America/Chicago:20270411T090000
DTEND;TZID=America/Chicago:20270411T100000
DTSTAMP:20260420T002758
CREATED:20230204T162149Z
LAST-MODIFIED:20260122T221124Z
UID:10000221-1807434000-1807437600@www.trinitybaptist.org
SUMMARY:Sunday Worship at Mulberry
DESCRIPTION:  \nWorship at Mulberry \n\n9:00 am Choir and Orchestra led worship\nChildcare provided for Birth-4 years
URL:https://www.trinitybaptist.org/event/sunday-worship-at-mulberry/2027-04-11/
LOCATION:Trinity Baptist Church\, 319 E. Mulberry\, San Antonio\, TX\, 78212\, United States
CATEGORIES:Home Page,Mulberry Campus Page
ATTACH;FMTTYPE=image/jpeg:https://www.trinitybaptist.org/wp-content/uploads/2023/02/DSC3475.jpg
GEO:29.4573879;-98.4877156
X-APPLE-STRUCTURED-LOCATION;VALUE=URI;X-ADDRESS=Trinity Baptist Church 319 E. Mulberry San Antonio TX 78212 United States;X-APPLE-RADIUS=500;X-TITLE=319 E. Mulberry:geo:-98.4877156,29.4573879
END:VEVENT
BEGIN:VEVENT
DTSTART;TZID=America/Chicago:20270418T090000
DTEND;TZID=America/Chicago:20270418T100000
DTSTAMP:20260420T002758
CREATED:20230204T162149Z
LAST-MODIFIED:20260122T221124Z
UID:10000222-1808038800-1808042400@www.trinitybaptist.org
SUMMARY:Sunday Worship at Mulberry
DESCRIPTION:  \nWorship at Mulberry \n\n9:00 am Choir and Orchestra led worship\nChildcare provided for Birth-4 years
URL:https://www.trinitybaptist.org/event/sunday-worship-at-mulberry/2027-04-18/
LOCATION:Trinity Baptist Church\, 319 E. Mulberry\, San Antonio\, TX\, 78212\, United States
CATEGORIES:Home Page,Mulberry Campus Page
ATTACH;FMTTYPE=image/jpeg:https://www.trinitybaptist.org/wp-content/uploads/2023/02/DSC3475.jpg
GEO:29.4573879;-98.4877156
X-APPLE-STRUCTURED-LOCATION;VALUE=URI;X-ADDRESS=Trinity Baptist Church 319 E. Mulberry San Antonio TX 78212 United States;X-APPLE-RADIUS=500;X-TITLE=319 E. Mulberry:geo:-98.4877156,29.4573879
END:VEVENT
BEGIN:VEVENT
DTSTART;TZID=America/Chicago:20270425T090000
DTEND;TZID=America/Chicago:20270425T100000
DTSTAMP:20260420T002758
CREATED:20230204T162149Z
LAST-MODIFIED:20260122T221124Z
UID:10000223-1808643600-1808647200@www.trinitybaptist.org
SUMMARY:Sunday Worship at Mulberry
DESCRIPTION:  \nWorship at Mulberry \n\n9:00 am Choir and Orchestra led worship\nChildcare provided for Birth-4 years
URL:https://www.trinitybaptist.org/event/sunday-worship-at-mulberry/2027-04-25/
LOCATION:Trinity Baptist Church\, 319 E. Mulberry\, San Antonio\, TX\, 78212\, United States
CATEGORIES:Home Page,Mulberry Campus Page
ATTACH;FMTTYPE=image/jpeg:https://www.trinitybaptist.org/wp-content/uploads/2023/02/DSC3475.jpg
GEO:29.4573879;-98.4877156
X-APPLE-STRUCTURED-LOCATION;VALUE=URI;X-ADDRESS=Trinity Baptist Church 319 E. Mulberry San Antonio TX 78212 United States;X-APPLE-RADIUS=500;X-TITLE=319 E. Mulberry:geo:-98.4877156,29.4573879
END:VEVENT
BEGIN:VEVENT
DTSTART;TZID=America/Chicago:20270502T090000
DTEND;TZID=America/Chicago:20270502T100000
DTSTAMP:20260420T002758
CREATED:20230204T162149Z
LAST-MODIFIED:20260122T221124Z
UID:10000224-1809248400-1809252000@www.trinitybaptist.org
SUMMARY:Sunday Worship at Mulberry
DESCRIPTION:  \nWorship at Mulberry \n\n9:00 am Choir and Orchestra led worship\nChildcare provided for Birth-4 years
URL:https://www.trinitybaptist.org/event/sunday-worship-at-mulberry/2027-05-02/
LOCATION:Trinity Baptist Church\, 319 E. Mulberry\, San Antonio\, TX\, 78212\, United States
CATEGORIES:Home Page,Mulberry Campus Page
ATTACH;FMTTYPE=image/jpeg:https://www.trinitybaptist.org/wp-content/uploads/2023/02/DSC3475.jpg
GEO:29.4573879;-98.4877156
X-APPLE-STRUCTURED-LOCATION;VALUE=URI;X-ADDRESS=Trinity Baptist Church 319 E. Mulberry San Antonio TX 78212 United States;X-APPLE-RADIUS=500;X-TITLE=319 E. Mulberry:geo:-98.4877156,29.4573879
END:VEVENT
END:VCALENDAR