BEGIN:VCALENDAR
VERSION:2.0
PRODID:-//Trinity Baptist Church in San Antonio, TX - ECPv6.5.0//NONSGML v1.0//EN
CALSCALE:GREGORIAN
METHOD:PUBLISH
X-WR-CALNAME:Trinity Baptist Church in San Antonio, TX
X-ORIGINAL-URL:https://www.trinitybaptist.org
X-WR-CALDESC:Events for Trinity Baptist Church in San Antonio, TX
REFRESH-INTERVAL;VALUE=DURATION:PT1H
X-Robots-Tag:noindex
X-PUBLISHED-TTL:PT1H
BEGIN:VTIMEZONE
TZID:America/Chicago
BEGIN:DAYLIGHT
TZOFFSETFROM:-0600
TZOFFSETTO:-0500
TZNAME:CDT
DTSTART:20260308T080000
END:DAYLIGHT
BEGIN:STANDARD
TZOFFSETFROM:-0500
TZOFFSETTO:-0600
TZNAME:CST
DTSTART:20261101T070000
END:STANDARD
BEGIN:DAYLIGHT
TZOFFSETFROM:-0600
TZOFFSETTO:-0500
TZNAME:CDT
DTSTART:20270314T080000
END:DAYLIGHT
BEGIN:STANDARD
TZOFFSETFROM:-0500
TZOFFSETTO:-0600
TZNAME:CST
DTSTART:20271107T070000
END:STANDARD
END:VTIMEZONE
BEGIN:VEVENT
DTSTART;TZID=America/Chicago:20261018T113000
DTEND;TZID=America/Chicago:20261018T123000
DTSTAMP:20260420T174439
CREATED:20230204T162312Z
LAST-MODIFIED:20260122T221154Z
UID:10029512-1792323000-1792326600@www.trinitybaptist.org
SUMMARY:Sunday Worship at TriPoint
DESCRIPTION:  \nWorship at TriPoint \n\n11:30 am Band led worship\nChildcare is available for ages Birth-4 years.
URL:https://www.trinitybaptist.org/event/sunday-worship-at-tripoint/2026-10-18/
LOCATION:TriPoint\, 3233 N St. Mary's St.\, San Antonio\, TX\, 78212\, United States
CATEGORIES:Home Page,TriPoint Campus Page
ATTACH;FMTTYPE=image/jpeg:https://www.trinitybaptist.org/wp-content/uploads/2023/02/DSC2971-2.jpg
END:VEVENT
BEGIN:VEVENT
DTSTART;TZID=America/Chicago:20261025T113000
DTEND;TZID=America/Chicago:20261025T123000
DTSTAMP:20260420T174439
CREATED:20230204T162312Z
LAST-MODIFIED:20260122T221154Z
UID:10029513-1792927800-1792931400@www.trinitybaptist.org
SUMMARY:Sunday Worship at TriPoint
DESCRIPTION:  \nWorship at TriPoint \n\n11:30 am Band led worship\nChildcare is available for ages Birth-4 years.
URL:https://www.trinitybaptist.org/event/sunday-worship-at-tripoint/2026-10-25/
LOCATION:TriPoint\, 3233 N St. Mary's St.\, San Antonio\, TX\, 78212\, United States
CATEGORIES:Home Page,TriPoint Campus Page
ATTACH;FMTTYPE=image/jpeg:https://www.trinitybaptist.org/wp-content/uploads/2023/02/DSC2971-2.jpg
END:VEVENT
BEGIN:VEVENT
DTSTART;TZID=America/Chicago:20261101T113000
DTEND;TZID=America/Chicago:20261101T123000
DTSTAMP:20260420T174439
CREATED:20230204T162312Z
LAST-MODIFIED:20260122T221154Z
UID:10029514-1793532600-1793536200@www.trinitybaptist.org
SUMMARY:Sunday Worship at TriPoint
DESCRIPTION:  \nWorship at TriPoint \n\n11:30 am Band led worship\nChildcare is available for ages Birth-4 years.
URL:https://www.trinitybaptist.org/event/sunday-worship-at-tripoint/2026-11-01/
LOCATION:TriPoint\, 3233 N St. Mary's St.\, San Antonio\, TX\, 78212\, United States
CATEGORIES:Home Page,TriPoint Campus Page
ATTACH;FMTTYPE=image/jpeg:https://www.trinitybaptist.org/wp-content/uploads/2023/02/DSC2971-2.jpg
END:VEVENT
BEGIN:VEVENT
DTSTART;TZID=America/Chicago:20261108T113000
DTEND;TZID=America/Chicago:20261108T123000
DTSTAMP:20260420T174439
CREATED:20230204T162312Z
LAST-MODIFIED:20260122T221154Z
UID:10029515-1794137400-1794141000@www.trinitybaptist.org
SUMMARY:Sunday Worship at TriPoint
DESCRIPTION:  \nWorship at TriPoint \n\n11:30 am Band led worship\nChildcare is available for ages Birth-4 years.
URL:https://www.trinitybaptist.org/event/sunday-worship-at-tripoint/2026-11-08/
LOCATION:TriPoint\, 3233 N St. Mary's St.\, San Antonio\, TX\, 78212\, United States
CATEGORIES:Home Page,TriPoint Campus Page
ATTACH;FMTTYPE=image/jpeg:https://www.trinitybaptist.org/wp-content/uploads/2023/02/DSC2971-2.jpg
END:VEVENT
BEGIN:VEVENT
DTSTART;TZID=America/Chicago:20261115T113000
DTEND;TZID=America/Chicago:20261115T123000
DTSTAMP:20260420T174439
CREATED:20230204T162312Z
LAST-MODIFIED:20260122T221154Z
UID:10029516-1794742200-1794745800@www.trinitybaptist.org
SUMMARY:Sunday Worship at TriPoint
DESCRIPTION:  \nWorship at TriPoint \n\n11:30 am Band led worship\nChildcare is available for ages Birth-4 years.
URL:https://www.trinitybaptist.org/event/sunday-worship-at-tripoint/2026-11-15/
LOCATION:TriPoint\, 3233 N St. Mary's St.\, San Antonio\, TX\, 78212\, United States
CATEGORIES:Home Page,TriPoint Campus Page
ATTACH;FMTTYPE=image/jpeg:https://www.trinitybaptist.org/wp-content/uploads/2023/02/DSC2971-2.jpg
END:VEVENT
BEGIN:VEVENT
DTSTART;TZID=America/Chicago:20261122T113000
DTEND;TZID=America/Chicago:20261122T123000
DTSTAMP:20260420T174439
CREATED:20230204T162312Z
LAST-MODIFIED:20260122T221154Z
UID:10029517-1795347000-1795350600@www.trinitybaptist.org
SUMMARY:Sunday Worship at TriPoint
DESCRIPTION:  \nWorship at TriPoint \n\n11:30 am Band led worship\nChildcare is available for ages Birth-4 years.
URL:https://www.trinitybaptist.org/event/sunday-worship-at-tripoint/2026-11-22/
LOCATION:TriPoint\, 3233 N St. Mary's St.\, San Antonio\, TX\, 78212\, United States
CATEGORIES:Home Page,TriPoint Campus Page
ATTACH;FMTTYPE=image/jpeg:https://www.trinitybaptist.org/wp-content/uploads/2023/02/DSC2971-2.jpg
END:VEVENT
BEGIN:VEVENT
DTSTART;TZID=America/Chicago:20261129T113000
DTEND;TZID=America/Chicago:20261129T123000
DTSTAMP:20260420T174439
CREATED:20230204T162312Z
LAST-MODIFIED:20260122T221154Z
UID:10029518-1795951800-1795955400@www.trinitybaptist.org
SUMMARY:Sunday Worship at TriPoint
DESCRIPTION:  \nWorship at TriPoint \n\n11:30 am Band led worship\nChildcare is available for ages Birth-4 years.
URL:https://www.trinitybaptist.org/event/sunday-worship-at-tripoint/2026-11-29/
LOCATION:TriPoint\, 3233 N St. Mary's St.\, San Antonio\, TX\, 78212\, United States
CATEGORIES:Home Page,TriPoint Campus Page
ATTACH;FMTTYPE=image/jpeg:https://www.trinitybaptist.org/wp-content/uploads/2023/02/DSC2971-2.jpg
END:VEVENT
BEGIN:VEVENT
DTSTART;TZID=America/Chicago:20261206T113000
DTEND;TZID=America/Chicago:20261206T123000
DTSTAMP:20260420T174439
CREATED:20230204T162312Z
LAST-MODIFIED:20260122T221154Z
UID:10029519-1796556600-1796560200@www.trinitybaptist.org
SUMMARY:Sunday Worship at TriPoint
DESCRIPTION:  \nWorship at TriPoint \n\n11:30 am Band led worship\nChildcare is available for ages Birth-4 years.
URL:https://www.trinitybaptist.org/event/sunday-worship-at-tripoint/2026-12-06/
LOCATION:TriPoint\, 3233 N St. Mary's St.\, San Antonio\, TX\, 78212\, United States
CATEGORIES:Home Page,TriPoint Campus Page
ATTACH;FMTTYPE=image/jpeg:https://www.trinitybaptist.org/wp-content/uploads/2023/02/DSC2971-2.jpg
END:VEVENT
BEGIN:VEVENT
DTSTART;TZID=America/Chicago:20261213T113000
DTEND;TZID=America/Chicago:20261213T123000
DTSTAMP:20260420T174440
CREATED:20230204T162312Z
LAST-MODIFIED:20260122T221154Z
UID:10029520-1797161400-1797165000@www.trinitybaptist.org
SUMMARY:Sunday Worship at TriPoint
DESCRIPTION:  \nWorship at TriPoint \n\n11:30 am Band led worship\nChildcare is available for ages Birth-4 years.
URL:https://www.trinitybaptist.org/event/sunday-worship-at-tripoint/2026-12-13/
LOCATION:TriPoint\, 3233 N St. Mary's St.\, San Antonio\, TX\, 78212\, United States
CATEGORIES:Home Page,TriPoint Campus Page
ATTACH;FMTTYPE=image/jpeg:https://www.trinitybaptist.org/wp-content/uploads/2023/02/DSC2971-2.jpg
END:VEVENT
BEGIN:VEVENT
DTSTART;TZID=America/Chicago:20261220T113000
DTEND;TZID=America/Chicago:20261220T123000
DTSTAMP:20260420T174440
CREATED:20230204T162312Z
LAST-MODIFIED:20260122T221154Z
UID:10029521-1797766200-1797769800@www.trinitybaptist.org
SUMMARY:Sunday Worship at TriPoint
DESCRIPTION:  \nWorship at TriPoint \n\n11:30 am Band led worship\nChildcare is available for ages Birth-4 years.
URL:https://www.trinitybaptist.org/event/sunday-worship-at-tripoint/2026-12-20/
LOCATION:TriPoint\, 3233 N St. Mary's St.\, San Antonio\, TX\, 78212\, United States
CATEGORIES:Home Page,TriPoint Campus Page
ATTACH;FMTTYPE=image/jpeg:https://www.trinitybaptist.org/wp-content/uploads/2023/02/DSC2971-2.jpg
END:VEVENT
BEGIN:VEVENT
DTSTART;TZID=America/Chicago:20261227T113000
DTEND;TZID=America/Chicago:20261227T123000
DTSTAMP:20260420T174440
CREATED:20230204T162312Z
LAST-MODIFIED:20260122T221154Z
UID:10029522-1798371000-1798374600@www.trinitybaptist.org
SUMMARY:Sunday Worship at TriPoint
DESCRIPTION:  \nWorship at TriPoint \n\n11:30 am Band led worship\nChildcare is available for ages Birth-4 years.
URL:https://www.trinitybaptist.org/event/sunday-worship-at-tripoint/2026-12-27/
LOCATION:TriPoint\, 3233 N St. Mary's St.\, San Antonio\, TX\, 78212\, United States
CATEGORIES:Home Page,TriPoint Campus Page
ATTACH;FMTTYPE=image/jpeg:https://www.trinitybaptist.org/wp-content/uploads/2023/02/DSC2971-2.jpg
END:VEVENT
BEGIN:VEVENT
DTSTART;TZID=America/Chicago:20270103T113000
DTEND;TZID=America/Chicago:20270103T123000
DTSTAMP:20260420T174440
CREATED:20230204T162312Z
LAST-MODIFIED:20260122T221154Z
UID:10029523-1798975800-1798979400@www.trinitybaptist.org
SUMMARY:Sunday Worship at TriPoint
DESCRIPTION:  \nWorship at TriPoint \n\n11:30 am Band led worship\nChildcare is available for ages Birth-4 years.
URL:https://www.trinitybaptist.org/event/sunday-worship-at-tripoint/2027-01-03/
LOCATION:TriPoint\, 3233 N St. Mary's St.\, San Antonio\, TX\, 78212\, United States
CATEGORIES:Home Page,TriPoint Campus Page
ATTACH;FMTTYPE=image/jpeg:https://www.trinitybaptist.org/wp-content/uploads/2023/02/DSC2971-2.jpg
END:VEVENT
BEGIN:VEVENT
DTSTART;TZID=America/Chicago:20270110T113000
DTEND;TZID=America/Chicago:20270110T123000
DTSTAMP:20260420T174440
CREATED:20230204T162312Z
LAST-MODIFIED:20260122T221154Z
UID:10029524-1799580600-1799584200@www.trinitybaptist.org
SUMMARY:Sunday Worship at TriPoint
DESCRIPTION:  \nWorship at TriPoint \n\n11:30 am Band led worship\nChildcare is available for ages Birth-4 years.
URL:https://www.trinitybaptist.org/event/sunday-worship-at-tripoint/2027-01-10/
LOCATION:TriPoint\, 3233 N St. Mary's St.\, San Antonio\, TX\, 78212\, United States
CATEGORIES:Home Page,TriPoint Campus Page
ATTACH;FMTTYPE=image/jpeg:https://www.trinitybaptist.org/wp-content/uploads/2023/02/DSC2971-2.jpg
END:VEVENT
BEGIN:VEVENT
DTSTART;TZID=America/Chicago:20270117T113000
DTEND;TZID=America/Chicago:20270117T123000
DTSTAMP:20260420T174440
CREATED:20230204T162312Z
LAST-MODIFIED:20260122T221154Z
UID:10029525-1800185400-1800189000@www.trinitybaptist.org
SUMMARY:Sunday Worship at TriPoint
DESCRIPTION:  \nWorship at TriPoint \n\n11:30 am Band led worship\nChildcare is available for ages Birth-4 years.
URL:https://www.trinitybaptist.org/event/sunday-worship-at-tripoint/2027-01-17/
LOCATION:TriPoint\, 3233 N St. Mary's St.\, San Antonio\, TX\, 78212\, United States
CATEGORIES:Home Page,TriPoint Campus Page
ATTACH;FMTTYPE=image/jpeg:https://www.trinitybaptist.org/wp-content/uploads/2023/02/DSC2971-2.jpg
END:VEVENT
BEGIN:VEVENT
DTSTART;TZID=America/Chicago:20270124T113000
DTEND;TZID=America/Chicago:20270124T123000
DTSTAMP:20260420T174440
CREATED:20230204T162312Z
LAST-MODIFIED:20260122T221154Z
UID:10029526-1800790200-1800793800@www.trinitybaptist.org
SUMMARY:Sunday Worship at TriPoint
DESCRIPTION:  \nWorship at TriPoint \n\n11:30 am Band led worship\nChildcare is available for ages Birth-4 years.
URL:https://www.trinitybaptist.org/event/sunday-worship-at-tripoint/2027-01-24/
LOCATION:TriPoint\, 3233 N St. Mary's St.\, San Antonio\, TX\, 78212\, United States
CATEGORIES:Home Page,TriPoint Campus Page
ATTACH;FMTTYPE=image/jpeg:https://www.trinitybaptist.org/wp-content/uploads/2023/02/DSC2971-2.jpg
END:VEVENT
BEGIN:VEVENT
DTSTART;TZID=America/Chicago:20270131T113000
DTEND;TZID=America/Chicago:20270131T123000
DTSTAMP:20260420T174440
CREATED:20230204T162312Z
LAST-MODIFIED:20260122T221154Z
UID:10029527-1801395000-1801398600@www.trinitybaptist.org
SUMMARY:Sunday Worship at TriPoint
DESCRIPTION:  \nWorship at TriPoint \n\n11:30 am Band led worship\nChildcare is available for ages Birth-4 years.
URL:https://www.trinitybaptist.org/event/sunday-worship-at-tripoint/2027-01-31/
LOCATION:TriPoint\, 3233 N St. Mary's St.\, San Antonio\, TX\, 78212\, United States
CATEGORIES:Home Page,TriPoint Campus Page
ATTACH;FMTTYPE=image/jpeg:https://www.trinitybaptist.org/wp-content/uploads/2023/02/DSC2971-2.jpg
END:VEVENT
BEGIN:VEVENT
DTSTART;TZID=America/Chicago:20270207T113000
DTEND;TZID=America/Chicago:20270207T123000
DTSTAMP:20260420T174440
CREATED:20230204T162312Z
LAST-MODIFIED:20260122T221154Z
UID:10029528-1801999800-1802003400@www.trinitybaptist.org
SUMMARY:Sunday Worship at TriPoint
DESCRIPTION:  \nWorship at TriPoint \n\n11:30 am Band led worship\nChildcare is available for ages Birth-4 years.
URL:https://www.trinitybaptist.org/event/sunday-worship-at-tripoint/2027-02-07/
LOCATION:TriPoint\, 3233 N St. Mary's St.\, San Antonio\, TX\, 78212\, United States
CATEGORIES:Home Page,TriPoint Campus Page
ATTACH;FMTTYPE=image/jpeg:https://www.trinitybaptist.org/wp-content/uploads/2023/02/DSC2971-2.jpg
END:VEVENT
BEGIN:VEVENT
DTSTART;TZID=America/Chicago:20270214T113000
DTEND;TZID=America/Chicago:20270214T123000
DTSTAMP:20260420T174440
CREATED:20230204T162312Z
LAST-MODIFIED:20260122T221154Z
UID:10029529-1802604600-1802608200@www.trinitybaptist.org
SUMMARY:Sunday Worship at TriPoint
DESCRIPTION:  \nWorship at TriPoint \n\n11:30 am Band led worship\nChildcare is available for ages Birth-4 years.
URL:https://www.trinitybaptist.org/event/sunday-worship-at-tripoint/2027-02-14/
LOCATION:TriPoint\, 3233 N St. Mary's St.\, San Antonio\, TX\, 78212\, United States
CATEGORIES:Home Page,TriPoint Campus Page
ATTACH;FMTTYPE=image/jpeg:https://www.trinitybaptist.org/wp-content/uploads/2023/02/DSC2971-2.jpg
END:VEVENT
BEGIN:VEVENT
DTSTART;TZID=America/Chicago:20270221T113000
DTEND;TZID=America/Chicago:20270221T123000
DTSTAMP:20260420T174440
CREATED:20230204T162312Z
LAST-MODIFIED:20260122T221154Z
UID:10029530-1803209400-1803213000@www.trinitybaptist.org
SUMMARY:Sunday Worship at TriPoint
DESCRIPTION:  \nWorship at TriPoint \n\n11:30 am Band led worship\nChildcare is available for ages Birth-4 years.
URL:https://www.trinitybaptist.org/event/sunday-worship-at-tripoint/2027-02-21/
LOCATION:TriPoint\, 3233 N St. Mary's St.\, San Antonio\, TX\, 78212\, United States
CATEGORIES:Home Page,TriPoint Campus Page
ATTACH;FMTTYPE=image/jpeg:https://www.trinitybaptist.org/wp-content/uploads/2023/02/DSC2971-2.jpg
END:VEVENT
BEGIN:VEVENT
DTSTART;TZID=America/Chicago:20270228T113000
DTEND;TZID=America/Chicago:20270228T123000
DTSTAMP:20260420T174440
CREATED:20230204T162312Z
LAST-MODIFIED:20260122T221154Z
UID:10029531-1803814200-1803817800@www.trinitybaptist.org
SUMMARY:Sunday Worship at TriPoint
DESCRIPTION:  \nWorship at TriPoint \n\n11:30 am Band led worship\nChildcare is available for ages Birth-4 years.
URL:https://www.trinitybaptist.org/event/sunday-worship-at-tripoint/2027-02-28/
LOCATION:TriPoint\, 3233 N St. Mary's St.\, San Antonio\, TX\, 78212\, United States
CATEGORIES:Home Page,TriPoint Campus Page
ATTACH;FMTTYPE=image/jpeg:https://www.trinitybaptist.org/wp-content/uploads/2023/02/DSC2971-2.jpg
END:VEVENT
BEGIN:VEVENT
DTSTART;TZID=America/Chicago:20270307T113000
DTEND;TZID=America/Chicago:20270307T123000
DTSTAMP:20260420T174440
CREATED:20230204T162312Z
LAST-MODIFIED:20260122T221154Z
UID:10029532-1804419000-1804422600@www.trinitybaptist.org
SUMMARY:Sunday Worship at TriPoint
DESCRIPTION:  \nWorship at TriPoint \n\n11:30 am Band led worship\nChildcare is available for ages Birth-4 years.
URL:https://www.trinitybaptist.org/event/sunday-worship-at-tripoint/2027-03-07/
LOCATION:TriPoint\, 3233 N St. Mary's St.\, San Antonio\, TX\, 78212\, United States
CATEGORIES:Home Page,TriPoint Campus Page
ATTACH;FMTTYPE=image/jpeg:https://www.trinitybaptist.org/wp-content/uploads/2023/02/DSC2971-2.jpg
END:VEVENT
BEGIN:VEVENT
DTSTART;TZID=America/Chicago:20270314T113000
DTEND;TZID=America/Chicago:20270314T123000
DTSTAMP:20260420T174440
CREATED:20230204T162312Z
LAST-MODIFIED:20260122T221154Z
UID:10029533-1805023800-1805027400@www.trinitybaptist.org
SUMMARY:Sunday Worship at TriPoint
DESCRIPTION:  \nWorship at TriPoint \n\n11:30 am Band led worship\nChildcare is available for ages Birth-4 years.
URL:https://www.trinitybaptist.org/event/sunday-worship-at-tripoint/2027-03-14/
LOCATION:TriPoint\, 3233 N St. Mary's St.\, San Antonio\, TX\, 78212\, United States
CATEGORIES:Home Page,TriPoint Campus Page
ATTACH;FMTTYPE=image/jpeg:https://www.trinitybaptist.org/wp-content/uploads/2023/02/DSC2971-2.jpg
END:VEVENT
BEGIN:VEVENT
DTSTART;TZID=America/Chicago:20270321T113000
DTEND;TZID=America/Chicago:20270321T123000
DTSTAMP:20260420T174440
CREATED:20230204T162312Z
LAST-MODIFIED:20260122T221154Z
UID:10029534-1805628600-1805632200@www.trinitybaptist.org
SUMMARY:Sunday Worship at TriPoint
DESCRIPTION:  \nWorship at TriPoint \n\n11:30 am Band led worship\nChildcare is available for ages Birth-4 years.
URL:https://www.trinitybaptist.org/event/sunday-worship-at-tripoint/2027-03-21/
LOCATION:TriPoint\, 3233 N St. Mary's St.\, San Antonio\, TX\, 78212\, United States
CATEGORIES:Home Page,TriPoint Campus Page
ATTACH;FMTTYPE=image/jpeg:https://www.trinitybaptist.org/wp-content/uploads/2023/02/DSC2971-2.jpg
END:VEVENT
BEGIN:VEVENT
DTSTART;TZID=America/Chicago:20270328T113000
DTEND;TZID=America/Chicago:20270328T123000
DTSTAMP:20260420T174440
CREATED:20230204T162312Z
LAST-MODIFIED:20260122T221154Z
UID:10029535-1806233400-1806237000@www.trinitybaptist.org
SUMMARY:Sunday Worship at TriPoint
DESCRIPTION:  \nWorship at TriPoint \n\n11:30 am Band led worship\nChildcare is available for ages Birth-4 years.
URL:https://www.trinitybaptist.org/event/sunday-worship-at-tripoint/2027-03-28/
LOCATION:TriPoint\, 3233 N St. Mary's St.\, San Antonio\, TX\, 78212\, United States
CATEGORIES:Home Page,TriPoint Campus Page
ATTACH;FMTTYPE=image/jpeg:https://www.trinitybaptist.org/wp-content/uploads/2023/02/DSC2971-2.jpg
END:VEVENT
BEGIN:VEVENT
DTSTART;TZID=America/Chicago:20270404T113000
DTEND;TZID=America/Chicago:20270404T123000
DTSTAMP:20260420T174440
CREATED:20230204T162312Z
LAST-MODIFIED:20260122T221154Z
UID:10029536-1806838200-1806841800@www.trinitybaptist.org
SUMMARY:Sunday Worship at TriPoint
DESCRIPTION:  \nWorship at TriPoint \n\n11:30 am Band led worship\nChildcare is available for ages Birth-4 years.
URL:https://www.trinitybaptist.org/event/sunday-worship-at-tripoint/2027-04-04/
LOCATION:TriPoint\, 3233 N St. Mary's St.\, San Antonio\, TX\, 78212\, United States
CATEGORIES:Home Page,TriPoint Campus Page
ATTACH;FMTTYPE=image/jpeg:https://www.trinitybaptist.org/wp-content/uploads/2023/02/DSC2971-2.jpg
END:VEVENT
BEGIN:VEVENT
DTSTART;TZID=America/Chicago:20270411T113000
DTEND;TZID=America/Chicago:20270411T123000
DTSTAMP:20260420T174440
CREATED:20230204T162312Z
LAST-MODIFIED:20260122T221154Z
UID:10029537-1807443000-1807446600@www.trinitybaptist.org
SUMMARY:Sunday Worship at TriPoint
DESCRIPTION:  \nWorship at TriPoint \n\n11:30 am Band led worship\nChildcare is available for ages Birth-4 years.
URL:https://www.trinitybaptist.org/event/sunday-worship-at-tripoint/2027-04-11/
LOCATION:TriPoint\, 3233 N St. Mary's St.\, San Antonio\, TX\, 78212\, United States
CATEGORIES:Home Page,TriPoint Campus Page
ATTACH;FMTTYPE=image/jpeg:https://www.trinitybaptist.org/wp-content/uploads/2023/02/DSC2971-2.jpg
END:VEVENT
BEGIN:VEVENT
DTSTART;TZID=America/Chicago:20270418T113000
DTEND;TZID=America/Chicago:20270418T123000
DTSTAMP:20260420T174440
CREATED:20230204T162312Z
LAST-MODIFIED:20260122T221154Z
UID:10029538-1808047800-1808051400@www.trinitybaptist.org
SUMMARY:Sunday Worship at TriPoint
DESCRIPTION:  \nWorship at TriPoint \n\n11:30 am Band led worship\nChildcare is available for ages Birth-4 years.
URL:https://www.trinitybaptist.org/event/sunday-worship-at-tripoint/2027-04-18/
LOCATION:TriPoint\, 3233 N St. Mary's St.\, San Antonio\, TX\, 78212\, United States
CATEGORIES:Home Page,TriPoint Campus Page
ATTACH;FMTTYPE=image/jpeg:https://www.trinitybaptist.org/wp-content/uploads/2023/02/DSC2971-2.jpg
END:VEVENT
BEGIN:VEVENT
DTSTART;TZID=America/Chicago:20270425T113000
DTEND;TZID=America/Chicago:20270425T123000
DTSTAMP:20260420T174440
CREATED:20230204T162312Z
LAST-MODIFIED:20260122T221154Z
UID:10029539-1808652600-1808656200@www.trinitybaptist.org
SUMMARY:Sunday Worship at TriPoint
DESCRIPTION:  \nWorship at TriPoint \n\n11:30 am Band led worship\nChildcare is available for ages Birth-4 years.
URL:https://www.trinitybaptist.org/event/sunday-worship-at-tripoint/2027-04-25/
LOCATION:TriPoint\, 3233 N St. Mary's St.\, San Antonio\, TX\, 78212\, United States
CATEGORIES:Home Page,TriPoint Campus Page
ATTACH;FMTTYPE=image/jpeg:https://www.trinitybaptist.org/wp-content/uploads/2023/02/DSC2971-2.jpg
END:VEVENT
BEGIN:VEVENT
DTSTART;TZID=America/Chicago:20270502T113000
DTEND;TZID=America/Chicago:20270502T123000
DTSTAMP:20260420T174440
CREATED:20230204T162312Z
LAST-MODIFIED:20260122T221154Z
UID:10029540-1809257400-1809261000@www.trinitybaptist.org
SUMMARY:Sunday Worship at TriPoint
DESCRIPTION:  \nWorship at TriPoint \n\n11:30 am Band led worship\nChildcare is available for ages Birth-4 years.
URL:https://www.trinitybaptist.org/event/sunday-worship-at-tripoint/2027-05-02/
LOCATION:TriPoint\, 3233 N St. Mary's St.\, San Antonio\, TX\, 78212\, United States
CATEGORIES:Home Page,TriPoint Campus Page
ATTACH;FMTTYPE=image/jpeg:https://www.trinitybaptist.org/wp-content/uploads/2023/02/DSC2971-2.jpg
END:VEVENT
BEGIN:VEVENT
DTSTART;TZID=America/Chicago:20270509T113000
DTEND;TZID=America/Chicago:20270509T123000
DTSTAMP:20260420T174440
CREATED:20230204T162312Z
LAST-MODIFIED:20260122T221154Z
UID:10029541-1809862200-1809865800@www.trinitybaptist.org
SUMMARY:Sunday Worship at TriPoint
DESCRIPTION:  \nWorship at TriPoint \n\n11:30 am Band led worship\nChildcare is available for ages Birth-4 years.
URL:https://www.trinitybaptist.org/event/sunday-worship-at-tripoint/2027-05-09/
LOCATION:TriPoint\, 3233 N St. Mary's St.\, San Antonio\, TX\, 78212\, United States
CATEGORIES:Home Page,TriPoint Campus Page
ATTACH;FMTTYPE=image/jpeg:https://www.trinitybaptist.org/wp-content/uploads/2023/02/DSC2971-2.jpg
END:VEVENT
END:VCALENDAR