BEGIN:VCALENDAR
VERSION:2.0
PRODID:-//Trinity Baptist Church in San Antonio, TX - ECPv6.5.0//NONSGML v1.0//EN
CALSCALE:GREGORIAN
METHOD:PUBLISH
X-ORIGINAL-URL:https://www.trinitybaptist.org
X-WR-CALDESC:Events for Trinity Baptist Church in San Antonio, TX
REFRESH-INTERVAL;VALUE=DURATION:PT1H
X-Robots-Tag:noindex
X-PUBLISHED-TTL:PT1H
BEGIN:VTIMEZONE
TZID:America/Chicago
BEGIN:DAYLIGHT
TZOFFSETFROM:-0600
TZOFFSETTO:-0500
TZNAME:CDT
DTSTART:20280312T080000
END:DAYLIGHT
BEGIN:STANDARD
TZOFFSETFROM:-0500
TZOFFSETTO:-0600
TZNAME:CST
DTSTART:20281105T070000
END:STANDARD
BEGIN:DAYLIGHT
TZOFFSETFROM:-0600
TZOFFSETTO:-0500
TZNAME:CDT
DTSTART:20290311T080000
END:DAYLIGHT
BEGIN:STANDARD
TZOFFSETFROM:-0500
TZOFFSETTO:-0600
TZNAME:CST
DTSTART:20291104T070000
END:STANDARD
END:VTIMEZONE
BEGIN:VEVENT
DTSTART;TZID=America/Chicago:20280813T090000
DTEND;TZID=America/Chicago:20280813T100000
DTSTAMP:20260424T071518
CREATED:20230204T162149Z
LAST-MODIFIED:20260122T221124Z
UID:10022021-1849770000-1849773600@www.trinitybaptist.org
SUMMARY:Sunday Worship at Mulberry
DESCRIPTION:  \nWorship at Mulberry \n\n9:00 am Choir and Orchestra led worship\nChildcare provided for Birth-4 years
URL:https://www.trinitybaptist.org/event/sunday-worship-at-mulberry/2028-08-13/
LOCATION:Trinity Baptist Church\, 319 E. Mulberry\, San Antonio\, TX\, 78212\, United States
CATEGORIES:Home Page,Mulberry Campus Page
ATTACH;FMTTYPE=image/jpeg:https://www.trinitybaptist.org/wp-content/uploads/2023/02/DSC3475.jpg
GEO:29.4573879;-98.4877156
X-APPLE-STRUCTURED-LOCATION;VALUE=URI;X-ADDRESS=Trinity Baptist Church 319 E. Mulberry San Antonio TX 78212 United States;X-APPLE-RADIUS=500;X-TITLE=319 E. Mulberry:geo:-98.4877156,29.4573879
END:VEVENT
BEGIN:VEVENT
DTSTART;TZID=America/Chicago:20280820T090000
DTEND;TZID=America/Chicago:20280820T100000
DTSTAMP:20260424T071518
CREATED:20230204T162149Z
LAST-MODIFIED:20260122T221124Z
UID:10022022-1850374800-1850378400@www.trinitybaptist.org
SUMMARY:Sunday Worship at Mulberry
DESCRIPTION:  \nWorship at Mulberry \n\n9:00 am Choir and Orchestra led worship\nChildcare provided for Birth-4 years
URL:https://www.trinitybaptist.org/event/sunday-worship-at-mulberry/2028-08-20/
LOCATION:Trinity Baptist Church\, 319 E. Mulberry\, San Antonio\, TX\, 78212\, United States
CATEGORIES:Home Page,Mulberry Campus Page
ATTACH;FMTTYPE=image/jpeg:https://www.trinitybaptist.org/wp-content/uploads/2023/02/DSC3475.jpg
GEO:29.4573879;-98.4877156
X-APPLE-STRUCTURED-LOCATION;VALUE=URI;X-ADDRESS=Trinity Baptist Church 319 E. Mulberry San Antonio TX 78212 United States;X-APPLE-RADIUS=500;X-TITLE=319 E. Mulberry:geo:-98.4877156,29.4573879
END:VEVENT
BEGIN:VEVENT
DTSTART;TZID=America/Chicago:20280827T090000
DTEND;TZID=America/Chicago:20280827T100000
DTSTAMP:20260424T071518
CREATED:20230204T162149Z
LAST-MODIFIED:20260122T221124Z
UID:10022023-1850979600-1850983200@www.trinitybaptist.org
SUMMARY:Sunday Worship at Mulberry
DESCRIPTION:  \nWorship at Mulberry \n\n9:00 am Choir and Orchestra led worship\nChildcare provided for Birth-4 years
URL:https://www.trinitybaptist.org/event/sunday-worship-at-mulberry/2028-08-27/
LOCATION:Trinity Baptist Church\, 319 E. Mulberry\, San Antonio\, TX\, 78212\, United States
CATEGORIES:Home Page,Mulberry Campus Page
ATTACH;FMTTYPE=image/jpeg:https://www.trinitybaptist.org/wp-content/uploads/2023/02/DSC3475.jpg
GEO:29.4573879;-98.4877156
X-APPLE-STRUCTURED-LOCATION;VALUE=URI;X-ADDRESS=Trinity Baptist Church 319 E. Mulberry San Antonio TX 78212 United States;X-APPLE-RADIUS=500;X-TITLE=319 E. Mulberry:geo:-98.4877156,29.4573879
END:VEVENT
BEGIN:VEVENT
DTSTART;TZID=America/Chicago:20280903T090000
DTEND;TZID=America/Chicago:20280903T100000
DTSTAMP:20260424T071518
CREATED:20230204T162149Z
LAST-MODIFIED:20260122T221124Z
UID:10025280-1851584400-1851588000@www.trinitybaptist.org
SUMMARY:Sunday Worship at Mulberry
DESCRIPTION:  \nWorship at Mulberry \n\n9:00 am Choir and Orchestra led worship\nChildcare provided for Birth-4 years
URL:https://www.trinitybaptist.org/event/sunday-worship-at-mulberry/2028-09-03/
LOCATION:Trinity Baptist Church\, 319 E. Mulberry\, San Antonio\, TX\, 78212\, United States
CATEGORIES:Home Page,Mulberry Campus Page
ATTACH;FMTTYPE=image/jpeg:https://www.trinitybaptist.org/wp-content/uploads/2023/02/DSC3475.jpg
GEO:29.4573879;-98.4877156
X-APPLE-STRUCTURED-LOCATION;VALUE=URI;X-ADDRESS=Trinity Baptist Church 319 E. Mulberry San Antonio TX 78212 United States;X-APPLE-RADIUS=500;X-TITLE=319 E. Mulberry:geo:-98.4877156,29.4573879
END:VEVENT
BEGIN:VEVENT
DTSTART;TZID=America/Chicago:20280910T090000
DTEND;TZID=America/Chicago:20280910T100000
DTSTAMP:20260424T071518
CREATED:20230204T162149Z
LAST-MODIFIED:20260122T221124Z
UID:10025281-1852189200-1852192800@www.trinitybaptist.org
SUMMARY:Sunday Worship at Mulberry
DESCRIPTION:  \nWorship at Mulberry \n\n9:00 am Choir and Orchestra led worship\nChildcare provided for Birth-4 years
URL:https://www.trinitybaptist.org/event/sunday-worship-at-mulberry/2028-09-10/
LOCATION:Trinity Baptist Church\, 319 E. Mulberry\, San Antonio\, TX\, 78212\, United States
CATEGORIES:Home Page,Mulberry Campus Page
ATTACH;FMTTYPE=image/jpeg:https://www.trinitybaptist.org/wp-content/uploads/2023/02/DSC3475.jpg
GEO:29.4573879;-98.4877156
X-APPLE-STRUCTURED-LOCATION;VALUE=URI;X-ADDRESS=Trinity Baptist Church 319 E. Mulberry San Antonio TX 78212 United States;X-APPLE-RADIUS=500;X-TITLE=319 E. Mulberry:geo:-98.4877156,29.4573879
END:VEVENT
BEGIN:VEVENT
DTSTART;TZID=America/Chicago:20280917T090000
DTEND;TZID=America/Chicago:20280917T100000
DTSTAMP:20260424T071518
CREATED:20230204T162149Z
LAST-MODIFIED:20260122T221124Z
UID:10025282-1852794000-1852797600@www.trinitybaptist.org
SUMMARY:Sunday Worship at Mulberry
DESCRIPTION:  \nWorship at Mulberry \n\n9:00 am Choir and Orchestra led worship\nChildcare provided for Birth-4 years
URL:https://www.trinitybaptist.org/event/sunday-worship-at-mulberry/2028-09-17/
LOCATION:Trinity Baptist Church\, 319 E. Mulberry\, San Antonio\, TX\, 78212\, United States
CATEGORIES:Home Page,Mulberry Campus Page
ATTACH;FMTTYPE=image/jpeg:https://www.trinitybaptist.org/wp-content/uploads/2023/02/DSC3475.jpg
GEO:29.4573879;-98.4877156
X-APPLE-STRUCTURED-LOCATION;VALUE=URI;X-ADDRESS=Trinity Baptist Church 319 E. Mulberry San Antonio TX 78212 United States;X-APPLE-RADIUS=500;X-TITLE=319 E. Mulberry:geo:-98.4877156,29.4573879
END:VEVENT
BEGIN:VEVENT
DTSTART;TZID=America/Chicago:20280924T090000
DTEND;TZID=America/Chicago:20280924T100000
DTSTAMP:20260424T071518
CREATED:20230204T162149Z
LAST-MODIFIED:20260122T221124Z
UID:10025283-1853398800-1853402400@www.trinitybaptist.org
SUMMARY:Sunday Worship at Mulberry
DESCRIPTION:  \nWorship at Mulberry \n\n9:00 am Choir and Orchestra led worship\nChildcare provided for Birth-4 years
URL:https://www.trinitybaptist.org/event/sunday-worship-at-mulberry/2028-09-24/
LOCATION:Trinity Baptist Church\, 319 E. Mulberry\, San Antonio\, TX\, 78212\, United States
CATEGORIES:Home Page,Mulberry Campus Page
ATTACH;FMTTYPE=image/jpeg:https://www.trinitybaptist.org/wp-content/uploads/2023/02/DSC3475.jpg
GEO:29.4573879;-98.4877156
X-APPLE-STRUCTURED-LOCATION;VALUE=URI;X-ADDRESS=Trinity Baptist Church 319 E. Mulberry San Antonio TX 78212 United States;X-APPLE-RADIUS=500;X-TITLE=319 E. Mulberry:geo:-98.4877156,29.4573879
END:VEVENT
BEGIN:VEVENT
DTSTART;TZID=America/Chicago:20281001T090000
DTEND;TZID=America/Chicago:20281001T100000
DTSTAMP:20260424T071518
CREATED:20230204T162149Z
LAST-MODIFIED:20260122T221124Z
UID:10025284-1854003600-1854007200@www.trinitybaptist.org
SUMMARY:Sunday Worship at Mulberry
DESCRIPTION:  \nWorship at Mulberry \n\n9:00 am Choir and Orchestra led worship\nChildcare provided for Birth-4 years
URL:https://www.trinitybaptist.org/event/sunday-worship-at-mulberry/2028-10-01/
LOCATION:Trinity Baptist Church\, 319 E. Mulberry\, San Antonio\, TX\, 78212\, United States
CATEGORIES:Home Page,Mulberry Campus Page
ATTACH;FMTTYPE=image/jpeg:https://www.trinitybaptist.org/wp-content/uploads/2023/02/DSC3475.jpg
GEO:29.4573879;-98.4877156
X-APPLE-STRUCTURED-LOCATION;VALUE=URI;X-ADDRESS=Trinity Baptist Church 319 E. Mulberry San Antonio TX 78212 United States;X-APPLE-RADIUS=500;X-TITLE=319 E. Mulberry:geo:-98.4877156,29.4573879
END:VEVENT
BEGIN:VEVENT
DTSTART;TZID=America/Chicago:20281008T090000
DTEND;TZID=America/Chicago:20281008T100000
DTSTAMP:20260424T071519
CREATED:20230204T162149Z
LAST-MODIFIED:20260122T221124Z
UID:10025285-1854608400-1854612000@www.trinitybaptist.org
SUMMARY:Sunday Worship at Mulberry
DESCRIPTION:  \nWorship at Mulberry \n\n9:00 am Choir and Orchestra led worship\nChildcare provided for Birth-4 years
URL:https://www.trinitybaptist.org/event/sunday-worship-at-mulberry/2028-10-08/
LOCATION:Trinity Baptist Church\, 319 E. Mulberry\, San Antonio\, TX\, 78212\, United States
CATEGORIES:Home Page,Mulberry Campus Page
ATTACH;FMTTYPE=image/jpeg:https://www.trinitybaptist.org/wp-content/uploads/2023/02/DSC3475.jpg
GEO:29.4573879;-98.4877156
X-APPLE-STRUCTURED-LOCATION;VALUE=URI;X-ADDRESS=Trinity Baptist Church 319 E. Mulberry San Antonio TX 78212 United States;X-APPLE-RADIUS=500;X-TITLE=319 E. Mulberry:geo:-98.4877156,29.4573879
END:VEVENT
BEGIN:VEVENT
DTSTART;TZID=America/Chicago:20281015T090000
DTEND;TZID=America/Chicago:20281015T100000
DTSTAMP:20260424T071519
CREATED:20230204T162149Z
LAST-MODIFIED:20260122T221124Z
UID:10025286-1855213200-1855216800@www.trinitybaptist.org
SUMMARY:Sunday Worship at Mulberry
DESCRIPTION:  \nWorship at Mulberry \n\n9:00 am Choir and Orchestra led worship\nChildcare provided for Birth-4 years
URL:https://www.trinitybaptist.org/event/sunday-worship-at-mulberry/2028-10-15/
LOCATION:Trinity Baptist Church\, 319 E. Mulberry\, San Antonio\, TX\, 78212\, United States
CATEGORIES:Home Page,Mulberry Campus Page
ATTACH;FMTTYPE=image/jpeg:https://www.trinitybaptist.org/wp-content/uploads/2023/02/DSC3475.jpg
GEO:29.4573879;-98.4877156
X-APPLE-STRUCTURED-LOCATION;VALUE=URI;X-ADDRESS=Trinity Baptist Church 319 E. Mulberry San Antonio TX 78212 United States;X-APPLE-RADIUS=500;X-TITLE=319 E. Mulberry:geo:-98.4877156,29.4573879
END:VEVENT
BEGIN:VEVENT
DTSTART;TZID=America/Chicago:20281022T090000
DTEND;TZID=America/Chicago:20281022T100000
DTSTAMP:20260424T071519
CREATED:20230204T162149Z
LAST-MODIFIED:20260122T221124Z
UID:10025287-1855818000-1855821600@www.trinitybaptist.org
SUMMARY:Sunday Worship at Mulberry
DESCRIPTION:  \nWorship at Mulberry \n\n9:00 am Choir and Orchestra led worship\nChildcare provided for Birth-4 years
URL:https://www.trinitybaptist.org/event/sunday-worship-at-mulberry/2028-10-22/
LOCATION:Trinity Baptist Church\, 319 E. Mulberry\, San Antonio\, TX\, 78212\, United States
CATEGORIES:Home Page,Mulberry Campus Page
ATTACH;FMTTYPE=image/jpeg:https://www.trinitybaptist.org/wp-content/uploads/2023/02/DSC3475.jpg
GEO:29.4573879;-98.4877156
X-APPLE-STRUCTURED-LOCATION;VALUE=URI;X-ADDRESS=Trinity Baptist Church 319 E. Mulberry San Antonio TX 78212 United States;X-APPLE-RADIUS=500;X-TITLE=319 E. Mulberry:geo:-98.4877156,29.4573879
END:VEVENT
BEGIN:VEVENT
DTSTART;TZID=America/Chicago:20281029T090000
DTEND;TZID=America/Chicago:20281029T100000
DTSTAMP:20260424T071519
CREATED:20230204T162149Z
LAST-MODIFIED:20260122T221124Z
UID:10025288-1856422800-1856426400@www.trinitybaptist.org
SUMMARY:Sunday Worship at Mulberry
DESCRIPTION:  \nWorship at Mulberry \n\n9:00 am Choir and Orchestra led worship\nChildcare provided for Birth-4 years
URL:https://www.trinitybaptist.org/event/sunday-worship-at-mulberry/2028-10-29/
LOCATION:Trinity Baptist Church\, 319 E. Mulberry\, San Antonio\, TX\, 78212\, United States
CATEGORIES:Home Page,Mulberry Campus Page
ATTACH;FMTTYPE=image/jpeg:https://www.trinitybaptist.org/wp-content/uploads/2023/02/DSC3475.jpg
GEO:29.4573879;-98.4877156
X-APPLE-STRUCTURED-LOCATION;VALUE=URI;X-ADDRESS=Trinity Baptist Church 319 E. Mulberry San Antonio TX 78212 United States;X-APPLE-RADIUS=500;X-TITLE=319 E. Mulberry:geo:-98.4877156,29.4573879
END:VEVENT
BEGIN:VEVENT
DTSTART;TZID=America/Chicago:20281105T090000
DTEND;TZID=America/Chicago:20281105T100000
DTSTAMP:20260424T071519
CREATED:20230204T162149Z
LAST-MODIFIED:20260122T221124Z
UID:10025297-1857027600-1857031200@www.trinitybaptist.org
SUMMARY:Sunday Worship at Mulberry
DESCRIPTION:  \nWorship at Mulberry \n\n9:00 am Choir and Orchestra led worship\nChildcare provided for Birth-4 years
URL:https://www.trinitybaptist.org/event/sunday-worship-at-mulberry/2028-11-05/
LOCATION:Trinity Baptist Church\, 319 E. Mulberry\, San Antonio\, TX\, 78212\, United States
CATEGORIES:Home Page,Mulberry Campus Page
ATTACH;FMTTYPE=image/jpeg:https://www.trinitybaptist.org/wp-content/uploads/2023/02/DSC3475.jpg
GEO:29.4573879;-98.4877156
X-APPLE-STRUCTURED-LOCATION;VALUE=URI;X-ADDRESS=Trinity Baptist Church 319 E. Mulberry San Antonio TX 78212 United States;X-APPLE-RADIUS=500;X-TITLE=319 E. Mulberry:geo:-98.4877156,29.4573879
END:VEVENT
BEGIN:VEVENT
DTSTART;TZID=America/Chicago:20281112T090000
DTEND;TZID=America/Chicago:20281112T100000
DTSTAMP:20260424T071519
CREATED:20230204T162149Z
LAST-MODIFIED:20260122T221124Z
UID:10025298-1857632400-1857636000@www.trinitybaptist.org
SUMMARY:Sunday Worship at Mulberry
DESCRIPTION:  \nWorship at Mulberry \n\n9:00 am Choir and Orchestra led worship\nChildcare provided for Birth-4 years
URL:https://www.trinitybaptist.org/event/sunday-worship-at-mulberry/2028-11-12/
LOCATION:Trinity Baptist Church\, 319 E. Mulberry\, San Antonio\, TX\, 78212\, United States
CATEGORIES:Home Page,Mulberry Campus Page
ATTACH;FMTTYPE=image/jpeg:https://www.trinitybaptist.org/wp-content/uploads/2023/02/DSC3475.jpg
GEO:29.4573879;-98.4877156
X-APPLE-STRUCTURED-LOCATION;VALUE=URI;X-ADDRESS=Trinity Baptist Church 319 E. Mulberry San Antonio TX 78212 United States;X-APPLE-RADIUS=500;X-TITLE=319 E. Mulberry:geo:-98.4877156,29.4573879
END:VEVENT
BEGIN:VEVENT
DTSTART;TZID=America/Chicago:20281119T090000
DTEND;TZID=America/Chicago:20281119T100000
DTSTAMP:20260424T071519
CREATED:20230204T162149Z
LAST-MODIFIED:20260122T221124Z
UID:10025299-1858237200-1858240800@www.trinitybaptist.org
SUMMARY:Sunday Worship at Mulberry
DESCRIPTION:  \nWorship at Mulberry \n\n9:00 am Choir and Orchestra led worship\nChildcare provided for Birth-4 years
URL:https://www.trinitybaptist.org/event/sunday-worship-at-mulberry/2028-11-19/
LOCATION:Trinity Baptist Church\, 319 E. Mulberry\, San Antonio\, TX\, 78212\, United States
CATEGORIES:Home Page,Mulberry Campus Page
ATTACH;FMTTYPE=image/jpeg:https://www.trinitybaptist.org/wp-content/uploads/2023/02/DSC3475.jpg
GEO:29.4573879;-98.4877156
X-APPLE-STRUCTURED-LOCATION;VALUE=URI;X-ADDRESS=Trinity Baptist Church 319 E. Mulberry San Antonio TX 78212 United States;X-APPLE-RADIUS=500;X-TITLE=319 E. Mulberry:geo:-98.4877156,29.4573879
END:VEVENT
BEGIN:VEVENT
DTSTART;TZID=America/Chicago:20281126T090000
DTEND;TZID=America/Chicago:20281126T100000
DTSTAMP:20260424T071519
CREATED:20230204T162149Z
LAST-MODIFIED:20260122T221124Z
UID:10025300-1858842000-1858845600@www.trinitybaptist.org
SUMMARY:Sunday Worship at Mulberry
DESCRIPTION:  \nWorship at Mulberry \n\n9:00 am Choir and Orchestra led worship\nChildcare provided for Birth-4 years
URL:https://www.trinitybaptist.org/event/sunday-worship-at-mulberry/2028-11-26/
LOCATION:Trinity Baptist Church\, 319 E. Mulberry\, San Antonio\, TX\, 78212\, United States
CATEGORIES:Home Page,Mulberry Campus Page
ATTACH;FMTTYPE=image/jpeg:https://www.trinitybaptist.org/wp-content/uploads/2023/02/DSC3475.jpg
GEO:29.4573879;-98.4877156
X-APPLE-STRUCTURED-LOCATION;VALUE=URI;X-ADDRESS=Trinity Baptist Church 319 E. Mulberry San Antonio TX 78212 United States;X-APPLE-RADIUS=500;X-TITLE=319 E. Mulberry:geo:-98.4877156,29.4573879
END:VEVENT
BEGIN:VEVENT
DTSTART;TZID=America/Chicago:20281203T090000
DTEND;TZID=America/Chicago:20281203T100000
DTSTAMP:20260424T071519
CREATED:20230204T162149Z
LAST-MODIFIED:20260122T221124Z
UID:10025301-1859446800-1859450400@www.trinitybaptist.org
SUMMARY:Sunday Worship at Mulberry
DESCRIPTION:  \nWorship at Mulberry \n\n9:00 am Choir and Orchestra led worship\nChildcare provided for Birth-4 years
URL:https://www.trinitybaptist.org/event/sunday-worship-at-mulberry/2028-12-03/
LOCATION:Trinity Baptist Church\, 319 E. Mulberry\, San Antonio\, TX\, 78212\, United States
CATEGORIES:Home Page,Mulberry Campus Page
ATTACH;FMTTYPE=image/jpeg:https://www.trinitybaptist.org/wp-content/uploads/2023/02/DSC3475.jpg
GEO:29.4573879;-98.4877156
X-APPLE-STRUCTURED-LOCATION;VALUE=URI;X-ADDRESS=Trinity Baptist Church 319 E. Mulberry San Antonio TX 78212 United States;X-APPLE-RADIUS=500;X-TITLE=319 E. Mulberry:geo:-98.4877156,29.4573879
END:VEVENT
BEGIN:VEVENT
DTSTART;TZID=America/Chicago:20281210T090000
DTEND;TZID=America/Chicago:20281210T100000
DTSTAMP:20260424T071519
CREATED:20230204T162149Z
LAST-MODIFIED:20260122T221124Z
UID:10025998-1860051600-1860055200@www.trinitybaptist.org
SUMMARY:Sunday Worship at Mulberry
DESCRIPTION:  \nWorship at Mulberry \n\n9:00 am Choir and Orchestra led worship\nChildcare provided for Birth-4 years
URL:https://www.trinitybaptist.org/event/sunday-worship-at-mulberry/2028-12-10/
LOCATION:Trinity Baptist Church\, 319 E. Mulberry\, San Antonio\, TX\, 78212\, United States
CATEGORIES:Home Page,Mulberry Campus Page
ATTACH;FMTTYPE=image/jpeg:https://www.trinitybaptist.org/wp-content/uploads/2023/02/DSC3475.jpg
GEO:29.4573879;-98.4877156
X-APPLE-STRUCTURED-LOCATION;VALUE=URI;X-ADDRESS=Trinity Baptist Church 319 E. Mulberry San Antonio TX 78212 United States;X-APPLE-RADIUS=500;X-TITLE=319 E. Mulberry:geo:-98.4877156,29.4573879
END:VEVENT
BEGIN:VEVENT
DTSTART;TZID=America/Chicago:20281217T090000
DTEND;TZID=America/Chicago:20281217T100000
DTSTAMP:20260424T071519
CREATED:20230204T162149Z
LAST-MODIFIED:20260122T221124Z
UID:10029863-1860656400-1860660000@www.trinitybaptist.org
SUMMARY:Sunday Worship at Mulberry
DESCRIPTION:  \nWorship at Mulberry \n\n9:00 am Choir and Orchestra led worship\nChildcare provided for Birth-4 years
URL:https://www.trinitybaptist.org/event/sunday-worship-at-mulberry/2028-12-17/
LOCATION:Trinity Baptist Church\, 319 E. Mulberry\, San Antonio\, TX\, 78212\, United States
CATEGORIES:Home Page,Mulberry Campus Page
ATTACH;FMTTYPE=image/jpeg:https://www.trinitybaptist.org/wp-content/uploads/2023/02/DSC3475.jpg
GEO:29.4573879;-98.4877156
X-APPLE-STRUCTURED-LOCATION;VALUE=URI;X-ADDRESS=Trinity Baptist Church 319 E. Mulberry San Antonio TX 78212 United States;X-APPLE-RADIUS=500;X-TITLE=319 E. Mulberry:geo:-98.4877156,29.4573879
END:VEVENT
BEGIN:VEVENT
DTSTART;TZID=America/Chicago:20281224T090000
DTEND;TZID=America/Chicago:20281224T100000
DTSTAMP:20260424T071519
CREATED:20230204T162149Z
LAST-MODIFIED:20260122T221124Z
UID:10029864-1861261200-1861264800@www.trinitybaptist.org
SUMMARY:Sunday Worship at Mulberry
DESCRIPTION:  \nWorship at Mulberry \n\n9:00 am Choir and Orchestra led worship\nChildcare provided for Birth-4 years
URL:https://www.trinitybaptist.org/event/sunday-worship-at-mulberry/2028-12-24/
LOCATION:Trinity Baptist Church\, 319 E. Mulberry\, San Antonio\, TX\, 78212\, United States
CATEGORIES:Home Page,Mulberry Campus Page
ATTACH;FMTTYPE=image/jpeg:https://www.trinitybaptist.org/wp-content/uploads/2023/02/DSC3475.jpg
GEO:29.4573879;-98.4877156
X-APPLE-STRUCTURED-LOCATION;VALUE=URI;X-ADDRESS=Trinity Baptist Church 319 E. Mulberry San Antonio TX 78212 United States;X-APPLE-RADIUS=500;X-TITLE=319 E. Mulberry:geo:-98.4877156,29.4573879
END:VEVENT
BEGIN:VEVENT
DTSTART;TZID=America/Chicago:20281231T090000
DTEND;TZID=America/Chicago:20281231T100000
DTSTAMP:20260424T071519
CREATED:20230204T162149Z
LAST-MODIFIED:20260122T221124Z
UID:10029865-1861866000-1861869600@www.trinitybaptist.org
SUMMARY:Sunday Worship at Mulberry
DESCRIPTION:  \nWorship at Mulberry \n\n9:00 am Choir and Orchestra led worship\nChildcare provided for Birth-4 years
URL:https://www.trinitybaptist.org/event/sunday-worship-at-mulberry/2028-12-31/
LOCATION:Trinity Baptist Church\, 319 E. Mulberry\, San Antonio\, TX\, 78212\, United States
CATEGORIES:Home Page,Mulberry Campus Page
ATTACH;FMTTYPE=image/jpeg:https://www.trinitybaptist.org/wp-content/uploads/2023/02/DSC3475.jpg
GEO:29.4573879;-98.4877156
X-APPLE-STRUCTURED-LOCATION;VALUE=URI;X-ADDRESS=Trinity Baptist Church 319 E. Mulberry San Antonio TX 78212 United States;X-APPLE-RADIUS=500;X-TITLE=319 E. Mulberry:geo:-98.4877156,29.4573879
END:VEVENT
BEGIN:VEVENT
DTSTART;TZID=America/Chicago:20290107T090000
DTEND;TZID=America/Chicago:20290107T100000
DTSTAMP:20260424T071519
CREATED:20230204T162149Z
LAST-MODIFIED:20260122T221124Z
UID:10029866-1862470800-1862474400@www.trinitybaptist.org
SUMMARY:Sunday Worship at Mulberry
DESCRIPTION:  \nWorship at Mulberry \n\n9:00 am Choir and Orchestra led worship\nChildcare provided for Birth-4 years
URL:https://www.trinitybaptist.org/event/sunday-worship-at-mulberry/2029-01-07/
LOCATION:Trinity Baptist Church\, 319 E. Mulberry\, San Antonio\, TX\, 78212\, United States
CATEGORIES:Home Page,Mulberry Campus Page
ATTACH;FMTTYPE=image/jpeg:https://www.trinitybaptist.org/wp-content/uploads/2023/02/DSC3475.jpg
GEO:29.4573879;-98.4877156
X-APPLE-STRUCTURED-LOCATION;VALUE=URI;X-ADDRESS=Trinity Baptist Church 319 E. Mulberry San Antonio TX 78212 United States;X-APPLE-RADIUS=500;X-TITLE=319 E. Mulberry:geo:-98.4877156,29.4573879
END:VEVENT
BEGIN:VEVENT
DTSTART;TZID=America/Chicago:20290114T090000
DTEND;TZID=America/Chicago:20290114T100000
DTSTAMP:20260424T071519
CREATED:20230204T162149Z
LAST-MODIFIED:20260122T221124Z
UID:10029867-1863075600-1863079200@www.trinitybaptist.org
SUMMARY:Sunday Worship at Mulberry
DESCRIPTION:  \nWorship at Mulberry \n\n9:00 am Choir and Orchestra led worship\nChildcare provided for Birth-4 years
URL:https://www.trinitybaptist.org/event/sunday-worship-at-mulberry/2029-01-14/
LOCATION:Trinity Baptist Church\, 319 E. Mulberry\, San Antonio\, TX\, 78212\, United States
CATEGORIES:Home Page,Mulberry Campus Page
ATTACH;FMTTYPE=image/jpeg:https://www.trinitybaptist.org/wp-content/uploads/2023/02/DSC3475.jpg
GEO:29.4573879;-98.4877156
X-APPLE-STRUCTURED-LOCATION;VALUE=URI;X-ADDRESS=Trinity Baptist Church 319 E. Mulberry San Antonio TX 78212 United States;X-APPLE-RADIUS=500;X-TITLE=319 E. Mulberry:geo:-98.4877156,29.4573879
END:VEVENT
BEGIN:VEVENT
DTSTART;TZID=America/Chicago:20290121T090000
DTEND;TZID=America/Chicago:20290121T100000
DTSTAMP:20260424T071519
CREATED:20230204T162149Z
LAST-MODIFIED:20260122T221124Z
UID:10036251-1863680400-1863684000@www.trinitybaptist.org
SUMMARY:Sunday Worship at Mulberry
DESCRIPTION:  \nWorship at Mulberry \n\n9:00 am Choir and Orchestra led worship\nChildcare provided for Birth-4 years
URL:https://www.trinitybaptist.org/event/sunday-worship-at-mulberry/2029-01-21/
LOCATION:Trinity Baptist Church\, 319 E. Mulberry\, San Antonio\, TX\, 78212\, United States
CATEGORIES:Home Page,Mulberry Campus Page
ATTACH;FMTTYPE=image/jpeg:https://www.trinitybaptist.org/wp-content/uploads/2023/02/DSC3475.jpg
GEO:29.4573879;-98.4877156
X-APPLE-STRUCTURED-LOCATION;VALUE=URI;X-ADDRESS=Trinity Baptist Church 319 E. Mulberry San Antonio TX 78212 United States;X-APPLE-RADIUS=500;X-TITLE=319 E. Mulberry:geo:-98.4877156,29.4573879
END:VEVENT
BEGIN:VEVENT
DTSTART;TZID=America/Chicago:20290128T090000
DTEND;TZID=America/Chicago:20290128T100000
DTSTAMP:20260424T071519
CREATED:20230204T162149Z
LAST-MODIFIED:20260122T221124Z
UID:10036252-1864285200-1864288800@www.trinitybaptist.org
SUMMARY:Sunday Worship at Mulberry
DESCRIPTION:  \nWorship at Mulberry \n\n9:00 am Choir and Orchestra led worship\nChildcare provided for Birth-4 years
URL:https://www.trinitybaptist.org/event/sunday-worship-at-mulberry/2029-01-28/
LOCATION:Trinity Baptist Church\, 319 E. Mulberry\, San Antonio\, TX\, 78212\, United States
CATEGORIES:Home Page,Mulberry Campus Page
ATTACH;FMTTYPE=image/jpeg:https://www.trinitybaptist.org/wp-content/uploads/2023/02/DSC3475.jpg
GEO:29.4573879;-98.4877156
X-APPLE-STRUCTURED-LOCATION;VALUE=URI;X-ADDRESS=Trinity Baptist Church 319 E. Mulberry San Antonio TX 78212 United States;X-APPLE-RADIUS=500;X-TITLE=319 E. Mulberry:geo:-98.4877156,29.4573879
END:VEVENT
BEGIN:VEVENT
DTSTART;TZID=America/Chicago:20290204T090000
DTEND;TZID=America/Chicago:20290204T100000
DTSTAMP:20260424T071519
CREATED:20230204T162149Z
LAST-MODIFIED:20260122T221124Z
UID:10036253-1864890000-1864893600@www.trinitybaptist.org
SUMMARY:Sunday Worship at Mulberry
DESCRIPTION:  \nWorship at Mulberry \n\n9:00 am Choir and Orchestra led worship\nChildcare provided for Birth-4 years
URL:https://www.trinitybaptist.org/event/sunday-worship-at-mulberry/2029-02-04/
LOCATION:Trinity Baptist Church\, 319 E. Mulberry\, San Antonio\, TX\, 78212\, United States
CATEGORIES:Home Page,Mulberry Campus Page
ATTACH;FMTTYPE=image/jpeg:https://www.trinitybaptist.org/wp-content/uploads/2023/02/DSC3475.jpg
GEO:29.4573879;-98.4877156
X-APPLE-STRUCTURED-LOCATION;VALUE=URI;X-ADDRESS=Trinity Baptist Church 319 E. Mulberry San Antonio TX 78212 United States;X-APPLE-RADIUS=500;X-TITLE=319 E. Mulberry:geo:-98.4877156,29.4573879
END:VEVENT
BEGIN:VEVENT
DTSTART;TZID=America/Chicago:20290211T090000
DTEND;TZID=America/Chicago:20290211T100000
DTSTAMP:20260424T071519
CREATED:20230204T162149Z
LAST-MODIFIED:20260122T221124Z
UID:10036254-1865494800-1865498400@www.trinitybaptist.org
SUMMARY:Sunday Worship at Mulberry
DESCRIPTION:  \nWorship at Mulberry \n\n9:00 am Choir and Orchestra led worship\nChildcare provided for Birth-4 years
URL:https://www.trinitybaptist.org/event/sunday-worship-at-mulberry/2029-02-11/
LOCATION:Trinity Baptist Church\, 319 E. Mulberry\, San Antonio\, TX\, 78212\, United States
CATEGORIES:Home Page,Mulberry Campus Page
ATTACH;FMTTYPE=image/jpeg:https://www.trinitybaptist.org/wp-content/uploads/2023/02/DSC3475.jpg
GEO:29.4573879;-98.4877156
X-APPLE-STRUCTURED-LOCATION;VALUE=URI;X-ADDRESS=Trinity Baptist Church 319 E. Mulberry San Antonio TX 78212 United States;X-APPLE-RADIUS=500;X-TITLE=319 E. Mulberry:geo:-98.4877156,29.4573879
END:VEVENT
BEGIN:VEVENT
DTSTART;TZID=America/Chicago:20290218T090000
DTEND;TZID=America/Chicago:20290218T100000
DTSTAMP:20260424T071519
CREATED:20230204T162149Z
LAST-MODIFIED:20260122T221124Z
UID:10036255-1866099600-1866103200@www.trinitybaptist.org
SUMMARY:Sunday Worship at Mulberry
DESCRIPTION:  \nWorship at Mulberry \n\n9:00 am Choir and Orchestra led worship\nChildcare provided for Birth-4 years
URL:https://www.trinitybaptist.org/event/sunday-worship-at-mulberry/2029-02-18/
LOCATION:Trinity Baptist Church\, 319 E. Mulberry\, San Antonio\, TX\, 78212\, United States
CATEGORIES:Home Page,Mulberry Campus Page
ATTACH;FMTTYPE=image/jpeg:https://www.trinitybaptist.org/wp-content/uploads/2023/02/DSC3475.jpg
GEO:29.4573879;-98.4877156
X-APPLE-STRUCTURED-LOCATION;VALUE=URI;X-ADDRESS=Trinity Baptist Church 319 E. Mulberry San Antonio TX 78212 United States;X-APPLE-RADIUS=500;X-TITLE=319 E. Mulberry:geo:-98.4877156,29.4573879
END:VEVENT
BEGIN:VEVENT
DTSTART;TZID=America/Chicago:20290225T090000
DTEND;TZID=America/Chicago:20290225T100000
DTSTAMP:20260424T071519
CREATED:20230204T162149Z
LAST-MODIFIED:20260122T221124Z
UID:10036256-1866704400-1866708000@www.trinitybaptist.org
SUMMARY:Sunday Worship at Mulberry
DESCRIPTION:  \nWorship at Mulberry \n\n9:00 am Choir and Orchestra led worship\nChildcare provided for Birth-4 years
URL:https://www.trinitybaptist.org/event/sunday-worship-at-mulberry/2029-02-25/
LOCATION:Trinity Baptist Church\, 319 E. Mulberry\, San Antonio\, TX\, 78212\, United States
CATEGORIES:Home Page,Mulberry Campus Page
ATTACH;FMTTYPE=image/jpeg:https://www.trinitybaptist.org/wp-content/uploads/2023/02/DSC3475.jpg
GEO:29.4573879;-98.4877156
X-APPLE-STRUCTURED-LOCATION;VALUE=URI;X-ADDRESS=Trinity Baptist Church 319 E. Mulberry San Antonio TX 78212 United States;X-APPLE-RADIUS=500;X-TITLE=319 E. Mulberry:geo:-98.4877156,29.4573879
END:VEVENT
BEGIN:VEVENT
DTSTART;TZID=America/Chicago:20290304T090000
DTEND;TZID=America/Chicago:20290304T100000
DTSTAMP:20260424T071519
CREATED:20230204T162149Z
LAST-MODIFIED:20260122T221124Z
UID:10036257-1867309200-1867312800@www.trinitybaptist.org
SUMMARY:Sunday Worship at Mulberry
DESCRIPTION:  \nWorship at Mulberry \n\n9:00 am Choir and Orchestra led worship\nChildcare provided for Birth-4 years
URL:https://www.trinitybaptist.org/event/sunday-worship-at-mulberry/2029-03-04/
LOCATION:Trinity Baptist Church\, 319 E. Mulberry\, San Antonio\, TX\, 78212\, United States
CATEGORIES:Home Page,Mulberry Campus Page
ATTACH;FMTTYPE=image/jpeg:https://www.trinitybaptist.org/wp-content/uploads/2023/02/DSC3475.jpg
GEO:29.4573879;-98.4877156
X-APPLE-STRUCTURED-LOCATION;VALUE=URI;X-ADDRESS=Trinity Baptist Church 319 E. Mulberry San Antonio TX 78212 United States;X-APPLE-RADIUS=500;X-TITLE=319 E. Mulberry:geo:-98.4877156,29.4573879
END:VEVENT
END:VCALENDAR