BEGIN:VCALENDAR
VERSION:2.0
PRODID:-//Trinity Baptist Church in San Antonio, TX - ECPv6.5.0//NONSGML v1.0//EN
CALSCALE:GREGORIAN
METHOD:PUBLISH
X-ORIGINAL-URL:https://www.trinitybaptist.org
X-WR-CALDESC:Events for Trinity Baptist Church in San Antonio, TX
REFRESH-INTERVAL;VALUE=DURATION:PT1H
X-Robots-Tag:noindex
X-PUBLISHED-TTL:PT1H
BEGIN:VTIMEZONE
TZID:America/Chicago
BEGIN:DAYLIGHT
TZOFFSETFROM:-0600
TZOFFSETTO:-0500
TZNAME:CDT
DTSTART:20280312T080000
END:DAYLIGHT
BEGIN:STANDARD
TZOFFSETFROM:-0500
TZOFFSETTO:-0600
TZNAME:CST
DTSTART:20281105T070000
END:STANDARD
END:VTIMEZONE
BEGIN:VEVENT
DTSTART;TZID=America/Chicago:20280528T113000
DTEND;TZID=America/Chicago:20280528T123000
DTSTAMP:20260424T105857
CREATED:20230204T162312Z
LAST-MODIFIED:20260122T221154Z
UID:10029596-1843126200-1843129800@www.trinitybaptist.org
SUMMARY:Sunday Worship at TriPoint
DESCRIPTION:  \nWorship at TriPoint \n\n11:30 am Band led worship\nChildcare is available for ages Birth-4 years.
URL:https://www.trinitybaptist.org/event/sunday-worship-at-tripoint/2028-05-28/
LOCATION:TriPoint\, 3233 N St. Mary's St.\, San Antonio\, TX\, 78212\, United States
CATEGORIES:Home Page,TriPoint Campus Page
ATTACH;FMTTYPE=image/jpeg:https://www.trinitybaptist.org/wp-content/uploads/2023/02/DSC2971-2.jpg
END:VEVENT
BEGIN:VEVENT
DTSTART;TZID=America/Chicago:20280604T113000
DTEND;TZID=America/Chicago:20280604T123000
DTSTAMP:20260424T105857
CREATED:20230204T162312Z
LAST-MODIFIED:20260122T221154Z
UID:10029597-1843731000-1843734600@www.trinitybaptist.org
SUMMARY:Sunday Worship at TriPoint
DESCRIPTION:  \nWorship at TriPoint \n\n11:30 am Band led worship\nChildcare is available for ages Birth-4 years.
URL:https://www.trinitybaptist.org/event/sunday-worship-at-tripoint/2028-06-04/
LOCATION:TriPoint\, 3233 N St. Mary's St.\, San Antonio\, TX\, 78212\, United States
CATEGORIES:Home Page,TriPoint Campus Page
ATTACH;FMTTYPE=image/jpeg:https://www.trinitybaptist.org/wp-content/uploads/2023/02/DSC2971-2.jpg
END:VEVENT
BEGIN:VEVENT
DTSTART;TZID=America/Chicago:20280611T113000
DTEND;TZID=America/Chicago:20280611T123000
DTSTAMP:20260424T105857
CREATED:20230204T162312Z
LAST-MODIFIED:20260122T221154Z
UID:10029598-1844335800-1844339400@www.trinitybaptist.org
SUMMARY:Sunday Worship at TriPoint
DESCRIPTION:  \nWorship at TriPoint \n\n11:30 am Band led worship\nChildcare is available for ages Birth-4 years.
URL:https://www.trinitybaptist.org/event/sunday-worship-at-tripoint/2028-06-11/
LOCATION:TriPoint\, 3233 N St. Mary's St.\, San Antonio\, TX\, 78212\, United States
CATEGORIES:Home Page,TriPoint Campus Page
ATTACH;FMTTYPE=image/jpeg:https://www.trinitybaptist.org/wp-content/uploads/2023/02/DSC2971-2.jpg
END:VEVENT
BEGIN:VEVENT
DTSTART;TZID=America/Chicago:20280618T113000
DTEND;TZID=America/Chicago:20280618T123000
DTSTAMP:20260424T105857
CREATED:20230204T162312Z
LAST-MODIFIED:20260122T221154Z
UID:10029599-1844940600-1844944200@www.trinitybaptist.org
SUMMARY:Sunday Worship at TriPoint
DESCRIPTION:  \nWorship at TriPoint \n\n11:30 am Band led worship\nChildcare is available for ages Birth-4 years.
URL:https://www.trinitybaptist.org/event/sunday-worship-at-tripoint/2028-06-18/
LOCATION:TriPoint\, 3233 N St. Mary's St.\, San Antonio\, TX\, 78212\, United States
CATEGORIES:Home Page,TriPoint Campus Page
ATTACH;FMTTYPE=image/jpeg:https://www.trinitybaptist.org/wp-content/uploads/2023/02/DSC2971-2.jpg
END:VEVENT
BEGIN:VEVENT
DTSTART;TZID=America/Chicago:20280625T113000
DTEND;TZID=America/Chicago:20280625T123000
DTSTAMP:20260424T105857
CREATED:20230204T162312Z
LAST-MODIFIED:20260122T221154Z
UID:10029600-1845545400-1845549000@www.trinitybaptist.org
SUMMARY:Sunday Worship at TriPoint
DESCRIPTION:  \nWorship at TriPoint \n\n11:30 am Band led worship\nChildcare is available for ages Birth-4 years.
URL:https://www.trinitybaptist.org/event/sunday-worship-at-tripoint/2028-06-25/
LOCATION:TriPoint\, 3233 N St. Mary's St.\, San Antonio\, TX\, 78212\, United States
CATEGORIES:Home Page,TriPoint Campus Page
ATTACH;FMTTYPE=image/jpeg:https://www.trinitybaptist.org/wp-content/uploads/2023/02/DSC2971-2.jpg
END:VEVENT
BEGIN:VEVENT
DTSTART;TZID=America/Chicago:20280702T113000
DTEND;TZID=America/Chicago:20280702T123000
DTSTAMP:20260424T105857
CREATED:20230204T162312Z
LAST-MODIFIED:20260122T221154Z
UID:10029601-1846150200-1846153800@www.trinitybaptist.org
SUMMARY:Sunday Worship at TriPoint
DESCRIPTION:  \nWorship at TriPoint \n\n11:30 am Band led worship\nChildcare is available for ages Birth-4 years.
URL:https://www.trinitybaptist.org/event/sunday-worship-at-tripoint/2028-07-02/
LOCATION:TriPoint\, 3233 N St. Mary's St.\, San Antonio\, TX\, 78212\, United States
CATEGORIES:Home Page,TriPoint Campus Page
ATTACH;FMTTYPE=image/jpeg:https://www.trinitybaptist.org/wp-content/uploads/2023/02/DSC2971-2.jpg
END:VEVENT
BEGIN:VEVENT
DTSTART;TZID=America/Chicago:20280709T113000
DTEND;TZID=America/Chicago:20280709T123000
DTSTAMP:20260424T105857
CREATED:20230204T162312Z
LAST-MODIFIED:20260122T221154Z
UID:10029602-1846755000-1846758600@www.trinitybaptist.org
SUMMARY:Sunday Worship at TriPoint
DESCRIPTION:  \nWorship at TriPoint \n\n11:30 am Band led worship\nChildcare is available for ages Birth-4 years.
URL:https://www.trinitybaptist.org/event/sunday-worship-at-tripoint/2028-07-09/
LOCATION:TriPoint\, 3233 N St. Mary's St.\, San Antonio\, TX\, 78212\, United States
CATEGORIES:Home Page,TriPoint Campus Page
ATTACH;FMTTYPE=image/jpeg:https://www.trinitybaptist.org/wp-content/uploads/2023/02/DSC2971-2.jpg
END:VEVENT
BEGIN:VEVENT
DTSTART;TZID=America/Chicago:20280716T113000
DTEND;TZID=America/Chicago:20280716T123000
DTSTAMP:20260424T105857
CREATED:20230204T162312Z
LAST-MODIFIED:20260122T221154Z
UID:10029603-1847359800-1847363400@www.trinitybaptist.org
SUMMARY:Sunday Worship at TriPoint
DESCRIPTION:  \nWorship at TriPoint \n\n11:30 am Band led worship\nChildcare is available for ages Birth-4 years.
URL:https://www.trinitybaptist.org/event/sunday-worship-at-tripoint/2028-07-16/
LOCATION:TriPoint\, 3233 N St. Mary's St.\, San Antonio\, TX\, 78212\, United States
CATEGORIES:Home Page,TriPoint Campus Page
ATTACH;FMTTYPE=image/jpeg:https://www.trinitybaptist.org/wp-content/uploads/2023/02/DSC2971-2.jpg
END:VEVENT
BEGIN:VEVENT
DTSTART;TZID=America/Chicago:20280723T113000
DTEND;TZID=America/Chicago:20280723T123000
DTSTAMP:20260424T105857
CREATED:20230204T162312Z
LAST-MODIFIED:20260122T221154Z
UID:10029604-1847964600-1847968200@www.trinitybaptist.org
SUMMARY:Sunday Worship at TriPoint
DESCRIPTION:  \nWorship at TriPoint \n\n11:30 am Band led worship\nChildcare is available for ages Birth-4 years.
URL:https://www.trinitybaptist.org/event/sunday-worship-at-tripoint/2028-07-23/
LOCATION:TriPoint\, 3233 N St. Mary's St.\, San Antonio\, TX\, 78212\, United States
CATEGORIES:Home Page,TriPoint Campus Page
ATTACH;FMTTYPE=image/jpeg:https://www.trinitybaptist.org/wp-content/uploads/2023/02/DSC2971-2.jpg
END:VEVENT
BEGIN:VEVENT
DTSTART;TZID=America/Chicago:20280730T113000
DTEND;TZID=America/Chicago:20280730T123000
DTSTAMP:20260424T105857
CREATED:20230204T162312Z
LAST-MODIFIED:20260122T221154Z
UID:10029605-1848569400-1848573000@www.trinitybaptist.org
SUMMARY:Sunday Worship at TriPoint
DESCRIPTION:  \nWorship at TriPoint \n\n11:30 am Band led worship\nChildcare is available for ages Birth-4 years.
URL:https://www.trinitybaptist.org/event/sunday-worship-at-tripoint/2028-07-30/
LOCATION:TriPoint\, 3233 N St. Mary's St.\, San Antonio\, TX\, 78212\, United States
CATEGORIES:Home Page,TriPoint Campus Page
ATTACH;FMTTYPE=image/jpeg:https://www.trinitybaptist.org/wp-content/uploads/2023/02/DSC2971-2.jpg
END:VEVENT
BEGIN:VEVENT
DTSTART;TZID=America/Chicago:20280806T113000
DTEND;TZID=America/Chicago:20280806T123000
DTSTAMP:20260424T105857
CREATED:20230204T162312Z
LAST-MODIFIED:20260122T221154Z
UID:10029606-1849174200-1849177800@www.trinitybaptist.org
SUMMARY:Sunday Worship at TriPoint
DESCRIPTION:  \nWorship at TriPoint \n\n11:30 am Band led worship\nChildcare is available for ages Birth-4 years.
URL:https://www.trinitybaptist.org/event/sunday-worship-at-tripoint/2028-08-06/
LOCATION:TriPoint\, 3233 N St. Mary's St.\, San Antonio\, TX\, 78212\, United States
CATEGORIES:Home Page,TriPoint Campus Page
ATTACH;FMTTYPE=image/jpeg:https://www.trinitybaptist.org/wp-content/uploads/2023/02/DSC2971-2.jpg
END:VEVENT
BEGIN:VEVENT
DTSTART;TZID=America/Chicago:20280813T113000
DTEND;TZID=America/Chicago:20280813T123000
DTSTAMP:20260424T105857
CREATED:20230204T162312Z
LAST-MODIFIED:20260122T221154Z
UID:10029607-1849779000-1849782600@www.trinitybaptist.org
SUMMARY:Sunday Worship at TriPoint
DESCRIPTION:  \nWorship at TriPoint \n\n11:30 am Band led worship\nChildcare is available for ages Birth-4 years.
URL:https://www.trinitybaptist.org/event/sunday-worship-at-tripoint/2028-08-13/
LOCATION:TriPoint\, 3233 N St. Mary's St.\, San Antonio\, TX\, 78212\, United States
CATEGORIES:Home Page,TriPoint Campus Page
ATTACH;FMTTYPE=image/jpeg:https://www.trinitybaptist.org/wp-content/uploads/2023/02/DSC2971-2.jpg
END:VEVENT
BEGIN:VEVENT
DTSTART;TZID=America/Chicago:20280820T113000
DTEND;TZID=America/Chicago:20280820T123000
DTSTAMP:20260424T105857
CREATED:20230204T162312Z
LAST-MODIFIED:20260122T221154Z
UID:10029608-1850383800-1850387400@www.trinitybaptist.org
SUMMARY:Sunday Worship at TriPoint
DESCRIPTION:  \nWorship at TriPoint \n\n11:30 am Band led worship\nChildcare is available for ages Birth-4 years.
URL:https://www.trinitybaptist.org/event/sunday-worship-at-tripoint/2028-08-20/
LOCATION:TriPoint\, 3233 N St. Mary's St.\, San Antonio\, TX\, 78212\, United States
CATEGORIES:Home Page,TriPoint Campus Page
ATTACH;FMTTYPE=image/jpeg:https://www.trinitybaptist.org/wp-content/uploads/2023/02/DSC2971-2.jpg
END:VEVENT
BEGIN:VEVENT
DTSTART;TZID=America/Chicago:20280827T113000
DTEND;TZID=America/Chicago:20280827T123000
DTSTAMP:20260424T105857
CREATED:20230204T162312Z
LAST-MODIFIED:20260122T221154Z
UID:10029609-1850988600-1850992200@www.trinitybaptist.org
SUMMARY:Sunday Worship at TriPoint
DESCRIPTION:  \nWorship at TriPoint \n\n11:30 am Band led worship\nChildcare is available for ages Birth-4 years.
URL:https://www.trinitybaptist.org/event/sunday-worship-at-tripoint/2028-08-27/
LOCATION:TriPoint\, 3233 N St. Mary's St.\, San Antonio\, TX\, 78212\, United States
CATEGORIES:Home Page,TriPoint Campus Page
ATTACH;FMTTYPE=image/jpeg:https://www.trinitybaptist.org/wp-content/uploads/2023/02/DSC2971-2.jpg
END:VEVENT
BEGIN:VEVENT
DTSTART;TZID=America/Chicago:20280903T113000
DTEND;TZID=America/Chicago:20280903T123000
DTSTAMP:20260424T105857
CREATED:20230204T162312Z
LAST-MODIFIED:20260122T221154Z
UID:10029610-1851593400-1851597000@www.trinitybaptist.org
SUMMARY:Sunday Worship at TriPoint
DESCRIPTION:  \nWorship at TriPoint \n\n11:30 am Band led worship\nChildcare is available for ages Birth-4 years.
URL:https://www.trinitybaptist.org/event/sunday-worship-at-tripoint/2028-09-03/
LOCATION:TriPoint\, 3233 N St. Mary's St.\, San Antonio\, TX\, 78212\, United States
CATEGORIES:Home Page,TriPoint Campus Page
ATTACH;FMTTYPE=image/jpeg:https://www.trinitybaptist.org/wp-content/uploads/2023/02/DSC2971-2.jpg
END:VEVENT
BEGIN:VEVENT
DTSTART;TZID=America/Chicago:20280910T113000
DTEND;TZID=America/Chicago:20280910T123000
DTSTAMP:20260424T105857
CREATED:20230204T162312Z
LAST-MODIFIED:20260122T221154Z
UID:10029611-1852198200-1852201800@www.trinitybaptist.org
SUMMARY:Sunday Worship at TriPoint
DESCRIPTION:  \nWorship at TriPoint \n\n11:30 am Band led worship\nChildcare is available for ages Birth-4 years.
URL:https://www.trinitybaptist.org/event/sunday-worship-at-tripoint/2028-09-10/
LOCATION:TriPoint\, 3233 N St. Mary's St.\, San Antonio\, TX\, 78212\, United States
CATEGORIES:Home Page,TriPoint Campus Page
ATTACH;FMTTYPE=image/jpeg:https://www.trinitybaptist.org/wp-content/uploads/2023/02/DSC2971-2.jpg
END:VEVENT
BEGIN:VEVENT
DTSTART;TZID=America/Chicago:20280917T113000
DTEND;TZID=America/Chicago:20280917T123000
DTSTAMP:20260424T105857
CREATED:20230204T162312Z
LAST-MODIFIED:20260122T221154Z
UID:10029612-1852803000-1852806600@www.trinitybaptist.org
SUMMARY:Sunday Worship at TriPoint
DESCRIPTION:  \nWorship at TriPoint \n\n11:30 am Band led worship\nChildcare is available for ages Birth-4 years.
URL:https://www.trinitybaptist.org/event/sunday-worship-at-tripoint/2028-09-17/
LOCATION:TriPoint\, 3233 N St. Mary's St.\, San Antonio\, TX\, 78212\, United States
CATEGORIES:Home Page,TriPoint Campus Page
ATTACH;FMTTYPE=image/jpeg:https://www.trinitybaptist.org/wp-content/uploads/2023/02/DSC2971-2.jpg
END:VEVENT
BEGIN:VEVENT
DTSTART;TZID=America/Chicago:20280924T113000
DTEND;TZID=America/Chicago:20280924T123000
DTSTAMP:20260424T105857
CREATED:20230204T162312Z
LAST-MODIFIED:20260122T221154Z
UID:10029613-1853407800-1853411400@www.trinitybaptist.org
SUMMARY:Sunday Worship at TriPoint
DESCRIPTION:  \nWorship at TriPoint \n\n11:30 am Band led worship\nChildcare is available for ages Birth-4 years.
URL:https://www.trinitybaptist.org/event/sunday-worship-at-tripoint/2028-09-24/
LOCATION:TriPoint\, 3233 N St. Mary's St.\, San Antonio\, TX\, 78212\, United States
CATEGORIES:Home Page,TriPoint Campus Page
ATTACH;FMTTYPE=image/jpeg:https://www.trinitybaptist.org/wp-content/uploads/2023/02/DSC2971-2.jpg
END:VEVENT
BEGIN:VEVENT
DTSTART;TZID=America/Chicago:20281001T113000
DTEND;TZID=America/Chicago:20281001T123000
DTSTAMP:20260424T105857
CREATED:20230204T162312Z
LAST-MODIFIED:20260122T221154Z
UID:10029614-1854012600-1854016200@www.trinitybaptist.org
SUMMARY:Sunday Worship at TriPoint
DESCRIPTION:  \nWorship at TriPoint \n\n11:30 am Band led worship\nChildcare is available for ages Birth-4 years.
URL:https://www.trinitybaptist.org/event/sunday-worship-at-tripoint/2028-10-01/
LOCATION:TriPoint\, 3233 N St. Mary's St.\, San Antonio\, TX\, 78212\, United States
CATEGORIES:Home Page,TriPoint Campus Page
ATTACH;FMTTYPE=image/jpeg:https://www.trinitybaptist.org/wp-content/uploads/2023/02/DSC2971-2.jpg
END:VEVENT
BEGIN:VEVENT
DTSTART;TZID=America/Chicago:20281008T113000
DTEND;TZID=America/Chicago:20281008T123000
DTSTAMP:20260424T105857
CREATED:20230204T162312Z
LAST-MODIFIED:20260122T221154Z
UID:10029615-1854617400-1854621000@www.trinitybaptist.org
SUMMARY:Sunday Worship at TriPoint
DESCRIPTION:  \nWorship at TriPoint \n\n11:30 am Band led worship\nChildcare is available for ages Birth-4 years.
URL:https://www.trinitybaptist.org/event/sunday-worship-at-tripoint/2028-10-08/
LOCATION:TriPoint\, 3233 N St. Mary's St.\, San Antonio\, TX\, 78212\, United States
CATEGORIES:Home Page,TriPoint Campus Page
ATTACH;FMTTYPE=image/jpeg:https://www.trinitybaptist.org/wp-content/uploads/2023/02/DSC2971-2.jpg
END:VEVENT
BEGIN:VEVENT
DTSTART;TZID=America/Chicago:20281015T113000
DTEND;TZID=America/Chicago:20281015T123000
DTSTAMP:20260424T105857
CREATED:20230204T162312Z
LAST-MODIFIED:20260122T221154Z
UID:10029616-1855222200-1855225800@www.trinitybaptist.org
SUMMARY:Sunday Worship at TriPoint
DESCRIPTION:  \nWorship at TriPoint \n\n11:30 am Band led worship\nChildcare is available for ages Birth-4 years.
URL:https://www.trinitybaptist.org/event/sunday-worship-at-tripoint/2028-10-15/
LOCATION:TriPoint\, 3233 N St. Mary's St.\, San Antonio\, TX\, 78212\, United States
CATEGORIES:Home Page,TriPoint Campus Page
ATTACH;FMTTYPE=image/jpeg:https://www.trinitybaptist.org/wp-content/uploads/2023/02/DSC2971-2.jpg
END:VEVENT
BEGIN:VEVENT
DTSTART;TZID=America/Chicago:20281022T113000
DTEND;TZID=America/Chicago:20281022T123000
DTSTAMP:20260424T105857
CREATED:20230204T162312Z
LAST-MODIFIED:20260122T221154Z
UID:10029617-1855827000-1855830600@www.trinitybaptist.org
SUMMARY:Sunday Worship at TriPoint
DESCRIPTION:  \nWorship at TriPoint \n\n11:30 am Band led worship\nChildcare is available for ages Birth-4 years.
URL:https://www.trinitybaptist.org/event/sunday-worship-at-tripoint/2028-10-22/
LOCATION:TriPoint\, 3233 N St. Mary's St.\, San Antonio\, TX\, 78212\, United States
CATEGORIES:Home Page,TriPoint Campus Page
ATTACH;FMTTYPE=image/jpeg:https://www.trinitybaptist.org/wp-content/uploads/2023/02/DSC2971-2.jpg
END:VEVENT
BEGIN:VEVENT
DTSTART;TZID=America/Chicago:20281029T113000
DTEND;TZID=America/Chicago:20281029T123000
DTSTAMP:20260424T105857
CREATED:20230204T162312Z
LAST-MODIFIED:20260122T221154Z
UID:10029618-1856431800-1856435400@www.trinitybaptist.org
SUMMARY:Sunday Worship at TriPoint
DESCRIPTION:  \nWorship at TriPoint \n\n11:30 am Band led worship\nChildcare is available for ages Birth-4 years.
URL:https://www.trinitybaptist.org/event/sunday-worship-at-tripoint/2028-10-29/
LOCATION:TriPoint\, 3233 N St. Mary's St.\, San Antonio\, TX\, 78212\, United States
CATEGORIES:Home Page,TriPoint Campus Page
ATTACH;FMTTYPE=image/jpeg:https://www.trinitybaptist.org/wp-content/uploads/2023/02/DSC2971-2.jpg
END:VEVENT
BEGIN:VEVENT
DTSTART;TZID=America/Chicago:20281105T113000
DTEND;TZID=America/Chicago:20281105T123000
DTSTAMP:20260424T105857
CREATED:20230204T162312Z
LAST-MODIFIED:20260122T221154Z
UID:10029619-1857036600-1857040200@www.trinitybaptist.org
SUMMARY:Sunday Worship at TriPoint
DESCRIPTION:  \nWorship at TriPoint \n\n11:30 am Band led worship\nChildcare is available for ages Birth-4 years.
URL:https://www.trinitybaptist.org/event/sunday-worship-at-tripoint/2028-11-05/
LOCATION:TriPoint\, 3233 N St. Mary's St.\, San Antonio\, TX\, 78212\, United States
CATEGORIES:Home Page,TriPoint Campus Page
ATTACH;FMTTYPE=image/jpeg:https://www.trinitybaptist.org/wp-content/uploads/2023/02/DSC2971-2.jpg
END:VEVENT
BEGIN:VEVENT
DTSTART;TZID=America/Chicago:20281112T113000
DTEND;TZID=America/Chicago:20281112T123000
DTSTAMP:20260424T105857
CREATED:20230204T162312Z
LAST-MODIFIED:20260122T221154Z
UID:10029620-1857641400-1857645000@www.trinitybaptist.org
SUMMARY:Sunday Worship at TriPoint
DESCRIPTION:  \nWorship at TriPoint \n\n11:30 am Band led worship\nChildcare is available for ages Birth-4 years.
URL:https://www.trinitybaptist.org/event/sunday-worship-at-tripoint/2028-11-12/
LOCATION:TriPoint\, 3233 N St. Mary's St.\, San Antonio\, TX\, 78212\, United States
CATEGORIES:Home Page,TriPoint Campus Page
ATTACH;FMTTYPE=image/jpeg:https://www.trinitybaptist.org/wp-content/uploads/2023/02/DSC2971-2.jpg
END:VEVENT
BEGIN:VEVENT
DTSTART;TZID=America/Chicago:20281119T113000
DTEND;TZID=America/Chicago:20281119T123000
DTSTAMP:20260424T105857
CREATED:20230204T162312Z
LAST-MODIFIED:20260122T221154Z
UID:10029621-1858246200-1858249800@www.trinitybaptist.org
SUMMARY:Sunday Worship at TriPoint
DESCRIPTION:  \nWorship at TriPoint \n\n11:30 am Band led worship\nChildcare is available for ages Birth-4 years.
URL:https://www.trinitybaptist.org/event/sunday-worship-at-tripoint/2028-11-19/
LOCATION:TriPoint\, 3233 N St. Mary's St.\, San Antonio\, TX\, 78212\, United States
CATEGORIES:Home Page,TriPoint Campus Page
ATTACH;FMTTYPE=image/jpeg:https://www.trinitybaptist.org/wp-content/uploads/2023/02/DSC2971-2.jpg
END:VEVENT
BEGIN:VEVENT
DTSTART;TZID=America/Chicago:20281126T113000
DTEND;TZID=America/Chicago:20281126T123000
DTSTAMP:20260424T105857
CREATED:20230204T162312Z
LAST-MODIFIED:20260122T221154Z
UID:10029622-1858851000-1858854600@www.trinitybaptist.org
SUMMARY:Sunday Worship at TriPoint
DESCRIPTION:  \nWorship at TriPoint \n\n11:30 am Band led worship\nChildcare is available for ages Birth-4 years.
URL:https://www.trinitybaptist.org/event/sunday-worship-at-tripoint/2028-11-26/
LOCATION:TriPoint\, 3233 N St. Mary's St.\, San Antonio\, TX\, 78212\, United States
CATEGORIES:Home Page,TriPoint Campus Page
ATTACH;FMTTYPE=image/jpeg:https://www.trinitybaptist.org/wp-content/uploads/2023/02/DSC2971-2.jpg
END:VEVENT
BEGIN:VEVENT
DTSTART;TZID=America/Chicago:20281203T113000
DTEND;TZID=America/Chicago:20281203T123000
DTSTAMP:20260424T105857
CREATED:20230204T162312Z
LAST-MODIFIED:20260122T221154Z
UID:10029623-1859455800-1859459400@www.trinitybaptist.org
SUMMARY:Sunday Worship at TriPoint
DESCRIPTION:  \nWorship at TriPoint \n\n11:30 am Band led worship\nChildcare is available for ages Birth-4 years.
URL:https://www.trinitybaptist.org/event/sunday-worship-at-tripoint/2028-12-03/
LOCATION:TriPoint\, 3233 N St. Mary's St.\, San Antonio\, TX\, 78212\, United States
CATEGORIES:Home Page,TriPoint Campus Page
ATTACH;FMTTYPE=image/jpeg:https://www.trinitybaptist.org/wp-content/uploads/2023/02/DSC2971-2.jpg
END:VEVENT
BEGIN:VEVENT
DTSTART;TZID=America/Chicago:20281210T113000
DTEND;TZID=America/Chicago:20281210T123000
DTSTAMP:20260424T105857
CREATED:20230204T162312Z
LAST-MODIFIED:20260122T221154Z
UID:10029624-1860060600-1860064200@www.trinitybaptist.org
SUMMARY:Sunday Worship at TriPoint
DESCRIPTION:  \nWorship at TriPoint \n\n11:30 am Band led worship\nChildcare is available for ages Birth-4 years.
URL:https://www.trinitybaptist.org/event/sunday-worship-at-tripoint/2028-12-10/
LOCATION:TriPoint\, 3233 N St. Mary's St.\, San Antonio\, TX\, 78212\, United States
CATEGORIES:Home Page,TriPoint Campus Page
ATTACH;FMTTYPE=image/jpeg:https://www.trinitybaptist.org/wp-content/uploads/2023/02/DSC2971-2.jpg
END:VEVENT
BEGIN:VEVENT
DTSTART;TZID=America/Chicago:20281217T113000
DTEND;TZID=America/Chicago:20281217T123000
DTSTAMP:20260424T105857
CREATED:20230204T162312Z
LAST-MODIFIED:20260122T221154Z
UID:10029625-1860665400-1860669000@www.trinitybaptist.org
SUMMARY:Sunday Worship at TriPoint
DESCRIPTION:  \nWorship at TriPoint \n\n11:30 am Band led worship\nChildcare is available for ages Birth-4 years.
URL:https://www.trinitybaptist.org/event/sunday-worship-at-tripoint/2028-12-17/
LOCATION:TriPoint\, 3233 N St. Mary's St.\, San Antonio\, TX\, 78212\, United States
CATEGORIES:Home Page,TriPoint Campus Page
ATTACH;FMTTYPE=image/jpeg:https://www.trinitybaptist.org/wp-content/uploads/2023/02/DSC2971-2.jpg
END:VEVENT
END:VCALENDAR