BEGIN:VCALENDAR
VERSION:2.0
PRODID:-//Trinity Baptist Church in San Antonio, TX - ECPv6.5.0//NONSGML v1.0//EN
CALSCALE:GREGORIAN
METHOD:PUBLISH
X-ORIGINAL-URL:https://www.trinitybaptist.org
X-WR-CALDESC:Events for Trinity Baptist Church in San Antonio, TX
REFRESH-INTERVAL;VALUE=DURATION:PT1H
X-Robots-Tag:noindex
X-PUBLISHED-TTL:PT1H
BEGIN:VTIMEZONE
TZID:America/Chicago
BEGIN:DAYLIGHT
TZOFFSETFROM:-0600
TZOFFSETTO:-0500
TZNAME:CDT
DTSTART:20260308T080000
END:DAYLIGHT
BEGIN:STANDARD
TZOFFSETFROM:-0500
TZOFFSETTO:-0600
TZNAME:CST
DTSTART:20261101T070000
END:STANDARD
END:VTIMEZONE
BEGIN:VEVENT
DTSTART;TZID=America/Chicago:20260412T090000
DTEND;TZID=America/Chicago:20260412T101500
DTSTAMP:20260419T090046
CREATED:20251015T211721Z
LAST-MODIFIED:20251015T211721Z
UID:10055672-1775984400-1775988900@www.trinitybaptist.org
SUMMARY:New Beginnings - Sunday Bible Study Combined Worship
DESCRIPTION:Women All Ages | 9:00 am | TriPoint HUB  \nOur unique class is for women who are in recovery or have completed a recovery program for substance abuse. The teaching style is lecture with some discussion.
URL:https://www.trinitybaptist.org/event/new-beginnings-sunday-bible-study-combined-worship/2026-04-12/
LOCATION:TriPoint\, 3233 N St. Mary's St.\, San Antonio\, TX\, 78212\, United States
CATEGORIES:Adult Ministries Page,Small Groups Page,TriPoint Campus Page
ATTACH;FMTTYPE=image/png:https://www.trinitybaptist.org/wp-content/uploads/2023/05/NEW-BEGINNINGS.png
END:VEVENT
BEGIN:VEVENT
DTSTART;TZID=America/Chicago:20260412T090000
DTEND;TZID=America/Chicago:20260412T101500
DTSTAMP:20260419T090046
CREATED:20251015T211950Z
LAST-MODIFIED:20251015T212145Z
UID:10055677-1775984400-1775988900@www.trinitybaptist.org
SUMMARY:The Bridge - Sunday Bible Study Combined Worship
DESCRIPTION:Adults All ages | 9:00 am | TriPoint RM1/3  \nOur members span a wide age range and include both married couples and singles. The teaching style is lecture/discussion. Our goal is transformation into Christlikeness\, experiencing Christ-life together\, and reaching out to those who need Christ and a Christian community.
URL:https://www.trinitybaptist.org/event/the-bridge-sunday-bible-study-combined-worship/2026-04-12/
LOCATION:TriPoint\, 3233 N St. Mary's St.\, San Antonio\, TX\, 78212\, United States
CATEGORIES:Adult Ministries Page,Small Groups Page,TriPoint Campus Page
ATTACH;FMTTYPE=image/png:https://www.trinitybaptist.org/wp-content/uploads/2023/05/THE-BRIDGE.png
END:VEVENT
BEGIN:VEVENT
DTSTART;TZID=America/Chicago:20260412T090000
DTEND;TZID=America/Chicago:20260412T123000
DTSTAMP:20260419T090046
CREATED:20260212T160328Z
LAST-MODIFIED:20260410T153258Z
UID:10056948-1775984400-1775997000@www.trinitybaptist.org
SUMMARY:Fiesta Sunday Combined Worship
DESCRIPTION:¡Viva Fiesta! \nJoin us on April 12 at 1030 am to kick-off Fiesta season with Fiesta Sunday Combined Worship at TriPoint! Stay after the service to eat lunch and celebrate together. \nSunday Bible Study will be at 9 am at Mulberry & TriPoint. \nWatch Live
URL:https://www.trinitybaptist.org/event/fiesta-sunday-combined-worship/
LOCATION:TriPoint\, 3233 N St. Mary's St.\, San Antonio\, TX\, 78212\, United States
CATEGORIES:Home Page,TriPoint Campus Page
ATTACH;FMTTYPE=image/jpeg:https://www.trinitybaptist.org/wp-content/uploads/2026/02/FS-Static-scaled.jpg
END:VEVENT
END:VCALENDAR