BEGIN:VCALENDAR
VERSION:2.0
PRODID:-//Trinity Baptist Church in San Antonio, TX - ECPv6.5.0//NONSGML v1.0//EN
CALSCALE:GREGORIAN
METHOD:PUBLISH
X-WR-CALNAME:Trinity Baptist Church in San Antonio, TX
X-ORIGINAL-URL:https://www.trinitybaptist.org
X-WR-CALDESC:Events for Trinity Baptist Church in San Antonio, TX
REFRESH-INTERVAL;VALUE=DURATION:PT1H
X-Robots-Tag:noindex
X-PUBLISHED-TTL:PT1H
BEGIN:VTIMEZONE
TZID:America/Chicago
BEGIN:DAYLIGHT
TZOFFSETFROM:-0600
TZOFFSETTO:-0500
TZNAME:CDT
DTSTART:20260308T080000
END:DAYLIGHT
BEGIN:STANDARD
TZOFFSETFROM:-0500
TZOFFSETTO:-0600
TZNAME:CST
DTSTART:20261101T070000
END:STANDARD
END:VTIMEZONE
BEGIN:VEVENT
DTSTART;VALUE=DATE:20260301
DTEND;VALUE=DATE:20260717
DTSTAMP:20260425T114927
CREATED:20260301T060144Z
LAST-MODIFIED:20260306T162056Z
UID:10045285-1772323200-1784246399@www.trinitybaptist.org
SUMMARY:Children's Summer Activities
DESCRIPTION:Registration opens March 1\, 2026. \nPreteen Camp \n\nJune 1-4\nMo Ranch in Hunt\, TX\n4th-6th Grade Completed\n$325\nRegistration packets available in the Children’s Center for pick up.\n\nVacation Bible School \n\nJune 22-25\, 9:00 am-Noon\nMulberry Campus\nPreK4-6th Grade Completed\nFree!\nVBS Registration\n\nArt Camp \n\nJuly 13-16\, 9:00 am-Noon\nMulberry Campus\nAges 3 years (as of 1/1/2026)-6th Grade Completed\n$105\nArt Camp Registration\n\nScholarships available for Preteen and Art Camps
URL:https://www.trinitybaptist.org/event/childrenssummer/
CATEGORIES:Children's Page,Home Page
ATTACH;FMTTYPE=image/jpeg:https://www.trinitybaptist.org/wp-content/uploads/2026/02/Summer-Slides.jpg
END:VEVENT
BEGIN:VEVENT
DTSTART;TZID=America/Chicago:20260614T101500
DTEND;TZID=America/Chicago:20260614T110000
DTSTAMP:20260425T114927
CREATED:20250821T142918Z
LAST-MODIFIED:20260122T221218Z
UID:10048884-1781432100-1781434800@www.trinitybaptist.org
SUMMARY:Children's Sunday Bible Study
DESCRIPTION:Children Birth-6th grade | 10:15 am | Children’s Center \nSunday School is a great opportunity for children to dive deep into God’s Word with adult leaders who faithfully serve every week and to build a church community with their peers.
URL:https://www.trinitybaptist.org/event/childrens-sunday-bible-study/2026-06-14/
LOCATION:Trinity Baptist Church\, 319 E. Mulberry\, San Antonio\, TX\, 78212\, United States
CATEGORIES:Children's Page,Mulberry Campus Page,Small Groups Page
ATTACH;FMTTYPE=image/jpeg:https://www.trinitybaptist.org/wp-content/uploads/2023/02/IMG_2847.jpeg
GEO:29.4573879;-98.4877156
X-APPLE-STRUCTURED-LOCATION;VALUE=URI;X-ADDRESS=Trinity Baptist Church 319 E. Mulberry San Antonio TX 78212 United States;X-APPLE-RADIUS=500;X-TITLE=319 E. Mulberry:geo:-98.4877156,29.4573879
END:VEVENT
BEGIN:VEVENT
DTSTART;TZID=America/Chicago:20260615T183000
DTEND;TZID=America/Chicago:20260615T203000
DTSTAMP:20260425T114927
CREATED:20260421T161312Z
LAST-MODIFIED:20260421T161312Z
UID:10057356-1781548200-1781555400@www.trinitybaptist.org
SUMMARY:Family Skate Night
DESCRIPTION:TBC’s Children’s Ministry invites you to join us on June 15 from 6:30-8:30 pm at The Rollercade (223 Recoleta) for our annual Family Skate Night! Get your groove on\, tighten your laces\, and roll out on the floor to show off your skills in this free event for the whole family.
URL:https://www.trinitybaptist.org/event/family-skate-night/
CATEGORIES:Adult Ministries Page,Children's Page,Home Page,Small Groups Page,Student's Page
ATTACH;FMTTYPE=image/jpeg:https://www.trinitybaptist.org/wp-content/uploads/2026/04/Skate-Night-Slide-scaled.jpg
END:VEVENT
END:VCALENDAR